BEGIN:VCALENDAR
VERSION:2.0
PRODID:-//Keep Colchester Cool - ECPv6.15.20//NONSGML v1.0//EN
CALSCALE:GREGORIAN
METHOD:PUBLISH
X-WR-CALNAME:Keep Colchester Cool
X-ORIGINAL-URL:https://keepcolchestercool.co.uk
X-WR-CALDESC:Events for Keep Colchester Cool
REFRESH-INTERVAL;VALUE=DURATION:PT1H
X-Robots-Tag:noindex
X-PUBLISHED-TTL:PT1H
BEGIN:VTIMEZONE
TZID:Europe/London
BEGIN:DAYLIGHT
TZOFFSETFROM:+0000
TZOFFSETTO:+0100
TZNAME:BST
DTSTART:20240331T010000
END:DAYLIGHT
BEGIN:STANDARD
TZOFFSETFROM:+0100
TZOFFSETTO:+0000
TZNAME:GMT
DTSTART:20241027T010000
END:STANDARD
BEGIN:DAYLIGHT
TZOFFSETFROM:+0000
TZOFFSETTO:+0100
TZNAME:BST
DTSTART:20250330T010000
END:DAYLIGHT
BEGIN:STANDARD
TZOFFSETFROM:+0100
TZOFFSETTO:+0000
TZNAME:GMT
DTSTART:20251026T010000
END:STANDARD
BEGIN:DAYLIGHT
TZOFFSETFROM:+0000
TZOFFSETTO:+0100
TZNAME:BST
DTSTART:20260329T010000
END:DAYLIGHT
BEGIN:STANDARD
TZOFFSETFROM:+0100
TZOFFSETTO:+0000
TZNAME:GMT
DTSTART:20261025T010000
END:STANDARD
END:VTIMEZONE
BEGIN:VEVENT
DTSTART;TZID=Europe/London:20251102T000000
DTEND;TZID=Europe/London:20251102T060000
DTSTAMP:20260423T150721
CREATED:20251007T071242Z
LAST-MODIFIED:20251102T071004Z
UID:126240-1762041600-1762063200@keepcolchestercool.co.uk
SUMMARY:SINGALONG BRUNCH- Halloween Edition
DESCRIPTION:SINGALONG BRUNCH�� SPOOKY SIPS & SINGALONGS ��This Halloween weekend we’re bringing the vibes to the venue Silk Road Lounge\, Colchester ��� \n� Saturday 1st November� Tickets include:� 2 hours of bottomless Prosecco� Delicious food� Games & giveaways� Live entertainment� A 4-hour Afterparty to keep the vibes flowing! \nNovember birthdays free with table of 6+  \nPrize for best Halloween Costume! \nGrab your tickets today for limited 10% off� \nhttps://www.eventbrite.co.uk/e/1671730012469?aff=oddtdtcreator
URL:https://keepcolchestercool.co.uk/event/singalong-brunch-halloween-edition/
LOCATION:The Silk Road Lounge & Bar\, 4 St Botolphs Street\, Colchester\, GB
END:VEVENT
END:VCALENDAR