BEGIN:VCALENDAR
VERSION:2.0
PRODID:-//Keep Colchester Cool - ECPv6.15.20//NONSGML v1.0//EN
CALSCALE:GREGORIAN
METHOD:PUBLISH
X-WR-CALNAME:Keep Colchester Cool
X-ORIGINAL-URL:https://keepcolchestercool.co.uk
X-WR-CALDESC:Events for Keep Colchester Cool
REFRESH-INTERVAL;VALUE=DURATION:PT1H
X-Robots-Tag:noindex
X-PUBLISHED-TTL:PT1H
BEGIN:VTIMEZONE
TZID:Europe/London
BEGIN:DAYLIGHT
TZOFFSETFROM:+0000
TZOFFSETTO:+0100
TZNAME:BST
DTSTART:20250330T010000
END:DAYLIGHT
BEGIN:STANDARD
TZOFFSETFROM:+0100
TZOFFSETTO:+0000
TZNAME:GMT
DTSTART:20251026T010000
END:STANDARD
BEGIN:DAYLIGHT
TZOFFSETFROM:+0000
TZOFFSETTO:+0100
TZNAME:BST
DTSTART:20260329T010000
END:DAYLIGHT
BEGIN:STANDARD
TZOFFSETFROM:+0100
TZOFFSETTO:+0000
TZNAME:GMT
DTSTART:20261025T010000
END:STANDARD
BEGIN:DAYLIGHT
TZOFFSETFROM:+0000
TZOFFSETTO:+0100
TZNAME:BST
DTSTART:20270328T010000
END:DAYLIGHT
BEGIN:STANDARD
TZOFFSETFROM:+0100
TZOFFSETTO:+0000
TZNAME:GMT
DTSTART:20271031T010000
END:STANDARD
END:VTIMEZONE
BEGIN:VEVENT
DTSTART;TZID=Europe/London:20260509T150000
DTEND;TZID=Europe/London:20260509T200000
DTSTAMP:20260424T043633
CREATED:20260105T071031Z
LAST-MODIFIED:20260226T071230Z
UID:127665-1778338800-1778356800@keepcolchestercool.co.uk
SUMMARY:Ska Day Party: Colchester 🎺
DESCRIPTION:The Ska Day Party is coming! 🎺🏁 \nCalling all rude boys\, rude girls\, and skankin’ legends! 🎶⚡ \nGet ready for an afternoon of brass-powered bangers\, bounce-along rhythms\, and high-energy tunes as we celebrate all eras of ska—from Jamaica to 2-Tone to modern ska revival. Expect good vibes\, big beats\, and nonstop movement! \nWhat to Expect: \n🎵 Ska Anthems All Day LongFrom The Specials to Madness\, Toots & The Maytals to Reel Big Fish—we’re spinning classics\, crowd-pleasers\, and floor-fillers made for skanking. \n🥁 2-Tone\, Reggae\, & Upbeat Ska Punk FlavoursA mix of vintage ska\, mod-era 2-Tone\, and modern high-energy ska to keep the dancefloor jumping from start to finish. \n🏁 Iconic Ska AtmosphereThink checkerboard vibes\, sharp style\, brass in the air\, and that unmistakable ska attitude—pure fun\, zero pretence. \n🌞 Feel-Good Energy All AfternoonCelebrate sunshine\, friendship\, and the rhythms that always bring people together. \nGet ready to skank\, sing\, and lose yourself in the music! \nThe Ska Day Party is not to be missed! 🎺🕶️🕺
URL:https://keepcolchestercool.co.uk/event/ska-day-party-colchester-%f0%9f%8e%ba/
LOCATION:Trilogy Colchester\, Trilogy Colchester
ATTACH;FMTTYPE=image/jpeg:https://keepcolchestercool.co.uk/wp-content/uploads/127665_image_597670506_122198407484546827_8663233799615308581_n.jpg
END:VEVENT
END:VCALENDAR