BEGIN:VCALENDAR
VERSION:2.0
PRODID:-//Keep Colchester Cool - ECPv6.15.20//NONSGML v1.0//EN
CALSCALE:GREGORIAN
METHOD:PUBLISH
X-WR-CALNAME:Keep Colchester Cool
X-ORIGINAL-URL:https://keepcolchestercool.co.uk
X-WR-CALDESC:Events for Keep Colchester Cool
REFRESH-INTERVAL;VALUE=DURATION:PT1H
X-Robots-Tag:noindex
X-PUBLISHED-TTL:PT1H
BEGIN:VTIMEZONE
TZID:Europe/London
BEGIN:DAYLIGHT
TZOFFSETFROM:+0000
TZOFFSETTO:+0100
TZNAME:BST
DTSTART:20250330T010000
END:DAYLIGHT
BEGIN:STANDARD
TZOFFSETFROM:+0100
TZOFFSETTO:+0000
TZNAME:GMT
DTSTART:20251026T010000
END:STANDARD
BEGIN:DAYLIGHT
TZOFFSETFROM:+0000
TZOFFSETTO:+0100
TZNAME:BST
DTSTART:20260329T010000
END:DAYLIGHT
BEGIN:STANDARD
TZOFFSETFROM:+0100
TZOFFSETTO:+0000
TZNAME:GMT
DTSTART:20261025T010000
END:STANDARD
BEGIN:DAYLIGHT
TZOFFSETFROM:+0000
TZOFFSETTO:+0100
TZNAME:BST
DTSTART:20270328T010000
END:DAYLIGHT
BEGIN:STANDARD
TZOFFSETFROM:+0100
TZOFFSETTO:+0000
TZNAME:GMT
DTSTART:20271031T010000
END:STANDARD
END:VTIMEZONE
BEGIN:VEVENT
DTSTART;TZID=Europe/London:20260414T190000
DTEND;TZID=Europe/London:20260414T220000
DTSTAMP:20260424T012007
CREATED:20260122T071101Z
LAST-MODIFIED:20260226T071225Z
UID:127974-1776193200-1776204000@keepcolchestercool.co.uk
SUMMARY:South African Wine & Food Taster Evening
DESCRIPTION:Join us on Tuesday 14th April for our South African Wine & Food Pairing Evening. Enjoy as we take you through four-courses of seasonally inspired food and wine at Three Wise Monkeys – in collaboration with independent and local wine merchants and suppliers\, Street Wines.Hosted by Charlie Rogers and Founder of Street Wines\, Neils Dubro. Together\, they will draw on their knowledge and experience\, taking you on a journey of the world through wine\, investigating the new and old worlds of wine and discussing what it is that makes food and wine work so well together.Our South African Wine & Food Pairing Evening begins at 7pm on our restaurant floorTickets are priced at £40. The wines tasted will be available to purchase and take home on the nightOver 18s only.Guests with specific dietary requirements or with allergies should contact the team via info@twmcolchester.com prior to ticket purchase.Access – There is no lift to access the restaurant floor of Three Wise Monkeys. There are two flights of stairs to reach the restaurant floor.
URL:https://keepcolchestercool.co.uk/event/south-african-wine-food-taster-evening/
LOCATION:60 High Street\, CO1 1DN Colchester\, United Kingdom\, 60 High Street\, CO1 1DN Colchester\, United Kingdom
ATTACH;FMTTYPE=image/jpeg:https://keepcolchestercool.co.uk/wp-content/uploads/127974_image_616423600_1296639755832704_3379386059457907977_n.jpg
ORGANIZER;CN="Three Wise Monkeys Colchester":MAILTO:noreply@facebookmail_com
END:VEVENT
END:VCALENDAR