BEGIN:VCALENDAR
VERSION:2.0
PRODID:-//Keep Colchester Cool - ECPv6.15.20//NONSGML v1.0//EN
CALSCALE:GREGORIAN
METHOD:PUBLISH
X-WR-CALNAME:Keep Colchester Cool
X-ORIGINAL-URL:https://keepcolchestercool.co.uk
X-WR-CALDESC:Events for Keep Colchester Cool
REFRESH-INTERVAL;VALUE=DURATION:PT1H
X-Robots-Tag:noindex
X-PUBLISHED-TTL:PT1H
BEGIN:VTIMEZONE
TZID:Europe/London
BEGIN:DAYLIGHT
TZOFFSETFROM:+0000
TZOFFSETTO:+0100
TZNAME:BST
DTSTART:20240331T010000
END:DAYLIGHT
BEGIN:STANDARD
TZOFFSETFROM:+0100
TZOFFSETTO:+0000
TZNAME:GMT
DTSTART:20241027T010000
END:STANDARD
BEGIN:DAYLIGHT
TZOFFSETFROM:+0000
TZOFFSETTO:+0100
TZNAME:BST
DTSTART:20250330T010000
END:DAYLIGHT
BEGIN:STANDARD
TZOFFSETFROM:+0100
TZOFFSETTO:+0000
TZNAME:GMT
DTSTART:20251026T010000
END:STANDARD
BEGIN:DAYLIGHT
TZOFFSETFROM:+0000
TZOFFSETTO:+0100
TZNAME:BST
DTSTART:20260329T010000
END:DAYLIGHT
BEGIN:STANDARD
TZOFFSETFROM:+0100
TZOFFSETTO:+0000
TZNAME:GMT
DTSTART:20261025T010000
END:STANDARD
END:VTIMEZONE
BEGIN:VEVENT
DTSTART;TZID=Europe/London:20250913T100000
DTEND;TZID=Europe/London:20250913T170000
DTSTAMP:20260424T191419
CREATED:20250729T071104Z
LAST-MODIFIED:20250913T071043Z
UID:125539-1757757600-1757782800@keepcolchestercool.co.uk
SUMMARY:SPACE Colchester Artist Open Studios
DESCRIPTION:Sat 13 Sep\, 10am – 5pm – OPEN STUDIOS \nCome and explore our artist studios at 37 Queen Street\, meet artists\, photographers\, designers\, illustrators and all sorts of creative people face to face and buy works of art directly from their studio. The day coincides with Colchester’s Heritage Open Days programme which runs from 12 – 21 September. \nSat 13 Sep\, 12pm and 2pm – Free guided tours of the old police station \nTours of the building\, led by former CID and Scenes of Crime Officer Chris Farndell\, who served at Queen Street police station\, will be held at 12pm and 2pm. Tours are free\, but places are limited so booking is essential. Book your free place here > https://www.eventbrite.co.uk/e/guided-tours-of-the-former-queen-st-police-station-colchester-tickets-1468778278369?aff=oddtdtcreator
URL:https://keepcolchestercool.co.uk/event/space-colchester-artist-open-studios/
LOCATION:37 Queen Street\, Colchester\, CO1 2PQ\, United Kingdom\, 37 Queen Street\, Colchester\, CO1 2PQ\, United Kingdom
END:VEVENT
END:VCALENDAR