BEGIN:VCALENDAR
VERSION:2.0
PRODID:-//Keep Colchester Cool - ECPv6.15.20//NONSGML v1.0//EN
CALSCALE:GREGORIAN
METHOD:PUBLISH
X-WR-CALNAME:Keep Colchester Cool
X-ORIGINAL-URL:https://keepcolchestercool.co.uk
X-WR-CALDESC:Events for Keep Colchester Cool
REFRESH-INTERVAL;VALUE=DURATION:PT1H
X-Robots-Tag:noindex
X-PUBLISHED-TTL:PT1H
BEGIN:VTIMEZONE
TZID:Europe/London
BEGIN:DAYLIGHT
TZOFFSETFROM:+0000
TZOFFSETTO:+0100
TZNAME:BST
DTSTART:20240331T010000
END:DAYLIGHT
BEGIN:STANDARD
TZOFFSETFROM:+0100
TZOFFSETTO:+0000
TZNAME:GMT
DTSTART:20241027T010000
END:STANDARD
BEGIN:DAYLIGHT
TZOFFSETFROM:+0000
TZOFFSETTO:+0100
TZNAME:BST
DTSTART:20250330T010000
END:DAYLIGHT
BEGIN:STANDARD
TZOFFSETFROM:+0100
TZOFFSETTO:+0000
TZNAME:GMT
DTSTART:20251026T010000
END:STANDARD
BEGIN:DAYLIGHT
TZOFFSETFROM:+0000
TZOFFSETTO:+0100
TZNAME:BST
DTSTART:20260329T010000
END:DAYLIGHT
BEGIN:STANDARD
TZOFFSETFROM:+0100
TZOFFSETTO:+0000
TZNAME:GMT
DTSTART:20261025T010000
END:STANDARD
END:VTIMEZONE
BEGIN:VEVENT
DTSTART;TZID=Europe/London:20251101T210000
DTEND;TZID=Europe/London:20251102T000000
DTSTAMP:20260423T114448
CREATED:20251007T071239Z
LAST-MODIFIED:20251102T071004Z
UID:126238-1762030800-1762041600@keepcolchestercool.co.uk
SUMMARY:Spellbound
DESCRIPTION:The best of Goth\, post-punk\, synth-pop and alternative. Swoon to The Cure\, bop to Depeche Mode\, or Headbang to the Beastie Boys. We’ve got you covered. \nFree Entry all night | Bar Opens 5pm | DJ Rom Atkin from 9pm
URL:https://keepcolchestercool.co.uk/event/spellbound/
LOCATION:45 North Hill\, CO1 1PY Colchester\, United Kingdom
ORGANIZER;CN="Twisters Bar":MAILTO:noreply@facebookmail_com
END:VEVENT
END:VCALENDAR