BEGIN:VCALENDAR
VERSION:2.0
PRODID:-//Keep Colchester Cool - ECPv6.15.20//NONSGML v1.0//EN
CALSCALE:GREGORIAN
METHOD:PUBLISH
X-WR-CALNAME:Keep Colchester Cool
X-ORIGINAL-URL:https://keepcolchestercool.co.uk
X-WR-CALDESC:Events for Keep Colchester Cool
REFRESH-INTERVAL;VALUE=DURATION:PT1H
X-Robots-Tag:noindex
X-PUBLISHED-TTL:PT1H
BEGIN:VTIMEZONE
TZID:Europe/London
BEGIN:DAYLIGHT
TZOFFSETFROM:+0000
TZOFFSETTO:+0100
TZNAME:BST
DTSTART:20250330T010000
END:DAYLIGHT
BEGIN:STANDARD
TZOFFSETFROM:+0100
TZOFFSETTO:+0000
TZNAME:GMT
DTSTART:20251026T010000
END:STANDARD
BEGIN:DAYLIGHT
TZOFFSETFROM:+0000
TZOFFSETTO:+0100
TZNAME:BST
DTSTART:20260329T010000
END:DAYLIGHT
BEGIN:STANDARD
TZOFFSETFROM:+0100
TZOFFSETTO:+0000
TZNAME:GMT
DTSTART:20261025T010000
END:STANDARD
BEGIN:DAYLIGHT
TZOFFSETFROM:+0000
TZOFFSETTO:+0100
TZNAME:BST
DTSTART:20270328T010000
END:DAYLIGHT
BEGIN:STANDARD
TZOFFSETFROM:+0100
TZOFFSETTO:+0000
TZNAME:GMT
DTSTART:20271031T010000
END:STANDARD
END:VTIMEZONE
BEGIN:VEVENT
DTSTART;TZID=Europe/London:20260228T123000
DTEND;TZID=Europe/London:20260228T170000
DTSTAMP:20260424T063334
CREATED:20260224T071159Z
LAST-MODIFIED:20260226T071206Z
UID:129112-1772281800-1772298000@keepcolchestercool.co.uk
SUMMARY:Star Wars Unlimited Secrets Of Power Draft Event
DESCRIPTION:We will be running a star wars unlimited secrets of power draft event for you to test your powers. \nWhat Happens? \nIn a Star Wars Unlimited (SWU) draft\, each player opens three booster packs to construct a deck. Players then open the packs\, select their leader card\, and draft the remaining cards by passing packs around the table.  \nDrafting Process \nOpen Packs: Each player takes three booster packs. \nDraft Leaders: Players open each pack enough to reveal the leader card\, choose one leader to keep\, and pass the other two leaders to the right. \nDraft Cards: Each player then takes one of their partially-opened packs\, chooses one card from it\, and passes the remaining cards to their left. \nRepeat: This process is repeated\, with players drafting from the cards passed to them\, until all the cards from all three packs have been selected. \nBuild Deck: Players use the cards they drafted (and their chosen leader) to build a 30-card deck. \nEntry Cost £20.00Start Time 12:30pm \nLimited spaces so please sign up fast to save your spot…
URL:https://keepcolchestercool.co.uk/event/star-wars-unlimited-secrets-of-power-draft-event/
LOCATION:ACE Comics\, 42 Culver Street East\, Colchester\, CO1 1LE\, GB
ATTACH;FMTTYPE=image/jpeg:https://keepcolchestercool.co.uk/wp-content/uploads/129112_image_638275176_10240751704560783_7060987368008709592_n.jpg
ORGANIZER;CN="Glenn Richardson":MAILTO:noreply@facebookmail_com
END:VEVENT
END:VCALENDAR