BEGIN:VCALENDAR
VERSION:2.0
PRODID:-//Keep Colchester Cool - ECPv6.15.20//NONSGML v1.0//EN
CALSCALE:GREGORIAN
METHOD:PUBLISH
X-WR-CALNAME:Keep Colchester Cool
X-ORIGINAL-URL:https://keepcolchestercool.co.uk
X-WR-CALDESC:Events for Keep Colchester Cool
REFRESH-INTERVAL;VALUE=DURATION:PT1H
X-Robots-Tag:noindex
X-PUBLISHED-TTL:PT1H
BEGIN:VTIMEZONE
TZID:Europe/London
BEGIN:DAYLIGHT
TZOFFSETFROM:+0000
TZOFFSETTO:+0100
TZNAME:BST
DTSTART:20250330T010000
END:DAYLIGHT
BEGIN:STANDARD
TZOFFSETFROM:+0100
TZOFFSETTO:+0000
TZNAME:GMT
DTSTART:20251026T010000
END:STANDARD
BEGIN:DAYLIGHT
TZOFFSETFROM:+0000
TZOFFSETTO:+0100
TZNAME:BST
DTSTART:20260329T010000
END:DAYLIGHT
BEGIN:STANDARD
TZOFFSETFROM:+0100
TZOFFSETTO:+0000
TZNAME:GMT
DTSTART:20261025T010000
END:STANDARD
BEGIN:DAYLIGHT
TZOFFSETFROM:+0000
TZOFFSETTO:+0100
TZNAME:BST
DTSTART:20270328T010000
END:DAYLIGHT
BEGIN:STANDARD
TZOFFSETFROM:+0100
TZOFFSETTO:+0000
TZNAME:GMT
DTSTART:20271031T010000
END:STANDARD
END:VTIMEZONE
BEGIN:VEVENT
DTSTART;TZID=Europe/London:20261107T193000
DTEND;TZID=Europe/London:20261107T223000
DTSTAMP:20260424T170804
CREATED:20260224T071252Z
LAST-MODIFIED:20260226T071238Z
UID:129283-1794079800-1794090600@keepcolchestercool.co.uk
SUMMARY:STREISAND - WOMAN IN LOVE
DESCRIPTION:The only show of its kind in the UK celebrating the musical genius and unrivalled vocal talent of one of the world’s most iconic and adored artistes of our generation\, Barbra Streisand.Starring ITV’s Starstrucks Keeley Smith as Barbra Streisand.With guest singers and a full live 9 piece orchestra.
URL:https://keepcolchestercool.co.uk/event/streisand-woman-in-love/
LOCATION:Mercury Theatre Colchester\, Mercury Theatre Colchester
ATTACH;FMTTYPE=image/jpeg:https://keepcolchestercool.co.uk/wp-content/uploads/129283_image_611163580_868987932532025_6702494676481875090_n.jpg
ORGANIZER;CN="Streisand - Woman In Love":MAILTO:noreply@facebookmail.com
END:VEVENT
END:VCALENDAR