BEGIN:VCALENDAR
VERSION:2.0
PRODID:-//Keep Colchester Cool - ECPv6.15.20//NONSGML v1.0//EN
CALSCALE:GREGORIAN
METHOD:PUBLISH
X-WR-CALNAME:Keep Colchester Cool
X-ORIGINAL-URL:https://keepcolchestercool.co.uk
X-WR-CALDESC:Events for Keep Colchester Cool
REFRESH-INTERVAL;VALUE=DURATION:PT1H
X-Robots-Tag:noindex
X-PUBLISHED-TTL:PT1H
BEGIN:VTIMEZONE
TZID:Europe/London
BEGIN:DAYLIGHT
TZOFFSETFROM:+0000
TZOFFSETTO:+0100
TZNAME:BST
DTSTART:20240331T010000
END:DAYLIGHT
BEGIN:STANDARD
TZOFFSETFROM:+0100
TZOFFSETTO:+0000
TZNAME:GMT
DTSTART:20241027T010000
END:STANDARD
BEGIN:DAYLIGHT
TZOFFSETFROM:+0000
TZOFFSETTO:+0100
TZNAME:BST
DTSTART:20250330T010000
END:DAYLIGHT
BEGIN:STANDARD
TZOFFSETFROM:+0100
TZOFFSETTO:+0000
TZNAME:GMT
DTSTART:20251026T010000
END:STANDARD
BEGIN:DAYLIGHT
TZOFFSETFROM:+0000
TZOFFSETTO:+0100
TZNAME:BST
DTSTART:20260329T010000
END:DAYLIGHT
BEGIN:STANDARD
TZOFFSETFROM:+0100
TZOFFSETTO:+0000
TZNAME:GMT
DTSTART:20261025T010000
END:STANDARD
END:VTIMEZONE
BEGIN:VEVENT
DTSTART;TZID=Europe/London:20251102T160000
DTEND;TZID=Europe/London:20251102T190000
DTSTAMP:20260423T131535
CREATED:20251030T071034Z
LAST-MODIFIED:20251102T071006Z
UID:126996-1762099200-1762110000@keepcolchestercool.co.uk
SUMMARY:Sunday Session - Wooden Maiden
DESCRIPTION:Join us this Sunday as the guys are back to entertain you all once again on a Sunday afternoon! A chilled three piece acoustic group which play FANTASTICLY together of all the songs you know with their unique twist on it!
URL:https://keepcolchestercool.co.uk/event/sunday-session-wooden-maiden/
LOCATION:55 The Cross\, CO7 9QL Wivenhoe\, United Kingdom\, 55 The Cross\, CO7 9QL Wivenhoe\, United Kingdom
ORGANIZER;CN="The Horse &amp%3B Groom":MAILTO:noreply@facebookmail_com
END:VEVENT
END:VCALENDAR