BEGIN:VCALENDAR
VERSION:2.0
PRODID:-//Keep Colchester Cool - ECPv6.15.20//NONSGML v1.0//EN
CALSCALE:GREGORIAN
METHOD:PUBLISH
X-WR-CALNAME:Keep Colchester Cool
X-ORIGINAL-URL:https://keepcolchestercool.co.uk
X-WR-CALDESC:Events for Keep Colchester Cool
REFRESH-INTERVAL;VALUE=DURATION:PT1H
X-Robots-Tag:noindex
X-PUBLISHED-TTL:PT1H
BEGIN:VTIMEZONE
TZID:Europe/London
BEGIN:DAYLIGHT
TZOFFSETFROM:+0000
TZOFFSETTO:+0100
TZNAME:BST
DTSTART:20240331T010000
END:DAYLIGHT
BEGIN:STANDARD
TZOFFSETFROM:+0100
TZOFFSETTO:+0000
TZNAME:GMT
DTSTART:20241027T010000
END:STANDARD
BEGIN:DAYLIGHT
TZOFFSETFROM:+0000
TZOFFSETTO:+0100
TZNAME:BST
DTSTART:20250330T010000
END:DAYLIGHT
BEGIN:STANDARD
TZOFFSETFROM:+0100
TZOFFSETTO:+0000
TZNAME:GMT
DTSTART:20251026T010000
END:STANDARD
BEGIN:DAYLIGHT
TZOFFSETFROM:+0000
TZOFFSETTO:+0100
TZNAME:BST
DTSTART:20260329T010000
END:DAYLIGHT
BEGIN:STANDARD
TZOFFSETFROM:+0100
TZOFFSETTO:+0000
TZNAME:GMT
DTSTART:20261025T010000
END:STANDARD
END:VTIMEZONE
BEGIN:VEVENT
DTSTART;TZID=Europe/London:20251130T153000
DTEND;TZID=Europe/London:20251130T180000
DTSTAMP:20260424T160256
CREATED:20251025T071041Z
LAST-MODIFIED:20251130T071054Z
UID:126790-1764516600-1764525600@keepcolchestercool.co.uk
SUMMARY:Sunday Sessions 🎶🎹🎤🎸🎶
DESCRIPTION:Come along to an afternoon of live music from Blurred Vision a local 3 Piece Covers Band. \nPlaying a great selection of hits from David Bowie to Coldplay \nAn afternoon of fantastic live music🎶🎤🎸🎹🎶
URL:https://keepcolchestercool.co.uk/event/sunday-sessions-%f0%9f%8e%b6%f0%9f%8e%b9%f0%9f%8e%a4%f0%9f%8e%b8%f0%9f%8e%b6/
LOCATION:The Horse & Groom\, Wivenhoe\, The Horse & Groom\, Wivenhoe
END:VEVENT
END:VCALENDAR