BEGIN:VCALENDAR
VERSION:2.0
PRODID:-//Keep Colchester Cool - ECPv6.15.20//NONSGML v1.0//EN
CALSCALE:GREGORIAN
METHOD:PUBLISH
X-WR-CALNAME:Keep Colchester Cool
X-ORIGINAL-URL:https://keepcolchestercool.co.uk
X-WR-CALDESC:Events for Keep Colchester Cool
REFRESH-INTERVAL;VALUE=DURATION:PT1H
X-Robots-Tag:noindex
X-PUBLISHED-TTL:PT1H
BEGIN:VTIMEZONE
TZID:Europe/London
BEGIN:DAYLIGHT
TZOFFSETFROM:+0000
TZOFFSETTO:+0100
TZNAME:BST
DTSTART:20250330T010000
END:DAYLIGHT
BEGIN:STANDARD
TZOFFSETFROM:+0100
TZOFFSETTO:+0000
TZNAME:GMT
DTSTART:20251026T010000
END:STANDARD
BEGIN:DAYLIGHT
TZOFFSETFROM:+0000
TZOFFSETTO:+0100
TZNAME:BST
DTSTART:20260329T010000
END:DAYLIGHT
BEGIN:STANDARD
TZOFFSETFROM:+0100
TZOFFSETTO:+0000
TZNAME:GMT
DTSTART:20261025T010000
END:STANDARD
BEGIN:DAYLIGHT
TZOFFSETFROM:+0000
TZOFFSETTO:+0100
TZNAME:BST
DTSTART:20270328T010000
END:DAYLIGHT
BEGIN:STANDARD
TZOFFSETFROM:+0100
TZOFFSETTO:+0000
TZNAME:GMT
DTSTART:20271031T010000
END:STANDARD
END:VTIMEZONE
BEGIN:VEVENT
DTSTART;TZID=Europe/London:20260412T100000
DTEND;TZID=Europe/London:20260412T160000
DTSTAMP:20260424T011753
CREATED:20260113T071048Z
LAST-MODIFIED:20260226T071224Z
UID:127806-1775988000-1776009600@keepcolchestercool.co.uk
SUMMARY:Sundays on the Square
DESCRIPTION:Sundays on the Square returns on Sunday 12th April 2026! \nKeep the spring Sundays alive with Sundays on the Square in the newly built St Nicholas Square\, featuring live music throughout the afternoon. \nEnjoy a mix of independent local traders offering street food\, drinks\, crafts\, gifts\, and locally made products\, all while soaking up the vibrant atmosphere created by live performances. Music will set the tone for a relaxed\, fun Sunday in the heart of the city. \nSundays on the Square is free to attend\, family-friendly\, and open to everyone — a perfect way to support local talent and traders while enjoying a lively city-centre experience. \n📅 Date: Sunday 12th April 2026📍 Location: St Nicholas Square🎟 Entry: Free🎶 Live music throughout the afternoon | Local traders | Community vibes \nCome along and enjoy another Sunday of music\, food\, and local culture!
URL:https://keepcolchestercool.co.uk/event/sundays-on-the-square-2/
LOCATION:Colchester
ATTACH;FMTTYPE=image/jpeg:https://keepcolchestercool.co.uk/wp-content/uploads/127806_image_626880200_122120526549085588_5772695747919627648_n.jpg
END:VEVENT
END:VCALENDAR