BEGIN:VCALENDAR
VERSION:2.0
PRODID:-//Keep Colchester Cool - ECPv6.15.20//NONSGML v1.0//EN
CALSCALE:GREGORIAN
METHOD:PUBLISH
X-WR-CALNAME:Keep Colchester Cool
X-ORIGINAL-URL:https://keepcolchestercool.co.uk
X-WR-CALDESC:Events for Keep Colchester Cool
REFRESH-INTERVAL;VALUE=DURATION:PT1H
X-Robots-Tag:noindex
X-PUBLISHED-TTL:PT1H
BEGIN:VTIMEZONE
TZID:Europe/London
BEGIN:DAYLIGHT
TZOFFSETFROM:+0000
TZOFFSETTO:+0100
TZNAME:BST
DTSTART:20250330T010000
END:DAYLIGHT
BEGIN:STANDARD
TZOFFSETFROM:+0100
TZOFFSETTO:+0000
TZNAME:GMT
DTSTART:20251026T010000
END:STANDARD
BEGIN:DAYLIGHT
TZOFFSETFROM:+0000
TZOFFSETTO:+0100
TZNAME:BST
DTSTART:20260329T010000
END:DAYLIGHT
BEGIN:STANDARD
TZOFFSETFROM:+0100
TZOFFSETTO:+0000
TZNAME:GMT
DTSTART:20261025T010000
END:STANDARD
BEGIN:DAYLIGHT
TZOFFSETFROM:+0000
TZOFFSETTO:+0100
TZNAME:BST
DTSTART:20270328T010000
END:DAYLIGHT
BEGIN:STANDARD
TZOFFSETFROM:+0100
TZOFFSETTO:+0000
TZNAME:GMT
DTSTART:20271031T010000
END:STANDARD
END:VTIMEZONE
BEGIN:VEVENT
DTSTART;TZID=Europe/London:20260308T100000
DTEND;TZID=Europe/London:20260308T160000
DTSTAMP:20260424T043607
CREATED:20260105T071026Z
LAST-MODIFIED:20260226T071211Z
UID:127640-1772964000-1772985600@keepcolchestercool.co.uk
SUMMARY:Sundays on the Square
DESCRIPTION:Sundays on the Square launches on Sunday 8th March 2026! \nA brand-new Monthly Sunday market is coming to the city centre as Sundays on the Square launches in the newly built St Nicholas Square\, with live music playing throughout the afternoon. \nThe market will feature a curated mix of independent local traders\, including street food\, drinks\, crafts\, gifts and locally made products\, all set against a backdrop of live performances. From solo artists to small bands\, music will create a lively\, welcoming atmosphere — the perfect place to stop\, eat\, listen and enjoy the new square. \nSundays on the Square is free to attend\, open to everyone\, and celebrates local talent — both traders and musicians — while bringing energy and life to the town centre on a Sunday. \n📅 Launch date: Sunday 8th March 2026📍 Location: St Nicholas Square🎟 Entry: Free🎶 Live music throughout the afternoon | Local traders | City-centre vibes \nCome along and enjoy a Sunday filled with music\, food and community spirit in the heart of the city.
URL:https://keepcolchestercool.co.uk/event/sundays-on-the-square/
LOCATION:Colchester
ATTACH;FMTTYPE=image/jpeg:https://keepcolchestercool.co.uk/wp-content/uploads/127640_image_626748789_122120465163085588_2046983357865679075_n.jpg
END:VEVENT
END:VCALENDAR