BEGIN:VCALENDAR
VERSION:2.0
PRODID:-//Keep Colchester Cool - ECPv6.15.20//NONSGML v1.0//EN
CALSCALE:GREGORIAN
METHOD:PUBLISH
X-WR-CALNAME:Keep Colchester Cool
X-ORIGINAL-URL:https://keepcolchestercool.co.uk
X-WR-CALDESC:Events for Keep Colchester Cool
REFRESH-INTERVAL;VALUE=DURATION:PT1H
X-Robots-Tag:noindex
X-PUBLISHED-TTL:PT1H
BEGIN:VTIMEZONE
TZID:Europe/London
BEGIN:DAYLIGHT
TZOFFSETFROM:+0000
TZOFFSETTO:+0100
TZNAME:BST
DTSTART:20240331T010000
END:DAYLIGHT
BEGIN:STANDARD
TZOFFSETFROM:+0100
TZOFFSETTO:+0000
TZNAME:GMT
DTSTART:20241027T010000
END:STANDARD
BEGIN:DAYLIGHT
TZOFFSETFROM:+0000
TZOFFSETTO:+0100
TZNAME:BST
DTSTART:20250330T010000
END:DAYLIGHT
BEGIN:STANDARD
TZOFFSETFROM:+0100
TZOFFSETTO:+0000
TZNAME:GMT
DTSTART:20251026T010000
END:STANDARD
BEGIN:DAYLIGHT
TZOFFSETFROM:+0000
TZOFFSETTO:+0100
TZNAME:BST
DTSTART:20260329T010000
END:DAYLIGHT
BEGIN:STANDARD
TZOFFSETFROM:+0100
TZOFFSETTO:+0000
TZNAME:GMT
DTSTART:20261025T010000
END:STANDARD
END:VTIMEZONE
BEGIN:VEVENT
DTSTART;TZID=Europe/London:20251114T193000
DTEND;TZID=Europe/London:20251114T223000
DTSTAMP:20260424T173126
CREATED:20251027T071021Z
LAST-MODIFIED:20251114T071023Z
UID:126931-1763148600-1763159400@keepcolchestercool.co.uk
SUMMARY:The ELO Encounter: Blue Sky Tour
DESCRIPTION:Tickets £21.50.Doors open 7.30pm.This gig is for a standing audience. \nRoll over Beethoven\, because the greatest tribute to Jeff Lynne’s Electric Light Orchestra is here! In an all live show featuring soaring strings\, striking vocal harmonies and playing all the much loved songs from ELO’s hit-filled library including Evil Woman\, Telephone Line and Don’t Bring Me Down. The ELO Encounter promises a night filled with rock\, roll and Blue Skies that would make even Mozart mambo and Bach boogie! So Hold On Tight because Rock and Roll Is King in a show that is guaranteed to have you partying All Over The World. \nNot only flawlessly recreating the wonderful music of ELO\, it’s a spectacular live show from start to finish. Stunning lights and special effects create an atmosphere that will have you fully immersed in the whole experience. As the ELO Encounter reel off ELO classic hit after hit\, it’s guaranteed to have the hairs on the back of your neck dancing in time to the music! \nAs a recent reviewer remarked\, “Not really a tribute\, that cheapens what this band does\, which is to transport you back to those days. So sensitively and authentically done\, at times it felt like it was actually ELO being mirrored up there on the stage”. \nThat’s what The ELO Encounter tribute show is all about. \n⭐⭐⭐⭐⭐ “Certainly went down a storm!” – Quay Theatre⭐⭐⭐⭐⭐ “A brilliant night out” – Steve Scruton – BBC Radio
URL:https://keepcolchestercool.co.uk/event/the-elo-encounter-blue-sky-tour/
LOCATION:Church St\, CO1 1NF Colchester\, United Kingdom
ORGANIZER;CN="Colchester Arts Centre":MAILTO:noreply@facebookmail_com
END:VEVENT
END:VCALENDAR