BEGIN:VCALENDAR
VERSION:2.0
PRODID:-//Keep Colchester Cool - ECPv6.15.20//NONSGML v1.0//EN
CALSCALE:GREGORIAN
METHOD:PUBLISH
X-WR-CALNAME:Keep Colchester Cool
X-ORIGINAL-URL:https://keepcolchestercool.co.uk
X-WR-CALDESC:Events for Keep Colchester Cool
REFRESH-INTERVAL;VALUE=DURATION:PT1H
X-Robots-Tag:noindex
X-PUBLISHED-TTL:PT1H
BEGIN:VTIMEZONE
TZID:Europe/London
BEGIN:DAYLIGHT
TZOFFSETFROM:+0000
TZOFFSETTO:+0100
TZNAME:BST
DTSTART:20240331T010000
END:DAYLIGHT
BEGIN:STANDARD
TZOFFSETFROM:+0100
TZOFFSETTO:+0000
TZNAME:GMT
DTSTART:20241027T010000
END:STANDARD
BEGIN:DAYLIGHT
TZOFFSETFROM:+0000
TZOFFSETTO:+0100
TZNAME:BST
DTSTART:20250330T010000
END:DAYLIGHT
BEGIN:STANDARD
TZOFFSETFROM:+0100
TZOFFSETTO:+0000
TZNAME:GMT
DTSTART:20251026T010000
END:STANDARD
BEGIN:DAYLIGHT
TZOFFSETFROM:+0000
TZOFFSETTO:+0100
TZNAME:BST
DTSTART:20260329T010000
END:DAYLIGHT
BEGIN:STANDARD
TZOFFSETFROM:+0100
TZOFFSETTO:+0000
TZNAME:GMT
DTSTART:20261025T010000
END:STANDARD
END:VTIMEZONE
BEGIN:VEVENT
DTSTART;TZID=Europe/London:20251113T200000
DTEND;TZID=Europe/London:20251113T230000
DTSTAMP:20260424T160113
CREATED:20251105T071036Z
LAST-MODIFIED:20251113T071019Z
UID:127132-1763064000-1763074800@keepcolchestercool.co.uk
SUMMARY:The Larks with Flight Live At The Brewhouse
DESCRIPTION:The Larks say\, ‘Our next gig is at the fabulous Queen Street Brewhouse\, Colchester. We are excited to share a stage with the mighty Flight\, whose powerful rock will be a satisfying main dish to our Contemporary Folkstarter.Lots to love and something for everyone 🙂’
URL:https://keepcolchestercool.co.uk/event/the-larks-with-flight-live-at-the-brewhouse/
LOCATION:7 Queen Street\, CO1 2PG Colchester\, United Kingdom\, 7 Queen Street\, CO1 2PG Colchester\, United Kingdom
ORGANIZER;CN="Queen St Brewhouse":MAILTO:noreply@facebookmail_com
END:VEVENT
END:VCALENDAR