BEGIN:VCALENDAR
VERSION:2.0
PRODID:-//Keep Colchester Cool - ECPv6.15.20//NONSGML v1.0//EN
CALSCALE:GREGORIAN
METHOD:PUBLISH
X-WR-CALNAME:Keep Colchester Cool
X-ORIGINAL-URL:https://keepcolchestercool.co.uk
X-WR-CALDESC:Events for Keep Colchester Cool
REFRESH-INTERVAL;VALUE=DURATION:PT1H
X-Robots-Tag:noindex
X-PUBLISHED-TTL:PT1H
BEGIN:VTIMEZONE
TZID:Europe/London
BEGIN:DAYLIGHT
TZOFFSETFROM:+0000
TZOFFSETTO:+0100
TZNAME:BST
DTSTART:20250330T010000
END:DAYLIGHT
BEGIN:STANDARD
TZOFFSETFROM:+0100
TZOFFSETTO:+0000
TZNAME:GMT
DTSTART:20251026T010000
END:STANDARD
BEGIN:DAYLIGHT
TZOFFSETFROM:+0000
TZOFFSETTO:+0100
TZNAME:BST
DTSTART:20260329T010000
END:DAYLIGHT
BEGIN:STANDARD
TZOFFSETFROM:+0100
TZOFFSETTO:+0000
TZNAME:GMT
DTSTART:20261025T010000
END:STANDARD
BEGIN:DAYLIGHT
TZOFFSETFROM:+0000
TZOFFSETTO:+0100
TZNAME:BST
DTSTART:20270328T010000
END:DAYLIGHT
BEGIN:STANDARD
TZOFFSETFROM:+0100
TZOFFSETTO:+0000
TZNAME:GMT
DTSTART:20271031T010000
END:STANDARD
END:VTIMEZONE
BEGIN:VEVENT
DTSTART;TZID=Europe/London:20260407T170000
DTEND;TZID=Europe/London:20260407T180000
DTSTAMP:20260424T012058
CREATED:20260113T071047Z
LAST-MODIFIED:20260226T071223Z
UID:127801-1775581200-1775584800@keepcolchestercool.co.uk
SUMMARY:The Mercury Sessions – How to Market Your Creatives Business with Rhi Howard
DESCRIPTION:The Mercury Sessions are monthly\, business focused conversations for creatives offering practical insight\, sector knowledge\, and the chance to connect with peers. \nHow to market your creatives business with Rhi Howard takes place on Tue 7 Apr\, 5-6pm in the Upstairs Bar at the Mercury Theatre. \nMarketing can be one of the most powerful tools a creative business has\, and Rhi Howard reveals how to harness it effectively. \nFrom audience insights to creating eye-catching content\, she’ll share tools and ideas that help your work travel further and land with the right people. \nThe session includes a Q&A and relaxed networking\, plus a complimentary drink.
URL:https://keepcolchestercool.co.uk/event/the-mercury-sessions-how-to-market-your-creatives-business-with-rhi-howard/
LOCATION:Mercury Theatre Colchester\, Mercury Theatre Colchester
ATTACH;FMTTYPE=image/jpeg:https://keepcolchestercool.co.uk/wp-content/uploads/127801_image_605259131_1335850965239909_4444333648050548701_n.jpg
ORGANIZER;CN="Mercury Theatre Colchester":MAILTO:noreply@facebookmail_com
END:VEVENT
END:VCALENDAR