BEGIN:VCALENDAR
VERSION:2.0
PRODID:-//Keep Colchester Cool - ECPv6.15.20//NONSGML v1.0//EN
CALSCALE:GREGORIAN
METHOD:PUBLISH
X-WR-CALNAME:Keep Colchester Cool
X-ORIGINAL-URL:https://keepcolchestercool.co.uk
X-WR-CALDESC:Events for Keep Colchester Cool
REFRESH-INTERVAL;VALUE=DURATION:PT1H
X-Robots-Tag:noindex
X-PUBLISHED-TTL:PT1H
BEGIN:VTIMEZONE
TZID:Europe/London
BEGIN:DAYLIGHT
TZOFFSETFROM:+0000
TZOFFSETTO:+0100
TZNAME:BST
DTSTART:20240331T010000
END:DAYLIGHT
BEGIN:STANDARD
TZOFFSETFROM:+0100
TZOFFSETTO:+0000
TZNAME:GMT
DTSTART:20241027T010000
END:STANDARD
BEGIN:DAYLIGHT
TZOFFSETFROM:+0000
TZOFFSETTO:+0100
TZNAME:BST
DTSTART:20250330T010000
END:DAYLIGHT
BEGIN:STANDARD
TZOFFSETFROM:+0100
TZOFFSETTO:+0000
TZNAME:GMT
DTSTART:20251026T010000
END:STANDARD
BEGIN:DAYLIGHT
TZOFFSETFROM:+0000
TZOFFSETTO:+0100
TZNAME:BST
DTSTART:20260329T010000
END:DAYLIGHT
BEGIN:STANDARD
TZOFFSETFROM:+0100
TZOFFSETTO:+0000
TZNAME:GMT
DTSTART:20261025T010000
END:STANDARD
END:VTIMEZONE
BEGIN:VEVENT
DTSTART;TZID=Europe/London:20250816T190000
DTEND;TZID=Europe/London:20250816T220000
DTSTAMP:20260424T230840
CREATED:20250813T071011Z
LAST-MODIFIED:20250816T071051Z
UID:125718-1755370800-1755381600@keepcolchestercool.co.uk
SUMMARY:The Pride After Party with JAMJAR
DESCRIPTION:After Colchester Pride\, Once again\, we host The ultimate after party! \nLive music from the excellent JAMJAR performing the classics and then\, the After After party with DJ PressPlay going all the way until 2am! \n16th August | 7pm – 2am \nFree entry all night long!
URL:https://keepcolchestercool.co.uk/event/the-pride-after-party-with-jamjar/
LOCATION:63 High street\, co1 1dn Colchester\, United Kingdom\, 63 High street\, co1 1dn Colchester\, United Kingdom
ORGANIZER;CN="Coda Colchester":MAILTO:noreply@facebookmail_com
END:VEVENT
END:VCALENDAR