BEGIN:VCALENDAR
VERSION:2.0
PRODID:-//Keep Colchester Cool - ECPv6.15.20//NONSGML v1.0//EN
CALSCALE:GREGORIAN
METHOD:PUBLISH
X-WR-CALNAME:Keep Colchester Cool
X-ORIGINAL-URL:https://keepcolchestercool.co.uk
X-WR-CALDESC:Events for Keep Colchester Cool
REFRESH-INTERVAL;VALUE=DURATION:PT1H
X-Robots-Tag:noindex
X-PUBLISHED-TTL:PT1H
BEGIN:VTIMEZONE
TZID:Europe/London
BEGIN:DAYLIGHT
TZOFFSETFROM:+0000
TZOFFSETTO:+0100
TZNAME:BST
DTSTART:20240331T010000
END:DAYLIGHT
BEGIN:STANDARD
TZOFFSETFROM:+0100
TZOFFSETTO:+0000
TZNAME:GMT
DTSTART:20241027T010000
END:STANDARD
BEGIN:DAYLIGHT
TZOFFSETFROM:+0000
TZOFFSETTO:+0100
TZNAME:BST
DTSTART:20250330T010000
END:DAYLIGHT
BEGIN:STANDARD
TZOFFSETFROM:+0100
TZOFFSETTO:+0000
TZNAME:GMT
DTSTART:20251026T010000
END:STANDARD
BEGIN:DAYLIGHT
TZOFFSETFROM:+0000
TZOFFSETTO:+0100
TZNAME:BST
DTSTART:20260329T010000
END:DAYLIGHT
BEGIN:STANDARD
TZOFFSETFROM:+0100
TZOFFSETTO:+0000
TZNAME:GMT
DTSTART:20261025T010000
END:STANDARD
END:VTIMEZONE
BEGIN:VEVENT
DTSTART;TZID=Europe/London:20251118T193000
DTEND;TZID=Europe/London:20251118T223000
DTSTAMP:20260424T150355
CREATED:20250524T071221Z
LAST-MODIFIED:20251118T071008Z
UID:124623-1763494200-1763505000@keepcolchestercool.co.uk
SUMMARY:The Primitives
DESCRIPTION:Tickets £21.50.Doors open 7.30pm\, starts 8pm.This gig is for a standing audience. \nThe Primitives emerged from the UK independent music scene of the mid-1980s with a sound that distilled the shimmering guitar chime of The Byrds\, the buzzsaw style of The Ramones and 60’s girl group melodies into two-and-a-half-minute pop gems. \nAfter topping the indie singles chart several times\, their widely acclaimed first album\, Lovely\, made them one of the UK’s most revered alternative rock acts\, while the international success of the single “Crash” saw them cross over to a mass audience. Further chart success followed\, along with two more studio albums\, Pure and Galore\, plus extensive tours of Europe and the US\, before the band called it a day in 1992. \nIn 2008\, Mojo Magazine named The Primitives’ second single “Really Stupid” one of the top 40 greatest UK indie singles of all time. \nThe band were reunited in 2009 by the untimely passing of their original bass player Steve Dullaghan\, reforming to play a show in his memory later that year in their hometown Coventry; their first time on stage together for 17 years. Bolstered by the success of this and of a secret show in London\, they went on to tour the UK in April 2010\, followed by shows in the US and Europe. \nIn 2011 The Primitives released the Never Kill A Secret EP through Fortuna Pop! The record featured two brand new songs and two covers of female fronted pop obscurities\, the latter two being a taster for the covers album Echoes and Rhymes\, released on Elefant records in 2012. \nAn album of new original Primitives songs entitled Spin-O-Rama was released in 2014 and was showered with lavish praise; the general opinion being that it sounded like an alternative follow-up to their classic 1988 debut album Lovely. \nIn 2025 Elefant Records put out the double vinyl collection Let’s Go Round Again – Second Wave Singles & Rarities 2011 – 2025\, featuring new material along with all of the A sides\, B sides and other miscellaneous tracks that the band have released over the past 14 years. \nSince reforming The Primitives have toured the UK multiple times\, performed all around Europe and paid several visits to the US and Japan. \nThe current line-up of the band includes original members Tracy Tracy (vocals)\, Paul Court (guitar/vocals) and Tig Williams (drums). \nhttps://linktr.ee/theprimitives
URL:https://keepcolchestercool.co.uk/event/the-primitives/
LOCATION:Church St\, CO1 1NF Colchester\, United Kingdom
ORGANIZER;CN="Colchester Arts Centre":MAILTO:noreply@facebookmail_com
END:VEVENT
END:VCALENDAR