BEGIN:VCALENDAR
VERSION:2.0
PRODID:-//Keep Colchester Cool - ECPv6.15.20//NONSGML v1.0//EN
CALSCALE:GREGORIAN
METHOD:PUBLISH
X-WR-CALNAME:Keep Colchester Cool
X-ORIGINAL-URL:https://keepcolchestercool.co.uk
X-WR-CALDESC:Events for Keep Colchester Cool
REFRESH-INTERVAL;VALUE=DURATION:PT1H
X-Robots-Tag:noindex
X-PUBLISHED-TTL:PT1H
BEGIN:VTIMEZONE
TZID:Europe/London
BEGIN:DAYLIGHT
TZOFFSETFROM:+0000
TZOFFSETTO:+0100
TZNAME:BST
DTSTART:20250330T010000
END:DAYLIGHT
BEGIN:STANDARD
TZOFFSETFROM:+0100
TZOFFSETTO:+0000
TZNAME:GMT
DTSTART:20251026T010000
END:STANDARD
BEGIN:DAYLIGHT
TZOFFSETFROM:+0000
TZOFFSETTO:+0100
TZNAME:BST
DTSTART:20260329T010000
END:DAYLIGHT
BEGIN:STANDARD
TZOFFSETFROM:+0100
TZOFFSETTO:+0000
TZNAME:GMT
DTSTART:20261025T010000
END:STANDARD
BEGIN:DAYLIGHT
TZOFFSETFROM:+0000
TZOFFSETTO:+0100
TZNAME:BST
DTSTART:20270328T010000
END:DAYLIGHT
BEGIN:STANDARD
TZOFFSETFROM:+0100
TZOFFSETTO:+0000
TZNAME:GMT
DTSTART:20271031T010000
END:STANDARD
END:VTIMEZONE
BEGIN:VEVENT
DTSTART;TZID=Europe/London:20260225T193000
DTEND;TZID=Europe/London:20260225T223000
DTSTAMP:20260424T042605
CREATED:20260225T071213Z
LAST-MODIFIED:20260225T071213Z
UID:129297-1772047800-1772058600@keepcolchestercool.co.uk
SUMMARY:The Queen Street Brewhouse Presents Wednesday Reels- Award Winning  Films Season Movie Night
DESCRIPTION:The final film of the Film Award Season at the Queen St Brewhouse is Jonathan Demme’s landmark drama ‘Philadelphia’ (1993)\, screening this Wednesday\, February 25th\, at 7:30 p.m. The film stars Tom Hanks\, Denzel Washington\, Jason Robards\, Mary Steenburgen\, and Antonio Banderas. Loosely based on two real-life cases\, Philadelphia is a legal courtroom drama about a lawyer who seeks justice after being wrongfully dismissed from his law firm due to discrimination. Demme’s film was not only one of the highest-grossing films of 1993\, but it was also nominated for five Academy Awards at the 66th Academy Awards. The film’s title\, Philadelphia\, serves as a symbolic backdrop for its themes\, exploring homophobia\, humanization\, justice\, liberty and the misconceptions surrounding HIV/AIDS.
URL:https://keepcolchestercool.co.uk/event/the-queen-street-brewhouse-presents-wednesday-reels-award-winning-films-season-movie-night/
LOCATION:Queen St Brewhouse\, 7 - 9 Queen Street\, Colchester\, CO1 2PG\, GB
ATTACH;FMTTYPE=image/jpeg:https://keepcolchestercool.co.uk/wp-content/uploads/129297_image_641360682_1500971395371842_1691604092698136568_n.jpg
ORGANIZER;CN="Queen St Brewhouse":MAILTO:noreply@facebookmail_com
END:VEVENT
END:VCALENDAR