BEGIN:VCALENDAR
VERSION:2.0
PRODID:-//Keep Colchester Cool - ECPv6.15.20//NONSGML v1.0//EN
CALSCALE:GREGORIAN
METHOD:PUBLISH
X-WR-CALNAME:Keep Colchester Cool
X-ORIGINAL-URL:https://keepcolchestercool.co.uk
X-WR-CALDESC:Events for Keep Colchester Cool
REFRESH-INTERVAL;VALUE=DURATION:PT1H
X-Robots-Tag:noindex
X-PUBLISHED-TTL:PT1H
BEGIN:VTIMEZONE
TZID:Europe/London
BEGIN:DAYLIGHT
TZOFFSETFROM:+0000
TZOFFSETTO:+0100
TZNAME:BST
DTSTART:20250330T010000
END:DAYLIGHT
BEGIN:STANDARD
TZOFFSETFROM:+0100
TZOFFSETTO:+0000
TZNAME:GMT
DTSTART:20251026T010000
END:STANDARD
BEGIN:DAYLIGHT
TZOFFSETFROM:+0000
TZOFFSETTO:+0100
TZNAME:BST
DTSTART:20260329T010000
END:DAYLIGHT
BEGIN:STANDARD
TZOFFSETFROM:+0100
TZOFFSETTO:+0000
TZNAME:GMT
DTSTART:20261025T010000
END:STANDARD
BEGIN:DAYLIGHT
TZOFFSETFROM:+0000
TZOFFSETTO:+0100
TZNAME:BST
DTSTART:20270328T010000
END:DAYLIGHT
BEGIN:STANDARD
TZOFFSETFROM:+0100
TZOFFSETTO:+0000
TZNAME:GMT
DTSTART:20271031T010000
END:STANDARD
END:VTIMEZONE
BEGIN:VEVENT
DTSTART;TZID=Europe/London:20260405T100000
DTEND;TZID=Europe/London:20260405T160000
DTSTAMP:20260424T044301
CREATED:20260105T071030Z
LAST-MODIFIED:20260226T071222Z
UID:127664-1775383200-1775404800@keepcolchestercool.co.uk
SUMMARY:The Rec Community Market - Easter Edition
DESCRIPTION:🐣 The Rec Community Market – Easter Edition 🐣 \nJoin us for a fun\, family-friendly Easter day out at the Rec! \n📅 Sunday 5th April⏰ 10am – 4pm📍 Old Heath Recreation Ground\, CO1 2ER🎟 FREE entry \nExpect a great mix of: 🍔 Food & drink stalls🛍️ Local traders🐣 Easter egg hunt🎪 Bouncy castles🐕 Dog-friendly atmosphere \nA relaxed\, community-focused event for families\, friends\, and neighbours of all ages. \nWe can’t wait to welcome back familiar faces and new visitors alike — come along\, support local traders\, and enjoy a brilliant Easter day at the Rec 🌸
URL:https://keepcolchestercool.co.uk/event/the-rec-community-market-7/
LOCATION:Colchester old heath Recreation Ground\, Colchester old heath Recreation Ground
ATTACH;FMTTYPE=image/jpeg:https://keepcolchestercool.co.uk/wp-content/uploads/127664_image_612413939_122167770752771081_6903842644370173160_n.jpg
END:VEVENT
END:VCALENDAR