BEGIN:VCALENDAR
VERSION:2.0
PRODID:-//Keep Colchester Cool - ECPv6.15.20//NONSGML v1.0//EN
CALSCALE:GREGORIAN
METHOD:PUBLISH
X-WR-CALNAME:Keep Colchester Cool
X-ORIGINAL-URL:https://keepcolchestercool.co.uk
X-WR-CALDESC:Events for Keep Colchester Cool
REFRESH-INTERVAL;VALUE=DURATION:PT1H
X-Robots-Tag:noindex
X-PUBLISHED-TTL:PT1H
BEGIN:VTIMEZONE
TZID:Europe/London
BEGIN:DAYLIGHT
TZOFFSETFROM:+0000
TZOFFSETTO:+0100
TZNAME:BST
DTSTART:20240331T010000
END:DAYLIGHT
BEGIN:STANDARD
TZOFFSETFROM:+0100
TZOFFSETTO:+0000
TZNAME:GMT
DTSTART:20241027T010000
END:STANDARD
BEGIN:DAYLIGHT
TZOFFSETFROM:+0000
TZOFFSETTO:+0100
TZNAME:BST
DTSTART:20250330T010000
END:DAYLIGHT
BEGIN:STANDARD
TZOFFSETFROM:+0100
TZOFFSETTO:+0000
TZNAME:GMT
DTSTART:20251026T010000
END:STANDARD
BEGIN:DAYLIGHT
TZOFFSETFROM:+0000
TZOFFSETTO:+0100
TZNAME:BST
DTSTART:20260329T010000
END:DAYLIGHT
BEGIN:STANDARD
TZOFFSETFROM:+0100
TZOFFSETTO:+0000
TZNAME:GMT
DTSTART:20261025T010000
END:STANDARD
END:VTIMEZONE
BEGIN:VEVENT
DTSTART;TZID=Europe/London:20250808T183000
DTEND;TZID=Europe/London:20250808T213000
DTSTAMP:20260424T230909
CREATED:20250605T071035Z
LAST-MODIFIED:20250808T071015Z
UID:124890-1754677800-1754688600@keepcolchestercool.co.uk
SUMMARY:The Shakespeare Solitaire: Murder Mystery
DESCRIPTION:It’s 1922 and you’re invited to Colchester’s best kept-secret – Solanio’s Swinging Speakeasy – for a very special event: the auction of the infamous Shakespeare Solitaire. \nThis priceless diamond is rumoured to have been gifted to William Shakespeare by Queen Elizabeth I herself… but the jewel also carries with it a curse\, for every one of its owners have died in mysterious circumstances. \nJust two weeks’ ago\, the body of the Solitaire’s most recent owner – renowned actor Henry Lear – was discovered at a Guildford auction house. Tonight\, his only daughter is seeking to sell it and rid the family of its terrible curse. \nBut will Mr Lear’s death be the end\, or is it just the beginning? \nJoin the award-winning Guildford Shakespeare Company for a fun and interactive evening of intrigue and deception\, as you work out whodunnit.
URL:https://keepcolchestercool.co.uk/event/the-shakespeare-solitaire-murder-mystery/
LOCATION:Balkerne Gate\, CO1 1PT Colchester\, United Kingdom\, Balkerne Gate\, CO1 1PT Colchester\, United Kingdom
ORGANIZER;CN="Mercury Theatre Colchester":MAILTO:noreply@facebookmail_com
END:VEVENT
END:VCALENDAR