BEGIN:VCALENDAR
VERSION:2.0
PRODID:-//Keep Colchester Cool - ECPv6.15.20//NONSGML v1.0//EN
CALSCALE:GREGORIAN
METHOD:PUBLISH
X-WR-CALNAME:Keep Colchester Cool
X-ORIGINAL-URL:https://keepcolchestercool.co.uk
X-WR-CALDESC:Events for Keep Colchester Cool
REFRESH-INTERVAL;VALUE=DURATION:PT1H
X-Robots-Tag:noindex
X-PUBLISHED-TTL:PT1H
BEGIN:VTIMEZONE
TZID:Europe/London
BEGIN:DAYLIGHT
TZOFFSETFROM:+0000
TZOFFSETTO:+0100
TZNAME:BST
DTSTART:20240331T010000
END:DAYLIGHT
BEGIN:STANDARD
TZOFFSETFROM:+0100
TZOFFSETTO:+0000
TZNAME:GMT
DTSTART:20241027T010000
END:STANDARD
BEGIN:DAYLIGHT
TZOFFSETFROM:+0000
TZOFFSETTO:+0100
TZNAME:BST
DTSTART:20250330T010000
END:DAYLIGHT
BEGIN:STANDARD
TZOFFSETFROM:+0100
TZOFFSETTO:+0000
TZNAME:GMT
DTSTART:20251026T010000
END:STANDARD
BEGIN:DAYLIGHT
TZOFFSETFROM:+0000
TZOFFSETTO:+0100
TZNAME:BST
DTSTART:20260329T010000
END:DAYLIGHT
BEGIN:STANDARD
TZOFFSETFROM:+0100
TZOFFSETTO:+0000
TZNAME:GMT
DTSTART:20261025T010000
END:STANDARD
END:VTIMEZONE
BEGIN:VEVENT
DTSTART;TZID=Europe/London:20251123T140000
DTEND;TZID=Europe/London:20251123T173000
DTSTAMP:20260424T160243
CREATED:20251030T071048Z
LAST-MODIFIED:20251123T071016Z
UID:127005-1763906400-1763919000@keepcolchestercool.co.uk
SUMMARY:The Tango Zone’s Autumn Tea Dance @Marks Tey Parish Hall
DESCRIPTION:🍂The Tango Zone team is delighted to invite you to an AUTUMN TEA DANCE on SUNDAY 23rd NOVEMBER at Marks Tey Parish Hall\, just outside Colchester. 🍂🍁Dance to TRADITIONAL tango music from our DJ Paul. Music will be in tandas of three with cortinas. There may be one or two surprise tandas! 🥳 Everyone welcome whatever your level of dancing! 🤗No need to book or bring a partner. Milonga from 2.00-5.30pm.£9 entry including nibbles. CASH ONLY PLEASE. Come along and help us celebrate the cosiness of Autumn and a continuing fantastic year of tango!🍂🍁🕺🏻💃🏻🎶 \nVenue: Marks Tey Parish Hall\, Old London Road\, Marks Tey\, CO6 1EJ \nLarge free car park at the venue.  \nAttendance is at the risk and responsibility of the individual.
URL:https://keepcolchestercool.co.uk/event/the-tango-zones-autumn-tea-dance-marks-tey-parish-hall/
LOCATION:Marks Tey Parish Hall\, Old London Rd\, Marks Tey\, CO6 1EJ\, GB
ORGANIZER;CN="The Tango Zone":MAILTO:noreply@facebookmail.com
END:VEVENT
END:VCALENDAR