BEGIN:VCALENDAR
VERSION:2.0
PRODID:-//Keep Colchester Cool - ECPv6.15.20//NONSGML v1.0//EN
CALSCALE:GREGORIAN
METHOD:PUBLISH
X-WR-CALNAME:Keep Colchester Cool
X-ORIGINAL-URL:https://keepcolchestercool.co.uk
X-WR-CALDESC:Events for Keep Colchester Cool
REFRESH-INTERVAL;VALUE=DURATION:PT1H
X-Robots-Tag:noindex
X-PUBLISHED-TTL:PT1H
BEGIN:VTIMEZONE
TZID:Europe/London
BEGIN:DAYLIGHT
TZOFFSETFROM:+0000
TZOFFSETTO:+0100
TZNAME:BST
DTSTART:20240331T010000
END:DAYLIGHT
BEGIN:STANDARD
TZOFFSETFROM:+0100
TZOFFSETTO:+0000
TZNAME:GMT
DTSTART:20241027T010000
END:STANDARD
BEGIN:DAYLIGHT
TZOFFSETFROM:+0000
TZOFFSETTO:+0100
TZNAME:BST
DTSTART:20250330T010000
END:DAYLIGHT
BEGIN:STANDARD
TZOFFSETFROM:+0100
TZOFFSETTO:+0000
TZNAME:GMT
DTSTART:20251026T010000
END:STANDARD
BEGIN:DAYLIGHT
TZOFFSETFROM:+0000
TZOFFSETTO:+0100
TZNAME:BST
DTSTART:20260329T010000
END:DAYLIGHT
BEGIN:STANDARD
TZOFFSETFROM:+0100
TZOFFSETTO:+0000
TZNAME:GMT
DTSTART:20261025T010000
END:STANDARD
END:VTIMEZONE
BEGIN:VEVENT
DTSTART;TZID=Europe/London:20250908T190000
DTEND;TZID=Europe/London:20250908T200000
DTSTAMP:20260424T193729
CREATED:20250827T071011Z
LAST-MODIFIED:20250908T070958Z
UID:125932-1757358000-1757361600@keepcolchestercool.co.uk
SUMMARY:The Tango Zone’s **Tango Fundamentals lesson** @ Marks Tey Parish Hall\, (Small Hall)
DESCRIPTION:**NEW** TANGO FUNDAMENTALS LESSON 7-8pm in The Small Hall\, Marks Tey Parish Hall.Come and learn all-important tango basics! You can also put what you have learned into practice in the pop-up practica\, which follows the lesson\, in the Main Hall at Marks Tey. No partner needed. No need to book. Beginners very welcome! ☺️Teachers: Robert\, Lorraine\, Paul and Delia.  \n📅Date: Monday 8th September⏰Time: 7.00-8.00pm📍Venue: The Small Hall\, Marks Tey Parish Hall\, Old London Road\, Marks Tey\, CO6 1EJ🚗Large free car park at the venue. 💸Entry: £7 for lesson £10 lesson + practica\, in the main hallCASH ONLY PLEASE \nPlease note: Attendance is at the risk and responsibility of the individual.
URL:https://keepcolchestercool.co.uk/event/the-tango-zones-tango-fundamentals-lesson-marks-tey-parish-hall-small-hall/
LOCATION:Marks Tey Parish Hall\, Old London Rd\, Marks Tey\, CO6 1EJ\, GB
ORGANIZER;CN="The Tango Zone":MAILTO:noreply@facebookmail.com
END:VEVENT
END:VCALENDAR