BEGIN:VCALENDAR
VERSION:2.0
PRODID:-//Keep Colchester Cool - ECPv6.15.20//NONSGML v1.0//EN
CALSCALE:GREGORIAN
METHOD:PUBLISH
X-WR-CALNAME:Keep Colchester Cool
X-ORIGINAL-URL:https://keepcolchestercool.co.uk
X-WR-CALDESC:Events for Keep Colchester Cool
REFRESH-INTERVAL;VALUE=DURATION:PT1H
X-Robots-Tag:noindex
X-PUBLISHED-TTL:PT1H
BEGIN:VTIMEZONE
TZID:Europe/London
BEGIN:DAYLIGHT
TZOFFSETFROM:+0000
TZOFFSETTO:+0100
TZNAME:BST
DTSTART:20240331T010000
END:DAYLIGHT
BEGIN:STANDARD
TZOFFSETFROM:+0100
TZOFFSETTO:+0000
TZNAME:GMT
DTSTART:20241027T010000
END:STANDARD
BEGIN:DAYLIGHT
TZOFFSETFROM:+0000
TZOFFSETTO:+0100
TZNAME:BST
DTSTART:20250330T010000
END:DAYLIGHT
BEGIN:STANDARD
TZOFFSETFROM:+0100
TZOFFSETTO:+0000
TZNAME:GMT
DTSTART:20251026T010000
END:STANDARD
BEGIN:DAYLIGHT
TZOFFSETFROM:+0000
TZOFFSETTO:+0100
TZNAME:BST
DTSTART:20260329T010000
END:DAYLIGHT
BEGIN:STANDARD
TZOFFSETFROM:+0100
TZOFFSETTO:+0000
TZNAME:GMT
DTSTART:20261025T010000
END:STANDARD
END:VTIMEZONE
BEGIN:VEVENT
DTSTART;TZID=Europe/London:20251128T193000
DTEND;TZID=Europe/London:20251128T223000
DTSTAMP:20260424T151438
CREATED:20251025T071039Z
LAST-MODIFIED:20251128T071012Z
UID:126783-1764358200-1764369000@keepcolchestercool.co.uk
SUMMARY:The Wandering Hearts: It's Beginning To Look A lot Like Christmas
DESCRIPTION:Tickets £26.50.Doors open 7.30pm\, starts 8pm.This gig is for a seated audience. \nThe Wandering Hearts are a three part vocal harmony group that formed in London in 2015. Since the release of their first record Wild Silence (Decca)\, Tara\, Chess and AJ have been at the forefront of the UK Americana\, folk and country music scenes as well as touring and performing frequently across the pond in the US. They now have three studio albums released and are working on more! The band received the Bob Harris Emerging Artist award at the UK Americana awards in 2018 after Bob had shown them huge support on his radio show. They toured with country music legend Marty Stuart and his Fabulous Superlatives in the UK and were invited to perform with him at The Ryman Auditorium\, The Grand Ole Opry and Graceland in the United States. This made them the first British band to have their debut at the Ryman and Opry in the same week! The Wandering Hearts have shared bills with artists such as The Eagles\, Eric Clapton\, Gladys Knight\, Celine Dion\, Tom Petty\, Chris Stapleton\, Jack Savoretti and many more.  \nhttps://www.thewanderinghearts.com/
URL:https://keepcolchestercool.co.uk/event/the-wandering-hearts-its-beginning-to-look-a-lot-like-christmas/
LOCATION:Church St\, CO1 1NF Colchester\, United Kingdom
ORGANIZER;CN="Colchester Arts Centre":MAILTO:noreply@facebookmail_com
END:VEVENT
END:VCALENDAR