BEGIN:VCALENDAR
VERSION:2.0
PRODID:-//Keep Colchester Cool - ECPv6.15.20//NONSGML v1.0//EN
CALSCALE:GREGORIAN
METHOD:PUBLISH
X-WR-CALNAME:Keep Colchester Cool
X-ORIGINAL-URL:https://keepcolchestercool.co.uk
X-WR-CALDESC:Events for Keep Colchester Cool
REFRESH-INTERVAL;VALUE=DURATION:PT1H
X-Robots-Tag:noindex
X-PUBLISHED-TTL:PT1H
BEGIN:VTIMEZONE
TZID:Europe/London
BEGIN:DAYLIGHT
TZOFFSETFROM:+0000
TZOFFSETTO:+0100
TZNAME:BST
DTSTART:20240331T010000
END:DAYLIGHT
BEGIN:STANDARD
TZOFFSETFROM:+0100
TZOFFSETTO:+0000
TZNAME:GMT
DTSTART:20241027T010000
END:STANDARD
BEGIN:DAYLIGHT
TZOFFSETFROM:+0000
TZOFFSETTO:+0100
TZNAME:BST
DTSTART:20250330T010000
END:DAYLIGHT
BEGIN:STANDARD
TZOFFSETFROM:+0100
TZOFFSETTO:+0000
TZNAME:GMT
DTSTART:20251026T010000
END:STANDARD
BEGIN:DAYLIGHT
TZOFFSETFROM:+0000
TZOFFSETTO:+0100
TZNAME:BST
DTSTART:20260329T010000
END:DAYLIGHT
BEGIN:STANDARD
TZOFFSETFROM:+0100
TZOFFSETTO:+0000
TZNAME:GMT
DTSTART:20261025T010000
END:STANDARD
END:VTIMEZONE
BEGIN:VEVENT
DTSTART;TZID=Europe/London:20250906T193000
DTEND;TZID=Europe/London:20250906T223000
DTSTAMP:20260424T191336
CREATED:20250702T071018Z
LAST-MODIFIED:20250906T070958Z
UID:125205-1757187000-1757197800@keepcolchestercool.co.uk
SUMMARY:Tom Houghton: Deep
DESCRIPTION:Tickets £21.50 / £18.50 concessions.Doors open 7.30pm\, starts 8pm. \nAfter a phenomenal\, sold-out\, international tour. Plus\, a second round of supporting Milton Jones. The man who asked us\, “Do you ski?” is turning everything upside down and asking\, “Do you scuba?” \nIn a world full of relentless click bate\, online distractions\, and brain rotting content\, Tom’s racing brain finally became too much for him. \nHaving left the Western world behind\, Tom found himself in Indonesia where he plunged into a journey of self-discovery. He submerged himself as far down in the ocean as possible\, while asking the most profound questions of what truly makes someone who they are. \nAnd now he’s bringing his discoveries to you. \nIt’s time to go “Deep”. \nAs seen on Netflix\, Comedy Central and host of Very British Problems \n“Clever\, passionate and soulful“ ★★★★★ The New European \n“A twisted view of the world“ ★★★★★ The Sunday Express \n“Brilliant\, bright and insightful… everyone’s cup of tea“ ★★★★★ UK Cabaret \n“Houghton elicits the type of laughter that makes it hard for you to breath; Your eyes glass over with tears\, and you can’t look at him for fear of falling off your chair“ ★★★★ The New Current \n“Get your tickets today. Tomorrow may well be too late. A Star is Born“ ★★★★★ One 4 Review \n“This unexpected tour de force warrants a 21-gun salute“ ★★★★ The Daily Telegraph \n“A crafty idiot “ ★★★★ The Daily Mail \nTik Tok Twitter and Instagram – @HonourableTom \nhttps://www.facebook.com/tomhcomedy/
URL:https://keepcolchestercool.co.uk/event/tom-houghton-deep/
LOCATION:Church St\, CO1 1NF Colchester\, United Kingdom
ORGANIZER;CN="Colchester Arts Centre":MAILTO:noreply@facebookmail_com
END:VEVENT
END:VCALENDAR