BEGIN:VCALENDAR
VERSION:2.0
PRODID:-//Keep Colchester Cool - ECPv6.15.20//NONSGML v1.0//EN
CALSCALE:GREGORIAN
METHOD:PUBLISH
X-WR-CALNAME:Keep Colchester Cool
X-ORIGINAL-URL:https://keepcolchestercool.co.uk
X-WR-CALDESC:Events for Keep Colchester Cool
REFRESH-INTERVAL;VALUE=DURATION:PT1H
X-Robots-Tag:noindex
X-PUBLISHED-TTL:PT1H
BEGIN:VTIMEZONE
TZID:Europe/London
BEGIN:DAYLIGHT
TZOFFSETFROM:+0000
TZOFFSETTO:+0100
TZNAME:BST
DTSTART:20240331T010000
END:DAYLIGHT
BEGIN:STANDARD
TZOFFSETFROM:+0100
TZOFFSETTO:+0000
TZNAME:GMT
DTSTART:20241027T010000
END:STANDARD
BEGIN:DAYLIGHT
TZOFFSETFROM:+0000
TZOFFSETTO:+0100
TZNAME:BST
DTSTART:20250330T010000
END:DAYLIGHT
BEGIN:STANDARD
TZOFFSETFROM:+0100
TZOFFSETTO:+0000
TZNAME:GMT
DTSTART:20251026T010000
END:STANDARD
BEGIN:DAYLIGHT
TZOFFSETFROM:+0000
TZOFFSETTO:+0100
TZNAME:BST
DTSTART:20260329T010000
END:DAYLIGHT
BEGIN:STANDARD
TZOFFSETFROM:+0100
TZOFFSETTO:+0000
TZNAME:GMT
DTSTART:20261025T010000
END:STANDARD
END:VTIMEZONE
BEGIN:VEVENT
DTSTART;TZID=Europe/London:20250821T223000
DTEND;TZID=Europe/London:20250822T020000
DTSTAMP:20260424T230909
CREATED:20250524T071216Z
LAST-MODIFIED:20250822T071013Z
UID:124608-1755815400-1755828000@keepcolchestercool.co.uk
SUMMARY:Torn After All - The Official Afterparty
DESCRIPTION:TORN AFTER ALL – The Official Afterparty \nPlease note that all Torn After All afterparty tickets will be refunded and this is now a FREE event.  \nSee you at Three Wise Monkeys from 10:30pm
URL:https://keepcolchestercool.co.uk/event/torn-after-all-the-official-afterparty/
LOCATION:Three Wise Monkeys Colchester
ORGANIZER;CN="Colchester Castle Summer Series":MAILTO:noreply@facebookmail.com
END:VEVENT
END:VCALENDAR