BEGIN:VCALENDAR
VERSION:2.0
PRODID:-//Keep Colchester Cool - ECPv6.15.20//NONSGML v1.0//EN
CALSCALE:GREGORIAN
METHOD:PUBLISH
X-WR-CALNAME:Keep Colchester Cool
X-ORIGINAL-URL:https://keepcolchestercool.co.uk
X-WR-CALDESC:Events for Keep Colchester Cool
REFRESH-INTERVAL;VALUE=DURATION:PT1H
X-Robots-Tag:noindex
X-PUBLISHED-TTL:PT1H
BEGIN:VTIMEZONE
TZID:Europe/London
BEGIN:DAYLIGHT
TZOFFSETFROM:+0000
TZOFFSETTO:+0100
TZNAME:BST
DTSTART:20250330T010000
END:DAYLIGHT
BEGIN:STANDARD
TZOFFSETFROM:+0100
TZOFFSETTO:+0000
TZNAME:GMT
DTSTART:20251026T010000
END:STANDARD
BEGIN:DAYLIGHT
TZOFFSETFROM:+0000
TZOFFSETTO:+0100
TZNAME:BST
DTSTART:20260329T010000
END:DAYLIGHT
BEGIN:STANDARD
TZOFFSETFROM:+0100
TZOFFSETTO:+0000
TZNAME:GMT
DTSTART:20261025T010000
END:STANDARD
BEGIN:DAYLIGHT
TZOFFSETFROM:+0000
TZOFFSETTO:+0100
TZNAME:BST
DTSTART:20270328T010000
END:DAYLIGHT
BEGIN:STANDARD
TZOFFSETFROM:+0100
TZOFFSETTO:+0000
TZNAME:GMT
DTSTART:20271031T010000
END:STANDARD
END:VTIMEZONE
BEGIN:VEVENT
DTSTART;TZID=Europe/London:20260829T150000
DTEND;TZID=Europe/London:20260829T200000
DTSTAMP:20260424T113454
CREATED:20260224T071245Z
LAST-MODIFIED:20260226T071236Z
UID:129248-1788015600-1788033600@keepcolchestercool.co.uk
SUMMARY:Trance Day Party: Colchester 🔊
DESCRIPTION:Tickets selling fast → https://www.fatsoma.com/e/m89eha8r/la/171x \nThe Trance Day Party is coming! 🔊 \nCalling all ravers and hands-in-the-air dance floor dreamers! ✨💫 \nGet ready for an afternoon of euphoric\, high-energy trance as our DJ delivers a non-stop journey through the biggest\, most emotional and uplifting tracks the genre has to offer. From timeless classics to festival-filling anthems the way you remember them\, this is a daytime rave built for pure release and feel-good vibes. \nWhat to Expect \n🎵 Trance Anthems All Day LongFrom Armin van Buuren to Above & Beyond\, Paul van Dyk to Ferry Corsten\, ATB to Cosmic Gate\, expect soaring melodies\, iconic breakdowns and massive drops that light up the room. \n🔥 Greatest Hits\, Not Deep CutsOur DJ focuses on the tracks everyone knows and loves\, bringing you the euphoric classics\, hands-in-the-air moments and emotional sing-along melodies that define trance. \n🎉 Pure Daytime Rave EnergyThink lasers\, big builds and bigger drops – uplifting\, emotional and made for dancing from start to finish. \n✨ All-Day EuphoriaCome for the music\, stay for the crowd\, the smiles and the shared rush that only trance can deliver. \nLose yourself in the melodies\, feel every drop\, and dance like it’s a festival. \nThe Trance Day Party – don’t miss it. 🌞🔊 \nFAQ’S \n🗣️ Why do the tickets come in different price tiers? \nWhilst there is no physical difference. There is only a limited amount of tickets we can sell. Therefore we operate a festival style ticketing model. The earlier you buy your ticket the cheaper it will be. \n🗣️ Do you do group discount? Stag/Hen etc \nYes\, we offer a discounted ticket price for groups of 10 or more. These tickets can be found listed as the “Big Group Package!” above\, orders for these tickets are restricted to a minimum of 10. \n🗣️ Will there be more tickets available if the event is sold out? \nOnce this event is sold out\, there will not be any additional tickets released. In addiction to this we will be unable to sell them at the door due to maximum capacity and health and safety regulations. \n🗣️ Is the venue accessible? \nOur events take place at a variety of locations across the UK and Ireland. As each varies please ensure to check the specific venue’s website for accessibility information. \n🗣️ Can I resell my tickets? \nYes\, if you are unable to attend an event you are welcome to sell your tickets on. We do not use names on tickets as a condition for entry. \n🗣️ Are your events 18+? \nAll of our events are strictly 18+. A valid photographic ID may be requested on entry. \n🗣️ What do I do if I cant find my tickets or confirmation email? \nYou can email us at info@daytimediscoevents.co.uk with the full name you used when purchasing the tickets and proof of payment. We will then send you a copy of your tickets \n🗣️ Are there tickets available on the door? \nWe always recommend booking in advance as we cannot guarantee on the door entry. However\, in certain instances there will be a limited number of tickets on a first come first served basis for sale on the door. \n🗣️ I have more questions? \nIf you have additional questions and wish to contact us directly\, don’t hesitate to drop us a DM on either Facebook (Daytime Disco) or Instagram (@daytimediscoevents) \nRefund Policy: \nIn-line with normal consumer standards for ticket purchases\, tickets for Daytime Disco events are non-refundable\, on the condition that we not moved the event or canceled it. If you are no longer be able to attend the event\, you are of course welcome to gift or sell your tickets onwards as we do not use names on the tickets as a condition of entry.
URL:https://keepcolchestercool.co.uk/event/trance-day-party-colchester-%f0%9f%94%8a/
LOCATION:Trilogy Colchester\, Trilogy Colchester
ATTACH;FMTTYPE=image/jpeg:https://keepcolchestercool.co.uk/wp-content/uploads/129248_image_631559746_122207968088546827_5517198603696004711_n.jpg
END:VEVENT
END:VCALENDAR