BEGIN:VCALENDAR
VERSION:2.0
PRODID:-//Keep Colchester Cool - ECPv6.15.20//NONSGML v1.0//EN
CALSCALE:GREGORIAN
METHOD:PUBLISH
X-WR-CALNAME:Keep Colchester Cool
X-ORIGINAL-URL:https://keepcolchestercool.co.uk
X-WR-CALDESC:Events for Keep Colchester Cool
REFRESH-INTERVAL;VALUE=DURATION:PT1H
X-Robots-Tag:noindex
X-PUBLISHED-TTL:PT1H
BEGIN:VTIMEZONE
TZID:Europe/London
BEGIN:DAYLIGHT
TZOFFSETFROM:+0000
TZOFFSETTO:+0100
TZNAME:BST
DTSTART:20240331T010000
END:DAYLIGHT
BEGIN:STANDARD
TZOFFSETFROM:+0100
TZOFFSETTO:+0000
TZNAME:GMT
DTSTART:20241027T010000
END:STANDARD
BEGIN:DAYLIGHT
TZOFFSETFROM:+0000
TZOFFSETTO:+0100
TZNAME:BST
DTSTART:20250330T010000
END:DAYLIGHT
BEGIN:STANDARD
TZOFFSETFROM:+0100
TZOFFSETTO:+0000
TZNAME:GMT
DTSTART:20251026T010000
END:STANDARD
BEGIN:DAYLIGHT
TZOFFSETFROM:+0000
TZOFFSETTO:+0100
TZNAME:BST
DTSTART:20260329T010000
END:DAYLIGHT
BEGIN:STANDARD
TZOFFSETFROM:+0100
TZOFFSETTO:+0000
TZNAME:GMT
DTSTART:20261025T010000
END:STANDARD
END:VTIMEZONE
BEGIN:VEVENT
DTSTART;TZID=Europe/London:20250813T190000
DTEND;TZID=Europe/London:20250813T220000
DTSTAMP:20260424T210418
CREATED:20250729T071054Z
LAST-MODIFIED:20250813T071003Z
UID:125514-1755111600-1755122400@keepcolchestercool.co.uk
SUMMARY:Twelfth Night
DESCRIPTION:Folksy Theatre present… \nShipwrecked and separated from her twin brother\,Viola disguises herself as a man and becomes entwined in a hilariouslove triangle. Serving Duke Orsino\, who secretly loves Countess Olivia\,Viola finds herself in a twist when Olivia falls for her in disguise! \nAmidst the comedic chaos of mistaken identities\, meet thedrunken Sir Toby Belch\, the pompous Malvolio\, and enjoy a livelyatmosphere filled with Folksy’s touch of fun and live music. Burstingwith romance and laughter\, “Twelfth Night” is a whirlwind of mistakenidentities and joyful endings! \nSeating provided and a well stocked bar!
URL:https://keepcolchestercool.co.uk/event/twelfth-night-2/
LOCATION:Black Brook Theatre\, Glebe Farm\, Dedham Road\, CO4 5PP Colchester\, United Kingdom\, Black Brook Theatre\, Glebe Farm\, Dedham Road\, CO4 5PP Colchester\, United Kingdom
END:VEVENT
END:VCALENDAR