BEGIN:VCALENDAR
VERSION:2.0
PRODID:-//Keep Colchester Cool - ECPv6.15.20//NONSGML v1.0//EN
CALSCALE:GREGORIAN
METHOD:PUBLISH
X-WR-CALNAME:Keep Colchester Cool
X-ORIGINAL-URL:https://keepcolchestercool.co.uk
X-WR-CALDESC:Events for Keep Colchester Cool
REFRESH-INTERVAL;VALUE=DURATION:PT1H
X-Robots-Tag:noindex
X-PUBLISHED-TTL:PT1H
BEGIN:VTIMEZONE
TZID:Europe/London
BEGIN:DAYLIGHT
TZOFFSETFROM:+0000
TZOFFSETTO:+0100
TZNAME:BST
DTSTART:20240331T010000
END:DAYLIGHT
BEGIN:STANDARD
TZOFFSETFROM:+0100
TZOFFSETTO:+0000
TZNAME:GMT
DTSTART:20241027T010000
END:STANDARD
BEGIN:DAYLIGHT
TZOFFSETFROM:+0000
TZOFFSETTO:+0100
TZNAME:BST
DTSTART:20250330T010000
END:DAYLIGHT
BEGIN:STANDARD
TZOFFSETFROM:+0100
TZOFFSETTO:+0000
TZNAME:GMT
DTSTART:20251026T010000
END:STANDARD
BEGIN:DAYLIGHT
TZOFFSETFROM:+0000
TZOFFSETTO:+0100
TZNAME:BST
DTSTART:20260329T010000
END:DAYLIGHT
BEGIN:STANDARD
TZOFFSETFROM:+0100
TZOFFSETTO:+0000
TZNAME:GMT
DTSTART:20261025T010000
END:STANDARD
END:VTIMEZONE
BEGIN:VEVENT
DTSTART;TZID=Europe/London:20251127T173000
DTEND;TZID=Europe/London:20251127T203000
DTSTAMP:20260424T105434
CREATED:20251025T071038Z
LAST-MODIFIED:20251127T071006Z
UID:126780-1764264600-1764275400@keepcolchestercool.co.uk
SUMMARY:UnderDog Crew Annual Showcase
DESCRIPTION:FILMTickets £10.Doors open 5.30pm\, starts 6pm.This show is for a seated audience. \nJoin us at Colchester Arts Centre for the Underdog Crew Annual Showcase! Supporting Autism and ADHD through breaking down creative barriers and celebrating the brilliance within neuro diversity. \nGet ready for a night of pure inspiration as our members and special guests poke a thumb in the eye of stigma and showcase another year of neurodiverse creative brilliance weaved around the UK Premiere of the latest episodes of the studio’s multi award winning teen drama series\, ‘The Slip’.  \nFeaturing:  \nUK Premiere screening of ‘The Slip’ episodes 3 and 4. Premiere screening of Colchester City ‘Teen Voices’ poetry rants. Special guest neurodiverse motivational speakers\, followed by ‘I AM Foxy’ mini-doc. “SENtrepreneur’ panel discussion: ‘breaking stigma and getting ahead in life’. Live vocal perfomances by: Nicola ‘NIX’ Nugent. ‘Deeply Dolly’. The amazing Nicola Kelleher performing as Dolly Parton. ‘Marie Cole Hart’ . The Soulful songird. .. and special performance from Underdog Crew members Biba Watts and Assunta Jones.  \nThis event is to raise funds for ‘The Underdog Crew CIC’ as part of their selection as Colchester Mayor’s charity for 2025.  \nKEY EVENT FEATURE: a ‘Vegas Tombola’\, with some amazing prizes and experiences donated by local sponsors\, including guest acting roles in ‘The Slip’ episode 5 and VIP on-set experiences.  \nDon’t miss out on this one-of-a-kind event that celebrates the underdogs who shine brightest despite many adverseries and limitations. Grab your tickets now and come support NEURODIVERSITY in our city!
URL:https://keepcolchestercool.co.uk/event/underdog-crew-annual-showcase/
LOCATION:Church St\, CO1 1NF Colchester\, United Kingdom
ORGANIZER;CN="Colchester Arts Centre":MAILTO:noreply@facebookmail_com
END:VEVENT
END:VCALENDAR