BEGIN:VCALENDAR
VERSION:2.0
PRODID:-//Keep Colchester Cool - ECPv6.15.20//NONSGML v1.0//EN
CALSCALE:GREGORIAN
METHOD:PUBLISH
X-WR-CALNAME:Keep Colchester Cool
X-ORIGINAL-URL:https://keepcolchestercool.co.uk
X-WR-CALDESC:Events for Keep Colchester Cool
REFRESH-INTERVAL;VALUE=DURATION:PT1H
X-Robots-Tag:noindex
X-PUBLISHED-TTL:PT1H
BEGIN:VTIMEZONE
TZID:Europe/London
BEGIN:DAYLIGHT
TZOFFSETFROM:+0000
TZOFFSETTO:+0100
TZNAME:BST
DTSTART:20250330T010000
END:DAYLIGHT
BEGIN:STANDARD
TZOFFSETFROM:+0100
TZOFFSETTO:+0000
TZNAME:GMT
DTSTART:20251026T010000
END:STANDARD
BEGIN:DAYLIGHT
TZOFFSETFROM:+0000
TZOFFSETTO:+0100
TZNAME:BST
DTSTART:20260329T010000
END:DAYLIGHT
BEGIN:STANDARD
TZOFFSETFROM:+0100
TZOFFSETTO:+0000
TZNAME:GMT
DTSTART:20261025T010000
END:STANDARD
BEGIN:DAYLIGHT
TZOFFSETFROM:+0000
TZOFFSETTO:+0100
TZNAME:BST
DTSTART:20270328T010000
END:DAYLIGHT
BEGIN:STANDARD
TZOFFSETFROM:+0100
TZOFFSETTO:+0000
TZNAME:GMT
DTSTART:20271031T010000
END:STANDARD
END:VTIMEZONE
BEGIN:VEVENT
DTSTART;TZID=Europe/London:20260308T120000
DTEND;TZID=Europe/London:20260308T150000
DTSTAMP:20260424T044406
CREATED:20260225T071221Z
LAST-MODIFIED:20260226T071211Z
UID:129322-1772971200-1772982000@keepcolchestercool.co.uk
SUMMARY:Vinyl Sessions: The The - Soul Mining
DESCRIPTION:Tickets £4Doors open 12pm\, show starts at 12:30pmThis show is for a seated audience. \nThe bar will be open throughout. \nThe The / Soul Mining \nMost of us will muddle through the emotional intensity of late adolescence before moving on with the rest of our lives – but if you’re Matt Johnson\, you shut yourself away in the bedroom above the Stratford pub your parents run\, and channel all that self-doubt and sense of isolation into what will eventually become the deeply introspective lyrics of your debut album. ‘The The’ was essentially a loose collective of mates and session musicians with Johnson at the centre calling the creative shots\, and it was an approach that paid dividends on Soul Mining. Operating at a place where post-punk meets synthpop and landing somewhere neatly in the middle\, Johnson’s sometimes despondent words (‘Another year over and what have I done? / My aspirations have shrivelled in the sun’) are brought to vivid life here\, with walloping drums\, sparkling guitar figures and even a piano solo from a certain Jools Holland at one point. You won’t find many albums that could accommodate the wistful\, big-hearted warmth of a song like ‘This Is the Day’ AND the full-throttle\, beat-driven closing track ‘Giant’ – but this one did\, and went on to become an 80s cult classic that demands to be heard loud. \nThe album playback will be followed by a Q&A session. \nAfter a short break\, we’ll follow the album with our usual ‘Dead Wax’ session. Bring along a vinyl disc of your choice and hear a track from it played through the Arts Centre PA. This can be anything you like\, for any reason – the more ‘out there’ the better.
URL:https://keepcolchestercool.co.uk/event/vinyl-sessions-the-the-soul-mining/
LOCATION:Church St\, CO1 1NF Colchester\, United Kingdom
ATTACH;FMTTYPE=image/jpeg:https://keepcolchestercool.co.uk/wp-content/uploads/129322_image_641498507_1332710198891146_2531228469574982715_n.jpg
ORGANIZER;CN="Colchester Arts Centre":MAILTO:noreply@facebookmail_com
END:VEVENT
END:VCALENDAR