BEGIN:VCALENDAR
VERSION:2.0
PRODID:-//Keep Colchester Cool - ECPv6.15.20//NONSGML v1.0//EN
CALSCALE:GREGORIAN
METHOD:PUBLISH
X-WR-CALNAME:Keep Colchester Cool
X-ORIGINAL-URL:https://keepcolchestercool.co.uk
X-WR-CALDESC:Events for Keep Colchester Cool
REFRESH-INTERVAL;VALUE=DURATION:PT1H
X-Robots-Tag:noindex
X-PUBLISHED-TTL:PT1H
BEGIN:VTIMEZONE
TZID:Europe/London
BEGIN:DAYLIGHT
TZOFFSETFROM:+0000
TZOFFSETTO:+0100
TZNAME:BST
DTSTART:20240331T010000
END:DAYLIGHT
BEGIN:STANDARD
TZOFFSETFROM:+0100
TZOFFSETTO:+0000
TZNAME:GMT
DTSTART:20241027T010000
END:STANDARD
BEGIN:DAYLIGHT
TZOFFSETFROM:+0000
TZOFFSETTO:+0100
TZNAME:BST
DTSTART:20250330T010000
END:DAYLIGHT
BEGIN:STANDARD
TZOFFSETFROM:+0100
TZOFFSETTO:+0000
TZNAME:GMT
DTSTART:20251026T010000
END:STANDARD
BEGIN:DAYLIGHT
TZOFFSETFROM:+0000
TZOFFSETTO:+0100
TZNAME:BST
DTSTART:20260329T010000
END:DAYLIGHT
BEGIN:STANDARD
TZOFFSETFROM:+0100
TZOFFSETTO:+0000
TZNAME:GMT
DTSTART:20261025T010000
END:STANDARD
END:VTIMEZONE
BEGIN:VEVENT
DTSTART;TZID=Europe/London:20250920T100000
DTEND;TZID=Europe/London:20250920T120000
DTSTAMP:20260419T203622
CREATED:20250624T071020Z
LAST-MODIFIED:20250920T071021Z
UID:125099-1758362400-1758369600@keepcolchestercool.co.uk
SUMMARY:Watercolour Saturdays with Justine Moss
DESCRIPTION:Explore the materials\, techniques and colour theory used to develop watercolour paintings and meet other watercolour lovers in this relaxed social session. \nDuring each workshop session a different subject will be provided for you to paint. \nYour tutor can also guide you to work on a painting you are already working on or a subject you have always wanted to paint. \nBasic materials provided. \nFor more info: https://firstsite.uk/event/watercolour-saturdays-justine-moss/ or call us on 01206 713 700.
URL:https://keepcolchestercool.co.uk/event/watercolour-saturdays-with-justine-moss/
LOCATION:Lewis Gardens\, CO1 1JH Colchester\, United Kingdom
ORGANIZER;CN="Firstsite Colchester":MAILTO:noreply@facebookmail_com
END:VEVENT
END:VCALENDAR