BEGIN:VCALENDAR
VERSION:2.0
PRODID:-//Keep Colchester Cool - ECPv6.15.20//NONSGML v1.0//EN
CALSCALE:GREGORIAN
METHOD:PUBLISH
X-WR-CALNAME:Keep Colchester Cool
X-ORIGINAL-URL:https://keepcolchestercool.co.uk
X-WR-CALDESC:Events for Keep Colchester Cool
REFRESH-INTERVAL;VALUE=DURATION:PT1H
X-Robots-Tag:noindex
X-PUBLISHED-TTL:PT1H
BEGIN:VTIMEZONE
TZID:Europe/London
BEGIN:DAYLIGHT
TZOFFSETFROM:+0000
TZOFFSETTO:+0100
TZNAME:BST
DTSTART:20240331T010000
END:DAYLIGHT
BEGIN:STANDARD
TZOFFSETFROM:+0100
TZOFFSETTO:+0000
TZNAME:GMT
DTSTART:20241027T010000
END:STANDARD
BEGIN:DAYLIGHT
TZOFFSETFROM:+0000
TZOFFSETTO:+0100
TZNAME:BST
DTSTART:20250330T010000
END:DAYLIGHT
BEGIN:STANDARD
TZOFFSETFROM:+0100
TZOFFSETTO:+0000
TZNAME:GMT
DTSTART:20251026T010000
END:STANDARD
BEGIN:DAYLIGHT
TZOFFSETFROM:+0000
TZOFFSETTO:+0100
TZNAME:BST
DTSTART:20260329T010000
END:DAYLIGHT
BEGIN:STANDARD
TZOFFSETFROM:+0100
TZOFFSETTO:+0000
TZNAME:GMT
DTSTART:20261025T010000
END:STANDARD
END:VTIMEZONE
BEGIN:VEVENT
DTSTART;TZID=Europe/London:20250814T223000
DTEND;TZID=Europe/London:20250815T020000
DTSTAMP:20260424T212941
CREATED:20250521T071153Z
LAST-MODIFIED:20250815T071000Z
UID:124398-1755210600-1755223200@keepcolchestercool.co.uk
SUMMARY:We Only Come Out at Night – The Official Afterparty
DESCRIPTION:We Only Come Out at Night – The Smashing Pumpkins Official Afterparty \nAfter The Smashing Pumpkins take over Castle Park on Thursday\, 14th August\, the night doesn’t have to end there. Head to Three Wise Monkeys\, Colchester\, for the Official Afterparty\, where the energy will keep going until 2am with Baz Briggs \nGuest DJs will be spinning the best ‘90s alternative rock\, including tracks from The Smashing Pumpkins\, Nirvana\, Hole\, Pearl Jam\, and more. Whether you’re coming straight from the gig or just joining the party\, this is the place to be. \nTickets on sale now! \nCASTLE PARK TICKET IS NOT REQUIRED TO ATTEND
URL:https://keepcolchestercool.co.uk/event/we-only-come-out-at-night-the-official-afterparty/
LOCATION:Three Wise Monkeys Colchester
ORGANIZER;CN="Colchester Castle Summer Series":MAILTO:noreply@facebookmail.com
END:VEVENT
END:VCALENDAR