BEGIN:VCALENDAR
VERSION:2.0
PRODID:-//Keep Colchester Cool - ECPv6.15.20//NONSGML v1.0//EN
CALSCALE:GREGORIAN
METHOD:PUBLISH
X-WR-CALNAME:Keep Colchester Cool
X-ORIGINAL-URL:https://keepcolchestercool.co.uk
X-WR-CALDESC:Events for Keep Colchester Cool
REFRESH-INTERVAL;VALUE=DURATION:PT1H
X-Robots-Tag:noindex
X-PUBLISHED-TTL:PT1H
BEGIN:VTIMEZONE
TZID:Europe/London
BEGIN:DAYLIGHT
TZOFFSETFROM:+0000
TZOFFSETTO:+0100
TZNAME:BST
DTSTART:20240331T010000
END:DAYLIGHT
BEGIN:STANDARD
TZOFFSETFROM:+0100
TZOFFSETTO:+0000
TZNAME:GMT
DTSTART:20241027T010000
END:STANDARD
BEGIN:DAYLIGHT
TZOFFSETFROM:+0000
TZOFFSETTO:+0100
TZNAME:BST
DTSTART:20250330T010000
END:DAYLIGHT
BEGIN:STANDARD
TZOFFSETFROM:+0100
TZOFFSETTO:+0000
TZNAME:GMT
DTSTART:20251026T010000
END:STANDARD
BEGIN:DAYLIGHT
TZOFFSETFROM:+0000
TZOFFSETTO:+0100
TZNAME:BST
DTSTART:20260329T010000
END:DAYLIGHT
BEGIN:STANDARD
TZOFFSETFROM:+0100
TZOFFSETTO:+0000
TZNAME:GMT
DTSTART:20261025T010000
END:STANDARD
END:VTIMEZONE
BEGIN:VEVENT
DTSTART;TZID=Europe/London:20251207T100000
DTEND;TZID=Europe/London:20251207T130000
DTSTAMP:20260424T113043
CREATED:20251008T071055Z
LAST-MODIFIED:20251207T071033Z
UID:126432-1765101600-1765112400@keepcolchestercool.co.uk
SUMMARY:Willow Basket Weaving Workshop
DESCRIPTION:Learn to weave your own willow basket from local willow. Suitable for beginners and those with experience.  \nDisabled access and parking.  \nRefreshments available to purchase at the cafe.  \nAll materials provided \n£32.50PP \nBook your place here – https://www.thecreativeworkshopcompany.co.uk/event-details/weave-a-willow-basket-2
URL:https://keepcolchestercool.co.uk/event/willow-basket-weaving-workshop-2/
LOCATION:Fingringhoe Wick Nature Reserve\, Fingringhoe Wick Nature Reserve
ORGANIZER;CN="The Creative Workshop Company":MAILTO:noreply@facebookmail.com
END:VEVENT
END:VCALENDAR