BEGIN:VCALENDAR
VERSION:2.0
PRODID:-//Keep Colchester Cool - ECPv6.15.20//NONSGML v1.0//EN
CALSCALE:GREGORIAN
METHOD:PUBLISH
X-WR-CALNAME:Keep Colchester Cool
X-ORIGINAL-URL:https://keepcolchestercool.co.uk
X-WR-CALDESC:Events for Keep Colchester Cool
REFRESH-INTERVAL;VALUE=DURATION:PT1H
X-Robots-Tag:noindex
X-PUBLISHED-TTL:PT1H
BEGIN:VTIMEZONE
TZID:Europe/London
BEGIN:DAYLIGHT
TZOFFSETFROM:+0000
TZOFFSETTO:+0100
TZNAME:BST
DTSTART:20250330T010000
END:DAYLIGHT
BEGIN:STANDARD
TZOFFSETFROM:+0100
TZOFFSETTO:+0000
TZNAME:GMT
DTSTART:20251026T010000
END:STANDARD
BEGIN:DAYLIGHT
TZOFFSETFROM:+0000
TZOFFSETTO:+0100
TZNAME:BST
DTSTART:20260329T010000
END:DAYLIGHT
BEGIN:STANDARD
TZOFFSETFROM:+0100
TZOFFSETTO:+0000
TZNAME:GMT
DTSTART:20261025T010000
END:STANDARD
BEGIN:DAYLIGHT
TZOFFSETFROM:+0000
TZOFFSETTO:+0100
TZNAME:BST
DTSTART:20270328T010000
END:DAYLIGHT
BEGIN:STANDARD
TZOFFSETFROM:+0100
TZOFFSETTO:+0000
TZNAME:GMT
DTSTART:20271031T010000
END:STANDARD
END:VTIMEZONE
BEGIN:VEVENT
DTSTART;TZID=Europe/London:20260228T170000
DTEND;TZID=Europe/London:20260228T200000
DTSTAMP:20260424T043511
CREATED:20260225T071217Z
LAST-MODIFIED:20260226T071206Z
UID:129309-1772298000-1772308800@keepcolchestercool.co.uk
SUMMARY:Winter Fresh Air Festival
DESCRIPTION:Introducing the first ever… \n🩵 Winter FAF 🩵 \nSaturday 28th February\, Victoria Place\, Brightlingsea Town Centre\, between 5pm-9pm \nThis is going to be a FAF like no other! Keep your eyes peeled for more info over the coming weeks!
URL:https://keepcolchestercool.co.uk/event/winter-fresh-air-festival/
LOCATION:Victoria Place Brightlingsea\, Victoria Place Brightlingsea
ATTACH;FMTTYPE=image/jpeg:https://keepcolchestercool.co.uk/wp-content/uploads/129309_image_616021628_1201555722066870_7123318162490777060_n.jpg
ORGANIZER;CN="Brightlingsea Winter Fest":MAILTO:noreply@facebookmail.com
END:VEVENT
END:VCALENDAR