BEGIN:VCALENDAR
VERSION:2.0
PRODID:-//Keep Colchester Cool - ECPv6.15.20//NONSGML v1.0//EN
CALSCALE:GREGORIAN
METHOD:PUBLISH
X-WR-CALNAME:Keep Colchester Cool
X-ORIGINAL-URL:https://keepcolchestercool.co.uk
X-WR-CALDESC:Events for Keep Colchester Cool
REFRESH-INTERVAL;VALUE=DURATION:PT1H
X-Robots-Tag:noindex
X-PUBLISHED-TTL:PT1H
BEGIN:VTIMEZONE
TZID:Europe/London
BEGIN:DAYLIGHT
TZOFFSETFROM:+0000
TZOFFSETTO:+0100
TZNAME:BST
DTSTART:20240331T010000
END:DAYLIGHT
BEGIN:STANDARD
TZOFFSETFROM:+0100
TZOFFSETTO:+0000
TZNAME:GMT
DTSTART:20241027T010000
END:STANDARD
BEGIN:DAYLIGHT
TZOFFSETFROM:+0000
TZOFFSETTO:+0100
TZNAME:BST
DTSTART:20250330T010000
END:DAYLIGHT
BEGIN:STANDARD
TZOFFSETFROM:+0100
TZOFFSETTO:+0000
TZNAME:GMT
DTSTART:20251026T010000
END:STANDARD
BEGIN:DAYLIGHT
TZOFFSETFROM:+0000
TZOFFSETTO:+0100
TZNAME:BST
DTSTART:20260329T010000
END:DAYLIGHT
BEGIN:STANDARD
TZOFFSETFROM:+0100
TZOFFSETTO:+0000
TZNAME:GMT
DTSTART:20261025T010000
END:STANDARD
END:VTIMEZONE
BEGIN:VEVENT
DTSTART;TZID=Europe/London:20251127T190000
DTEND;TZID=Europe/London:20251127T213000
DTSTAMP:20260424T105635
CREATED:20251025T071039Z
LAST-MODIFIED:20251127T071006Z
UID:126781-1764270000-1764279000@keepcolchestercool.co.uk
SUMMARY:Wivenhoe Funny Farm 7.30pm start!
DESCRIPTION:Booking info at bottom of this post.  \nThursday 27th November 7.30pm to 9.30pm – back at Wivenhoe Bowls Club – doors 7pm (please use Woodland Way entrance) \nTop notch live stand-up comedy from Paul Ricketts“material is smart as well as funny” THE SCOTSMAN \n“weird and wonderful… should be given his own TV show” THE STAGE“distinctive and extraordinary” FRINGE GURU \n“highly accomplished” TIME OUT  “excels as a natural story-teller” THREE WEEKS“pretty f**king good” GREG DAVIES \nSupport: \nTamsin Sarkany as Amelia CrotchettMusical Comedy Awards finalist 2023\, “highly skilled… ingenious” – Chortle \nand Becky Mathieson \nMC Hazel Humphreys​ \nPlease read!ALL BOOKINGS NEED TO BE CONFIRMED VIA HAZEL – email – FUNNYFARMCOMEDY@GMAIL.COM \nPLEASE PAY IN ADVANCE unless agreed with us. \nWe will be asking for donations to help pay acts for reservations. Recommended £8.50 donation per seat booked (£7 concessions) but whatever you can manage. \nThis is an indoor gig at Wivenhoe Bowls Club starting 7.30pm (doors 7pm)\, there is limited seating available. Please book tables.  \nWe will be requesting donations for table reservations in order to help us pay our professional acts. This would be preferable via BACs in advance.  \nThis is a cracking comedy line-up with pro comics and the Funny Farm needs the audience’s help in covering the costs.  \nI’ve been asked by the Bowls Club to ask people to not form large queues at the bar and if possible return empty glasses at the end of the night. Done x
URL:https://keepcolchestercool.co.uk/event/wivenhoe-funny-farm-7-30pm-start/
LOCATION:Wivenhoe Bowls Club\, Woodland Way\, Colchester\, CO79\, GB
ORGANIZER;CN="Wivenhoe Funny Farm":MAILTO:noreply@facebookmail_com
END:VEVENT
END:VCALENDAR