BEGIN:VCALENDAR
VERSION:2.0
PRODID:-//Keep Colchester Cool - ECPv6.15.20//NONSGML v1.0//EN
CALSCALE:GREGORIAN
METHOD:PUBLISH
X-WR-CALNAME:Keep Colchester Cool
X-ORIGINAL-URL:https://keepcolchestercool.co.uk
X-WR-CALDESC:Events for Keep Colchester Cool
REFRESH-INTERVAL;VALUE=DURATION:PT1H
X-Robots-Tag:noindex
X-PUBLISHED-TTL:PT1H
BEGIN:VTIMEZONE
TZID:Europe/London
BEGIN:DAYLIGHT
TZOFFSETFROM:+0000
TZOFFSETTO:+0100
TZNAME:BST
DTSTART:20240331T010000
END:DAYLIGHT
BEGIN:STANDARD
TZOFFSETFROM:+0100
TZOFFSETTO:+0000
TZNAME:GMT
DTSTART:20241027T010000
END:STANDARD
BEGIN:DAYLIGHT
TZOFFSETFROM:+0000
TZOFFSETTO:+0100
TZNAME:BST
DTSTART:20250330T010000
END:DAYLIGHT
BEGIN:STANDARD
TZOFFSETFROM:+0100
TZOFFSETTO:+0000
TZNAME:GMT
DTSTART:20251026T010000
END:STANDARD
BEGIN:DAYLIGHT
TZOFFSETFROM:+0000
TZOFFSETTO:+0100
TZNAME:BST
DTSTART:20260329T010000
END:DAYLIGHT
BEGIN:STANDARD
TZOFFSETFROM:+0100
TZOFFSETTO:+0000
TZNAME:GMT
DTSTART:20261025T010000
END:STANDARD
END:VTIMEZONE
BEGIN:VEVENT
DTSTART;TZID=Europe/London:20251103T180000
DTEND;TZID=Europe/London:20251103T193000
DTSTAMP:20260423T150834
CREATED:20251025T071025Z
LAST-MODIFIED:20251103T071020Z
UID:126739-1762192800-1762198200@keepcolchestercool.co.uk
SUMMARY:Women’s Sacred Circle - Colchester
DESCRIPTION:✨ Women’s Circle at The Tree Room ✨Held monthly on the first Monday of each Month \nDear sisters\, \nYou are warmly invited to step into a sacred space—a place where you can exhale\, be witnessed\, and simply be. \nOur monthly Women’s Circle at The Tree Room is more than just a gathering. It’s a remembrance. A returning. A weaving together of stories\, hearts\, and souls. \nFor thousands of years\, women have come together in circle\, around fires\, under stars\, in temples and homes\, to share\, support\, and hold one another through life’s cycles. Somewhere along the way\, we lost this tradition. But the call to return is rising again. And it’s strong. \n🌙 This is a space for you if…– You long for genuine sisterhood– You feel called to reconnect with your feminine essence– You desire to be seen and heard without judgement– You crave a pause from everyday busyness to reconnect with yourself \nEach circle is unique\, but may include:🌙 Guided meditation and grounding🌙 Sharing and storytelling🌙 Movement or stillness🌙 Song\, chant\, or silence💞 Rituals of intention\, release\, or celebration \nWhen we gather in this way\, we create a field of energy that is both gentle and powerful. You may feel lighter. Inspired. Grounded. Moved. Healed.You may leave with a fuller heart\, a clearer mind\, or a deeper connection to yourself and the women around you. \nAs one sister beautifully said: \n“Let us support each other in sorrow\, and dance with each other in celebration.” \n🌙 Location: The Tree Room\, Colchester🌙 Time: 6.00pm – 7.30pm (First Monday of each month)🌙 Energy Exchange: £11 per person \n✨ Book here: https://dharmabelle.co.uk/womens-circle/🌙 Questions or need support to attend? Contact Claire on 07310 105920 \nIf you feel the call in your heart—but money is a barrier—please don’t hesitate to reach out. We want you with us. \nCome exactly as you are\, in whatever season of life you’re in.We can’t wait to sit in circle with you. \nhttps://www.facebook.com/events/1793400697905901/?event_time_id=1793403837905587
URL:https://keepcolchestercool.co.uk/event/womens-sacred-circle-colchester/
LOCATION:The Tree Room\, Trinity Street\, Colchester\, The Tree Room\, Trinity Street\, Colchester
ORGANIZER;CN="Dharmabelle":MAILTO:noreply@facebookmail_com
END:VEVENT
END:VCALENDAR