BEGIN:VCALENDAR
VERSION:2.0
PRODID:-//Keep Colchester Cool - ECPv6.15.20//NONSGML v1.0//EN
CALSCALE:GREGORIAN
METHOD:PUBLISH
X-WR-CALNAME:Keep Colchester Cool
X-ORIGINAL-URL:https://keepcolchestercool.co.uk
X-WR-CALDESC:Events for Keep Colchester Cool
REFRESH-INTERVAL;VALUE=DURATION:PT1H
X-Robots-Tag:noindex
X-PUBLISHED-TTL:PT1H
BEGIN:VTIMEZONE
TZID:Europe/London
BEGIN:DAYLIGHT
TZOFFSETFROM:+0000
TZOFFSETTO:+0100
TZNAME:BST
DTSTART:20240331T010000
END:DAYLIGHT
BEGIN:STANDARD
TZOFFSETFROM:+0100
TZOFFSETTO:+0000
TZNAME:GMT
DTSTART:20241027T010000
END:STANDARD
BEGIN:DAYLIGHT
TZOFFSETFROM:+0000
TZOFFSETTO:+0100
TZNAME:BST
DTSTART:20250330T010000
END:DAYLIGHT
BEGIN:STANDARD
TZOFFSETFROM:+0100
TZOFFSETTO:+0000
TZNAME:GMT
DTSTART:20251026T010000
END:STANDARD
BEGIN:DAYLIGHT
TZOFFSETFROM:+0000
TZOFFSETTO:+0100
TZNAME:BST
DTSTART:20260329T010000
END:DAYLIGHT
BEGIN:STANDARD
TZOFFSETFROM:+0100
TZOFFSETTO:+0000
TZNAME:GMT
DTSTART:20261025T010000
END:STANDARD
END:VTIMEZONE
BEGIN:VEVENT
DTSTART;TZID=Europe/London:20251126T200000
DTEND;TZID=Europe/London:20251126T230000
DTSTAMP:20260424T132243
CREATED:20251025T071038Z
LAST-MODIFIED:20251126T071024Z
UID:126779-1764187200-1764198000@keepcolchestercool.co.uk
SUMMARY:Wonderful Wednesdays - Covered in Jam: That’s Not My Name
DESCRIPTION:Pay what you can affordDoors open 7:30 pm\, Show starts 8 pmThis show is for a seated audience \nTHIS is NOT a show about mental health. THIS is a DISORDER. \nWe’re just joking…We’re HALF joking…We’re BORDERLINE joking. \nHave we rehearsed it? No comment.Have we written it? It depends.Is there a script? Ugh.But it is a comedy\, right? A comedy about severe mental illness?!Who would do such a thing?! You. You psychopath. Fair enough.So it’s a PLAY? No it’s not a f*cking play. F*ck off with all the questions\, I’m bored. \n“Clinically Diagnosed Sociopath” – The Stage \nCast & Crew: \nWritten and performed by: Sammy TrotmanDirected by: Marceline RixSound & Lighting by: Scott WardProduced by: ASYLUM Arts & Covered in JamSupported by: Harlow Playhouse \nReviews: \n★ ★ ★ ★ ★ “Masterpiece of Mess” Broadway Baby★ ★ ★ ★ ★ “Unlike anything you’ve seen before” Lost In Theatreland★ ★ ★ ★ ★ “Spectacular and Borderline” A Youngish Perspective★ ★ ★ ★ ★ “She Is Sharp” NorthWest End★ ★ ★ ★ ★ “Simply Exceptional” Theatre & Tonic★ ★ “Confrontational” Fringe Biscuit
URL:https://keepcolchestercool.co.uk/event/wonderful-wednesdays-covered-in-jam-thats-not-my-name/
LOCATION:Church St\, CO1 1NF Colchester\, United Kingdom
ORGANIZER;CN="Colchester Arts Centre":MAILTO:noreply@facebookmail_com
END:VEVENT
END:VCALENDAR