BEGIN:VCALENDAR
VERSION:2.0
PRODID:-//Keep Colchester Cool - ECPv6.15.20//NONSGML v1.0//EN
CALSCALE:GREGORIAN
METHOD:PUBLISH
X-WR-CALNAME:Keep Colchester Cool
X-ORIGINAL-URL:https://keepcolchestercool.co.uk
X-WR-CALDESC:Events for Keep Colchester Cool
REFRESH-INTERVAL;VALUE=DURATION:PT1H
X-Robots-Tag:noindex
X-PUBLISHED-TTL:PT1H
BEGIN:VTIMEZONE
TZID:Europe/London
BEGIN:DAYLIGHT
TZOFFSETFROM:+0000
TZOFFSETTO:+0100
TZNAME:BST
DTSTART:20240331T010000
END:DAYLIGHT
BEGIN:STANDARD
TZOFFSETFROM:+0100
TZOFFSETTO:+0000
TZNAME:GMT
DTSTART:20241027T010000
END:STANDARD
BEGIN:DAYLIGHT
TZOFFSETFROM:+0000
TZOFFSETTO:+0100
TZNAME:BST
DTSTART:20250330T010000
END:DAYLIGHT
BEGIN:STANDARD
TZOFFSETFROM:+0100
TZOFFSETTO:+0000
TZNAME:GMT
DTSTART:20251026T010000
END:STANDARD
BEGIN:DAYLIGHT
TZOFFSETFROM:+0000
TZOFFSETTO:+0100
TZNAME:BST
DTSTART:20260329T010000
END:DAYLIGHT
BEGIN:STANDARD
TZOFFSETFROM:+0100
TZOFFSETTO:+0000
TZNAME:GMT
DTSTART:20261025T010000
END:STANDARD
END:VTIMEZONE
BEGIN:VEVENT
DTSTART;TZID=Europe/London:20251217T193000
DTEND;TZID=Europe/London:20251217T223000
DTSTAMP:20260420T193007
CREATED:20251118T071029Z
LAST-MODIFIED:20251217T070956Z
UID:127251-1765999800-1766010600@keepcolchestercool.co.uk
SUMMARY:Xmas Ukulele Singalong at Three Wise Monkeys
DESCRIPTION:Come and jingle your bells with us at Three Wise Monkeys with a feast of your favourite festive tunes. That’s a lot of effs. Here’s another one – it’s FREEEEEEEE.
URL:https://keepcolchestercool.co.uk/event/xmas-ukulele-singalong-at-three-wise-monkeys/
LOCATION:THREE WISE MONKEYS\, CO1 1DN Colchester\, United Kingdom\, THREE WISE MONKEYS\, CO1 1DN Colchester\, United Kingdom
ORGANIZER;CN="Colchester Brewkulele":MAILTO:noreply@facebookmail.com
END:VEVENT
END:VCALENDAR