BEGIN:VCALENDAR
VERSION:2.0
PRODID:-//Keep Colchester Cool - ECPv6.15.20//NONSGML v1.0//EN
CALSCALE:GREGORIAN
METHOD:PUBLISH
X-WR-CALNAME:Keep Colchester Cool
X-ORIGINAL-URL:https://keepcolchestercool.co.uk
X-WR-CALDESC:Events for Keep Colchester Cool
REFRESH-INTERVAL;VALUE=DURATION:PT1H
X-Robots-Tag:noindex
X-PUBLISHED-TTL:PT1H
BEGIN:VTIMEZONE
TZID:Europe/London
BEGIN:DAYLIGHT
TZOFFSETFROM:+0000
TZOFFSETTO:+0100
TZNAME:BST
DTSTART:20240331T010000
END:DAYLIGHT
BEGIN:STANDARD
TZOFFSETFROM:+0100
TZOFFSETTO:+0000
TZNAME:GMT
DTSTART:20241027T010000
END:STANDARD
BEGIN:DAYLIGHT
TZOFFSETFROM:+0000
TZOFFSETTO:+0100
TZNAME:BST
DTSTART:20250330T010000
END:DAYLIGHT
BEGIN:STANDARD
TZOFFSETFROM:+0100
TZOFFSETTO:+0000
TZNAME:GMT
DTSTART:20251026T010000
END:STANDARD
BEGIN:DAYLIGHT
TZOFFSETFROM:+0000
TZOFFSETTO:+0100
TZNAME:BST
DTSTART:20260329T010000
END:DAYLIGHT
BEGIN:STANDARD
TZOFFSETFROM:+0100
TZOFFSETTO:+0000
TZNAME:GMT
DTSTART:20261025T010000
END:STANDARD
END:VTIMEZONE
BEGIN:VEVENT
DTSTART;TZID=Europe/London:20251025T123000
DTEND;TZID=Europe/London:20251025T170000
DTSTAMP:20260422T185554
CREATED:20251025T071011Z
LAST-MODIFIED:20251025T071011Z
UID:126695-1761395400-1761411600@keepcolchestercool.co.uk
SUMMARY:Yu‑Gi‑Oh! GENESYS Event
DESCRIPTION:Attention Yu-Gi-Oh! Duelists!We are excited to be hosting our first Yu-Gi-Oh! Genesys event.  \nThe event will be a 100-point tournament played in swiss style event. We hope to host Genesys regularly so get those decks ready. \nFor more info and points list please check out the link below \nhttps://www.yugioh-card.com/en/genesys/ \nWHAT IS GENESYS?The Genesys rules are simple:  \nNo Link Monsters or Pendulum Monsters are allowed. All other cards are allowed. The original field layout is used\, with no Extra Monster Zones nor Pendulum Zones.  \nThe standard Forbidden & Limited Cards list is not used. All those cards can be used\, except Link Monsters and Pendulum Monsters. Usual limit of 3 copies max of any card still applies.  \nDeck construction uses a point system. Some cards are assigned a point value; most cards cost zero points. The total point cost of cards in your Main Deck\, Extra Deck\, and Side Deck (combined) cannot exceed the point cap for that event.  \nThe standard point cap is 100\, but events can be run with any point cap\, or even a zero-point cap!  \nEntry Price: £6.00One of the new OTS 29 Tournament Pack will be given to everyone plus a booster pack of the latest set into the prize pot.
URL:https://keepcolchestercool.co.uk/event/yu%e2%80%91gi%e2%80%91oh-genesys-event/
LOCATION:ACE Comics\, 42 Culver Street East\, Colchester\, CO1 1LE\, GB
ORGANIZER;CN="Glenn Richardson":MAILTO:noreply@facebookmail_com
END:VEVENT
END:VCALENDAR