BEGIN:VCALENDAR
VERSION:2.0
PRODID:-//Keep Colchester Cool - ECPv6.15.20//NONSGML v1.0//EN
CALSCALE:GREGORIAN
METHOD:PUBLISH
X-WR-CALNAME:Keep Colchester Cool
X-ORIGINAL-URL:https://keepcolchestercool.co.uk
X-WR-CALDESC:Events for Keep Colchester Cool
REFRESH-INTERVAL;VALUE=DURATION:PT1H
X-Robots-Tag:noindex
X-PUBLISHED-TTL:PT1H
BEGIN:VTIMEZONE
TZID:Europe/London
BEGIN:DAYLIGHT
TZOFFSETFROM:+0000
TZOFFSETTO:+0100
TZNAME:BST
DTSTART:20240331T010000
END:DAYLIGHT
BEGIN:STANDARD
TZOFFSETFROM:+0100
TZOFFSETTO:+0000
TZNAME:GMT
DTSTART:20241027T010000
END:STANDARD
BEGIN:DAYLIGHT
TZOFFSETFROM:+0000
TZOFFSETTO:+0100
TZNAME:BST
DTSTART:20250330T010000
END:DAYLIGHT
BEGIN:STANDARD
TZOFFSETFROM:+0100
TZOFFSETTO:+0000
TZNAME:GMT
DTSTART:20251026T010000
END:STANDARD
BEGIN:DAYLIGHT
TZOFFSETFROM:+0000
TZOFFSETTO:+0100
TZNAME:BST
DTSTART:20260329T010000
END:DAYLIGHT
BEGIN:STANDARD
TZOFFSETFROM:+0100
TZOFFSETTO:+0000
TZNAME:GMT
DTSTART:20261025T010000
END:STANDARD
END:VTIMEZONE
BEGIN:VEVENT
DTSTART;TZID=Europe/London:20250509T100000
DTEND;TZID=Europe/London:20250509T120000
DTSTAMP:20260425T023801
CREATED:20250409T071032Z
LAST-MODIFIED:20250505T071006Z
UID:123448-1746784800-1746792000@keepcolchestercool.co.uk
SUMMARY:Dinosaur Adventure ROOOAAARRR!
DESCRIPTION:Come and have a ROOOAARRSOME time with everyone at Go Bananas. \nWith fabulous entertainment from The Only Way Is Entertainment Agency join us for some soft play fun with dancing and games. \nGo on a dino dig\, hunt for some fossils and identify the different dinosaurs. \nChildren’s ticket includes a themed snack box\, allergies can be catered for.
URL:https://keepcolchestercool.co.uk/event/dinosaur-adventure-roooaaarrr/
LOCATION:9-10 Mason Road\, Cowdray Centre\, CO11BX Colchester\, United Kingdom\, 9-10 Mason Road\, Cowdray Centre\, CO11BX Colchester\, United Kingdom
ORGANIZER;CN="Go Bananas":MAILTO:noreply@facebookmail.com
END:VEVENT
BEGIN:VEVENT
DTSTART;TZID=Europe/London:20250509T100000
DTEND;TZID=Europe/London:20250509T133000
DTSTAMP:20260425T023801
CREATED:20250409T071032Z
LAST-MODIFIED:20250509T070956Z
UID:123449-1746784800-1746797400@keepcolchestercool.co.uk
SUMMARY:JANE'S WALK 15: Together We Walk\, Together We Grow!
DESCRIPTION:A circular ‘growers’ walk from East Bay allotments (with Level Best) via High Woods Country Park up to the Together We Grow community garden\, a 2-acre site with orchards\, veg beds & poly tunnels (+tea/coffee & cake!)\, then returning to town via Mercers Farm allotments. With Clare Smee.  \nMeet: 10am\, East Bay allotments (what3words.com ///jolly.tags.dinner) (3m\, 3.5 hrs).  \nACCESSIBILITY: step-free\, and hard-surfaced paths except for within the allotment sites themselves\, where the terrain is grassy/earthen and uneven\, and the going is difficult for wheelchair users in particular. There are also some long medium-steep gradients on both outward and return journeys to High Woods (downhill on return).
URL:https://keepcolchestercool.co.uk/event/janes-walk-15-together-we-walk-together-we-grow/
LOCATION:East Bay\, Colchester\, CO1 2\, United Kingdom\, East Bay\, Colchester\, CO1 2\, United Kingdom
ORGANIZER;CN="Jane's Walk Colchester":MAILTO:noreply@facebookmail_com
END:VEVENT
BEGIN:VEVENT
DTSTART;TZID=Europe/London:20250509T131500
DTEND;TZID=Europe/London:20250509T151500
DTSTAMP:20260425T023801
CREATED:20250501T071026Z
LAST-MODIFIED:20250509T070957Z
UID:123946-1746796500-1746803700@keepcolchestercool.co.uk
SUMMARY:JANE'S WALK 16: Poetry in Motion - One Square Mile
DESCRIPTION:In 2023/24\, to celebrate the 125th anniversary of the school\, St. John’s Green Primary launched a multi-disciplinary project using history\, art\, geography and language to embrace the school’s place at the heart of our city. This year’s edition of the Poetry in Motion walk is a collaboration between the school and Essex Poetry Collective\, as a continuation of the legacy of this project. Visit some of Colchester’s best-known landmarks but through the eyes and words of some of the children from Year 5. With Billie Vasquez-Walters and members of the school community. \nMeet: 1.15pm\, St John’s Green Primary School (old site)\, CO2 7HE. End: Roman Circus Visitor Centre (1.8m\, 2hrs)  \nACCESSIBILITY:A city centre walk that is step-free and hard-surfaced. Entails some medium-steep gradients in short sections. \nPainting by Dianne Bibby\, St John’s Green School
URL:https://keepcolchestercool.co.uk/event/janes-walk-16-poetry-in-motion-one-square-mile/
LOCATION:CO2 7HE\, CO2 7HE
ORGANIZER;CN="Jane's Walk Colchester":MAILTO:noreply@facebookmail_com
END:VEVENT
BEGIN:VEVENT
DTSTART;TZID=Europe/London:20250509T160000
DTEND;TZID=Europe/London:20250509T210000
DTSTAMP:20260425T023801
CREATED:20250501T071026Z
LAST-MODIFIED:20250509T070957Z
UID:123948-1746806400-1746824400@keepcolchestercool.co.uk
SUMMARY:Beer & a Board Game Night
DESCRIPTION:On Friday 9th May we are holding our special Beer & a Board game offer! £6 for a beer or cider and game time for the whole evening! I can’t think of a better way to spend a Friday than a Beer & a Board Game!
URL:https://keepcolchestercool.co.uk/event/beer-a-board-game-night/
LOCATION:37 queen street\, CO1 2PQ Colchester\, United Kingdom\, 37 queen street\, CO1 2PQ Colchester\, United Kingdom
ORGANIZER;CN="Dice &amp%3B a Slice":MAILTO:noreply@facebookmail_com
END:VEVENT
BEGIN:VEVENT
DTSTART;TZID=Europe/London:20250509T173000
DTEND;TZID=Europe/London:20250509T193000
DTSTAMP:20260425T023801
CREATED:20250409T071032Z
LAST-MODIFIED:20250509T070957Z
UID:123451-1746811800-1746819000@keepcolchestercool.co.uk
SUMMARY:JANE'S WALK 17: The Dead\, the Undead and things that go bump off the scaffold
DESCRIPTION:All the ghosts you could want\, a walk over the bodies you didn’t even know were there\, and vivid descriptions from times gone by. A rollicking tour of Colchester for the Dead anD Undead. not for the faint hearted! With Max Fox. \nMeet: 5.30pm\, between the Mercury Theatre and Balkerne Gate (1m\, 2 hrs) \nACCESSIBILITY:A city centre walk that is step-free and hard-surfaced.
URL:https://keepcolchestercool.co.uk/event/janes-walk-17-the-dead-the-undead-and-things-that-go-bump-off-the-scaffold/
LOCATION:Mercury Theatre\, Colchester\, Colchester\, GB
ORGANIZER;CN="Jane's Walk Colchester":MAILTO:noreply@facebookmail_com
END:VEVENT
BEGIN:VEVENT
DTSTART;TZID=Europe/London:20250509T180000
DTEND;TZID=Europe/London:20250509T203000
DTSTAMP:20260425T023801
CREATED:20250409T071032Z
LAST-MODIFIED:20250509T070957Z
UID:123452-1746813600-1746822600@keepcolchestercool.co.uk
SUMMARY:Colchester - TWS On the Road - walkaround Tasting
DESCRIPTION:Join us for some darling wines of May in our latest roadshow\, taking the essence of The Wine Society around the country. We’ll have a premium selection of fine white wines\, a mini-Greek odyssey\, a journey around Portugal and the pick of brand new wines from our May list alongside a ‘just for fun’ blind wine challenge. Variety is the spice of life\, and there is plenty of variety to be had here.
URL:https://keepcolchestercool.co.uk/event/colchester-tws-on-the-road-walkaround-tasting/
LOCATION:Firstsite Colchester\, Firstsite Colchester
END:VEVENT
BEGIN:VEVENT
DTSTART;TZID=Europe/London:20250509T180000
DTEND;TZID=Europe/London:20250509T210000
DTSTAMP:20260425T023802
CREATED:20250501T071026Z
LAST-MODIFIED:20250509T070957Z
UID:123949-1746813600-1746824400@keepcolchestercool.co.uk
SUMMARY:Battletech @ Dice & a Slice
DESCRIPTION:Do you play the Battletech?The legendary wargame of giant Battlemechs fighting in the far future?Have you ever wanted to try it out?  \nCome along to Battletech meet-up! If you play Classic or Alpha Strike bring your Lances and Stars and get involved!  \nBeginners Welcome!
URL:https://keepcolchestercool.co.uk/event/battletech-dice-a-slice-2/
LOCATION:Dice & A Slice\, 37 Queen Street\, Colchester\, CO1 2PQ\, GB
ORGANIZER;CN="Dice &amp%3B a Slice":MAILTO:noreply@facebookmail_com
END:VEVENT
BEGIN:VEVENT
DTSTART;TZID=Europe/London:20250509T183000
DTEND;TZID=Europe/London:20250509T213000
DTSTAMP:20260425T023802
CREATED:20250501T071027Z
LAST-MODIFIED:20250509T070957Z
UID:123950-1746815400-1746826200@keepcolchestercool.co.uk
SUMMARY:SHINE
DESCRIPTION:S H I N E Our hugely popular Nightclub Event for Adults (over 16s) with Additional Needs  \nhttps://www.citizenticket.com/events/stanway-lakelands-community-centre-3/shine/  \n🗓️Friday 9th May⏰6:30-9:30📍Trilogy Nightclub🪩£5.00 per person- Support staff free 🎤Resident DJ- BRIANJAY playing all our favourite party tunes and club classics  \n🪩Free glow sticks for everyone 🪩
URL:https://keepcolchestercool.co.uk/event/shine/
LOCATION:Trilogy Colchester\, Trilogy Colchester
END:VEVENT
BEGIN:VEVENT
DTSTART;TZID=Europe/London:20250509T190000
DTEND;TZID=Europe/London:20250509T220000
DTSTAMP:20260425T023802
CREATED:20250321T071039Z
LAST-MODIFIED:20250509T070957Z
UID:122984-1746817200-1746828000@keepcolchestercool.co.uk
SUMMARY:Let There B/DC
DESCRIPTION:Share this showDates9 May 2025Venues:Colchester Arts CentreCategories:GIGSTickets £23.50.Doors open 7pm\, starts 7.45pm.This gig is for a standing audience. \nWhat makes AC/DC such an exciting\, pulse pounding band and how do we recreate the fire of their live performances? That’s the main question we asked ourselves when we fired up the rock and roll train that was to become LET THERE B/DC way back in February 2011. From the very start we knew it had to be raw\, exciting and authentic as possible. Recapturing the essence of an AC/DC performance was never going to be easy\, but countless fans have told us time and time again that we’ve succeeded and are the closest thing they’ve ever heard to the real thing. \nOur current five-man line-up have had AC/DC running through their veins since childhood and our passion for the music injects the venom into every 2 hours plus show that we play. We deliver all the favourites such as Highway to Hell\, Whole Lotta Rosie and Thunderstruck together with rare and seldom heard album tracks such as Walk All Over You\, Soul Stripper\, Kicked in The Teeth and many many more. With our 3 longest serving members consisting of Neil (Malcolm Young/Guitar)\, Paddy (Phil Rudd/Drums) and Steve (Cliff Williams/Bass) making up the ‘engine room’\, it gives Dave (Angus Young/Guitar) and Andrew (Brian Johnson/Bon Scott/Vocals) room to really fly and take our show to a whole new level. \nWe pride ourselves on never usually playing the same set list twice\, so you never know what you might hear! Whether you’ve been a fan from the very beginning or never seen us live before\, we go all out in every show to give you a night to remember for a very long time. \nThere’s only one thing left to say…… Are You Ready For A Good Time?!”
URL:https://keepcolchestercool.co.uk/event/let-there-b-dc/
LOCATION:Church St\, CO1 1NF Colchester\, United Kingdom
ORGANIZER;CN="Colchester Arts Centre":MAILTO:noreply@facebookmail_com
END:VEVENT
BEGIN:VEVENT
DTSTART;TZID=Europe/London:20250509T190000
DTEND;TZID=Europe/London:20250509T220000
DTSTAMP:20260425T023802
CREATED:20250324T071013Z
LAST-MODIFIED:20250509T070957Z
UID:123171-1746817200-1746828000@keepcolchestercool.co.uk
SUMMARY:Read through: Our Walk Through The World by Ross Howard
DESCRIPTION:Read through for ‘Our Walk Through The World’ by Ross Howard \nHeadgate Theatre Productions \nDirected by Forest Morgan \nPerformances: Wed 5th – Sat 8th November 2025 \nRead through: Friday 9th May 225 \nAudition workshops: Tuesday 24th and Wednesday 25th June 2025 \nFurther details to be announced
URL:https://keepcolchestercool.co.uk/event/read-through-our-walk-through-the-world-by-ross-howard/
LOCATION:14 Chapel Street North\, CO2 7AT Colchester\, United Kingdom\, 14 Chapel Street North\, CO2 7AT Colchester\, United Kingdom
ORGANIZER;CN="Headgate Theatre":MAILTO:noreply@facebookmail.com
END:VEVENT
BEGIN:VEVENT
DTSTART;TZID=Europe/London:20250509T190000
DTEND;TZID=Europe/London:20250509T224500
DTSTAMP:20260425T023802
CREATED:20250212T071032Z
LAST-MODIFIED:20250509T070957Z
UID:122412-1746817200-1746830700@keepcolchestercool.co.uk
SUMMARY:NOW! That's What I Call...DRAG! Me Back To The 00s! Colchester!
DESCRIPTION:Do you love all things 00s?! Are you a huge fan of drag?! Well shantay this way because “NOW! That’s What I Call…DRAG! Me Back To The 00s!” is HERE! \nCombining the iconic decade of the 00s with tons of camp\, comedy and chaos\, get ready for a classic slice of British drag cabaret as we travel back in time! Packed with iconic songs\, Top 40 classics and some iconic club bangers\, strap in for a trip down memory lane with fabulous lip synching\, stunning live vocals\, camp comedy\, audience games and of course…a soundtrack to die for! \nStarring some of East Anglia’s finest drag stars Knuckle Sandwich and Will Power (with special guests TBA!) you’ll be in for a night of camp\, colour and chaos! So whack out the velour tracksuits\, put the ‘ho’ back in boho chic and let’s get ready for the drag mixtape to begin! Trust us\, you won’t want it to end! \nThis event is seated\, with standing room available! Seating is first come\, first served! Please note the venue is upstairs and unfortunately\, is not wheelchair accessible. \nDoors at 7pm! Show at 7.45pm(ish)! \nThere will be limited tickets available on the door at £13 each \nPlease note: We unfortunately do not offer refunds – please message if you have any questions! \nNOTE: “NOW! That’s What I Call…DRAG!” is a queer led Drag Cabaret show\, and we strive to welcome all audiences into our events! We have a ZERO tolerance policy towards homophobia\, transphobia and all forms of abuse. The performers and the audiences deserve your respect at all times. If you do not respect everyone\, you will be asked to leave. \nWe kindly ask that ANY hen or stag party wanting to attend MUST message in advance of tickets being purchased. We reserve the right to refuse admittance if there is no prior contact\, and refunds will not be issued. Thank you.
URL:https://keepcolchestercool.co.uk/event/now-thats-what-i-call-drag-me-back-to-the-00s-colchester/
LOCATION:Three Wise Monkeys Colchester
ORGANIZER;CN="Knuckle Sandwich":MAILTO:noreply@facebookmail_com
END:VEVENT
BEGIN:VEVENT
DTSTART;TZID=Europe/London:20250509T193000
DTEND;TZID=Europe/London:20250509T221500
DTSTAMP:20260425T023802
CREATED:20250501T071028Z
LAST-MODIFIED:20250509T070957Z
UID:123953-1746819000-1746828900@keepcolchestercool.co.uk
SUMMARY:Colchester Rugby Club Presents  Big Jim's Interactive Pub Quiz normal Quiz
DESCRIPTION:Doors Open at 7pm Quiz starts at 8pm \nColchester Rugby Club in partnership with Big Jims Pub Quiz presents The Real 60 General knowledge quiz. The 2nd Friday of every Month.  \n“Get your phone’s or tablets charged and ready”  \nCRC presents a new way to quiz in a new Rugby Club in the heart of the new sports park in Colchester. Basket Meals avaiable on the night  \nBig Jim’s interactive quiz ditches the pens and papers and all your answers are put on your phone or any WiFi device.  \n60 general knowledge questions and the bonus game called the Quizzy 8. \nSo let’s get Quizzical without the need to scrum down all quizzes include both audio and picture questions.  \nFun for all the family PG13 quiz fun. £2 per person  \ndoors open at 7 quiz starts at 8.  \nquizzy quiz lovers
URL:https://keepcolchestercool.co.uk/event/colchester-rugby-club-presents-big-jims-interactive-pub-quiz-normal-quiz/
LOCATION:Colchester Rugby Club\, Cuckoo Farm Way\, Colchester\, CO4 5YX\, GB
ORGANIZER;CN="Big Jims Pub Quiz":MAILTO:noreply@facebookmail_com
END:VEVENT
END:VCALENDAR