BEGIN:VCALENDAR
VERSION:2.0
PRODID:-//Keep Colchester Cool - ECPv6.15.20//NONSGML v1.0//EN
CALSCALE:GREGORIAN
METHOD:PUBLISH
X-ORIGINAL-URL:https://keepcolchestercool.co.uk
X-WR-CALDESC:Events for Keep Colchester Cool
REFRESH-INTERVAL;VALUE=DURATION:PT1H
X-Robots-Tag:noindex
X-PUBLISHED-TTL:PT1H
BEGIN:VTIMEZONE
TZID:Europe/London
BEGIN:DAYLIGHT
TZOFFSETFROM:+0000
TZOFFSETTO:+0100
TZNAME:BST
DTSTART:20240331T010000
END:DAYLIGHT
BEGIN:STANDARD
TZOFFSETFROM:+0100
TZOFFSETTO:+0000
TZNAME:GMT
DTSTART:20241027T010000
END:STANDARD
BEGIN:DAYLIGHT
TZOFFSETFROM:+0000
TZOFFSETTO:+0100
TZNAME:BST
DTSTART:20250330T010000
END:DAYLIGHT
BEGIN:STANDARD
TZOFFSETFROM:+0100
TZOFFSETTO:+0000
TZNAME:GMT
DTSTART:20251026T010000
END:STANDARD
BEGIN:DAYLIGHT
TZOFFSETFROM:+0000
TZOFFSETTO:+0100
TZNAME:BST
DTSTART:20260329T010000
END:DAYLIGHT
BEGIN:STANDARD
TZOFFSETFROM:+0100
TZOFFSETTO:+0000
TZNAME:GMT
DTSTART:20261025T010000
END:STANDARD
END:VTIMEZONE
BEGIN:VEVENT
DTSTART;TZID=Europe/London:20250511T100000
DTEND;TZID=Europe/London:20250511T120000
DTSTAMP:20260425T023859
CREATED:20250423T071026Z
LAST-MODIFIED:20250511T070957Z
UID:123756-1746957600-1746964800@keepcolchestercool.co.uk
SUMMARY:JANE'S WALK 20: Jumbo - Portrait and Landscape. An art walk for children
DESCRIPTION:This walk gives children an introduction to Jumbo\, combined with the opportunity to draw and paint the iconic water tower close to and on the skyline. All materials provided. A walk for primary aged children\, 7-11 years.  \nPre-booking is required. To book\, please email: info@walkcolchester.org.uk giving this walk number.  \nAll children to be accompanied by an adult. With Clare Marsh.  \nMeet: 10am\, outside the Mercury Theatre (0.5m\, 1.5-2hrs). End: Hilly Fields. \nACCESSIBILITY: Step-free all the way. Part hard-surfaced\, part off-road with some earthen and gravel sections. Some medium to steep gradients downhill and up. Plenty of help on hand\, but please be in touch to discuss individual access issues.
URL:https://keepcolchestercool.co.uk/event/janes-walk-20-jumbo-portrait-and-landscape-an-art-walk-for-children/
LOCATION:Mercury Theatre Colchester\, Mercury Theatre Colchester
ORGANIZER;CN="Jane's Walk Colchester":MAILTO:noreply@facebookmail_com
END:VEVENT
BEGIN:VEVENT
DTSTART;TZID=Europe/London:20250511T100000
DTEND;TZID=Europe/London:20250511T160000
DTSTAMP:20260425T023859
CREATED:20250501T071032Z
LAST-MODIFIED:20250511T070957Z
UID:123959-1746957600-1746979200@keepcolchestercool.co.uk
SUMMARY:The Rec Community Market
DESCRIPTION:The Rec Community Market – Our Second Market is Coming! \nAfter a fantastic launch\, we’re back for round two—and it’s set to be even better! \n📅 Sunday 11th May⏰ 10:00 AM – 4:00 PM📍 Old Heath Recreation Ground\, Colchester (next to the play park)💥 Free Entry \nExpect a fun-filled day out with: \n25+ local stalls selling everything from crafts to tasty treats \nLive music to keep the good vibes going \nA bar serving refreshing drinks \nBouncy castles to keep the kids entertained \nFacepainting \nDog-friendly and fun for all ages \nBring your family\, friends\, and neighbours for a brilliant day supporting local businesses and enjoying the community spirit. \nSpread the word—tag your mates and share this post!We can’t wait to see you there!
URL:https://keepcolchestercool.co.uk/event/the-rec-community-market/
LOCATION:Old Heath Recreation Park\, Colchester\, CO1 2\, GB
END:VEVENT
BEGIN:VEVENT
DTSTART;TZID=Europe/London:20250511T103000
DTEND;TZID=Europe/London:20250511T130000
DTSTAMP:20260425T023859
CREATED:20240523T071131Z
LAST-MODIFIED:20250511T070957Z
UID:114863-1746959400-1746968400@keepcolchestercool.co.uk
SUMMARY:Colchester 10k 2025
DESCRIPTION:Join us at theColchester 10k on Sunday May 11th 2025 at 10:30 at the Garrison Athletics Track.Entries limited.Sign up early to avoid disappointment. \nhttp://colchester10k.com/enter-online/
URL:https://keepcolchestercool.co.uk/event/colchester-10k-2025/
LOCATION:Colchester Garrison Track\, Colchester Garrison Track
ORGANIZER;CN="Colchester10k":MAILTO:noreply@facebookmail.com
END:VEVENT
BEGIN:VEVENT
DTSTART;TZID=Europe/London:20250511T103000
DTEND;TZID=Europe/London:20250511T133000
DTSTAMP:20260425T023859
CREATED:20250501T071032Z
LAST-MODIFIED:20250511T070957Z
UID:123961-1746959400-1746970200@keepcolchestercool.co.uk
SUMMARY:Colchester 10k race.
DESCRIPTION:http://colchester10k.com/enter-online/
URL:https://keepcolchestercool.co.uk/event/colchester-10k-race/
LOCATION:Colchester Garrison Track\, Colchester Garrison Track
ORGANIZER;CN="Sue Lissimore":MAILTO:noreply@facebookmail_com
END:VEVENT
BEGIN:VEVENT
DTSTART;TZID=Europe/London:20250511T120000
DTEND;TZID=Europe/London:20250511T160000
DTSTAMP:20260425T023859
CREATED:20250501T071032Z
LAST-MODIFIED:20250511T070957Z
UID:123962-1746964800-1746979200@keepcolchestercool.co.uk
SUMMARY:JANE'S WALK JAZZ/CYCLE 21:  2nd Annual Pam Nelson Memorial Cycle Ride… with music!
DESCRIPTION:A round trip ride to Fingringhoe Nature Reserve via Friday Woods and back (mostly off-road\, suitable for most cyclists). With a refreshment stop at the reserve cafe for tea/coffee\, and music from Elmer van der Hoek and Frank Sebastian (with more at the Minories afterwards). Booking advisable (email: info@walkcolchester.org.uk). Please ensure bikes are roadworthy & the distance OK at a leisurely pace. With Neil Allen & Emily Harrup.  \nMeet: 12 noon\, outside St John’s Green Primary School\, CO2 7HE (approx. 12m return\, approx. 4 hrs). \nACCESSIBILITY: Open to all ages\, providing the distance is manageable at a leisurely pace and children are accompanied.
URL:https://keepcolchestercool.co.uk/event/janes-walk-jazz-cycle-21-2nd-annual-pam-nelson-memorial-cycle-ride-with-music/
LOCATION:CO2 7HE\, CO2 7HE
ORGANIZER;CN="Jane's Walk Colchester":MAILTO:noreply@facebookmail_com
END:VEVENT
BEGIN:VEVENT
DTSTART;TZID=Europe/London:20250511T130000
DTEND;TZID=Europe/London:20250511T160000
DTSTAMP:20260425T023859
CREATED:20250321T071040Z
LAST-MODIFIED:20250511T070958Z
UID:122989-1746968400-1746979200@keepcolchestercool.co.uk
SUMMARY:Acoustic Showcase
DESCRIPTION:Join us for an afternoon of incredible live music at the OMB Acoustic Showcase! Starting at 1pm\, immerse yourself in a vibrant array of acoustic performances by talented local artists. \nPerformers:Suzy CramerLuke FisherWoody Pearce \nTime: Music begins at 1pmHost: Sam Young \nCome and enjoy a relaxing Sunday filled with soulful tunes and great company. Don’t miss this opportunity to support local musicians and experience some fantastic acoustic sets!
URL:https://keepcolchestercool.co.uk/event/acoustic-showcase-10/
LOCATION:5-6 St Nicholas St\, CO1 1LB Colchester\, United Kingdom\, 5-6 St Nicholas St\, CO1 1LB Colchester\, United Kingdom
ORGANIZER;CN="Other Monkey Brewing - The Taproom":MAILTO:noreply@facebookmail_com
END:VEVENT
BEGIN:VEVENT
DTSTART;TZID=Europe/London:20250511T140000
DTEND;TZID=Europe/London:20250511T160000
DTSTAMP:20260425T023859
CREATED:20250409T071034Z
LAST-MODIFIED:20250511T070958Z
UID:123458-1746972000-1746979200@keepcolchestercool.co.uk
SUMMARY:JANE'S WALK 22: Seven Astonishing places\, people or things about Colchester
DESCRIPTION:Colchester is full of surprises. Some pretty amazing people who made the world a very different place.Local buildings and sites which may have more to them than you think.Join Dorian on one of his very different urban walks with poetry\, readings and pop-up surprises. With Dorian Kelly.  \nMeet: 2pm\, Colchester Arts Centre\, Church Walk CO1 1NF. End: The Minories Garden (1m\, 2hrs). \nACCESSIBILITY: This walk is fully wheelchair friendly\, on pavements and via footpaths with crossing points on drop pavements. However I plan to visit Hilly Fields\, where paths are unmade and can be challenging for wheelchair users. If need be though\, I will present this section from the street above. There is a slight uphill slope from Maidenburgh Street through the park.
URL:https://keepcolchestercool.co.uk/event/janes-walk-22-seven-astonishing-places-people-or-things-about-colchester/
LOCATION:Colchester Arts Centre\, Colchester Arts Centre
ORGANIZER;CN="Jane's Walk Colchester":MAILTO:noreply@facebookmail_com
END:VEVENT
BEGIN:VEVENT
DTSTART;TZID=Europe/London:20250511T140000
DTEND;TZID=Europe/London:20250511T170500
DTSTAMP:20260425T023859
CREATED:20250501T071033Z
LAST-MODIFIED:20250511T070958Z
UID:123963-1746972000-1746983100@keepcolchestercool.co.uk
SUMMARY:Cinema | National Theatre Live: The Importance of Being Earnest (12A)
DESCRIPTION:Showing at Firstsite Cinema – National Theatre Live: The Importance of Being Earnest (12A)! \nWhile assuming the role of a dutiful guardian in the country\, Jack lets loose in town under a false identity. \nMeanwhile\, his friend Algy adopts a similar facade. Hoping to impress two eligible ladies\, the gentlemen find themselves caught in a web of lies they must carefully navigate. \nMax Webster (Life of Pi) directs this hilarious story of identity\, impersonation and romance\, filmed live from the National Theatre in London.  \nBook now on our website or call us on 01206 713 700.
URL:https://keepcolchestercool.co.uk/event/cinema-national-theatre-live-the-importance-of-being-earnest-12a-2/
LOCATION:Lewis Gardens\, CO1 1JH Colchester\, United Kingdom
ORGANIZER;CN="Firstsite Colchester":MAILTO:noreply@facebookmail_com
END:VEVENT
BEGIN:VEVENT
DTSTART;TZID=Europe/London:20250511T143000
DTEND;TZID=Europe/London:20250511T163000
DTSTAMP:20260425T023859
CREATED:20250501T071033Z
LAST-MODIFIED:20250511T070958Z
UID:123964-1746973800-1746981000@keepcolchestercool.co.uk
SUMMARY:Colchester castle park bandstand
DESCRIPTION:Come and listen to the Saxophone quartet on the beautiful Victorian bandstand on a lovely sunny May afternoon
URL:https://keepcolchestercool.co.uk/event/colchester-castle-park-bandstand-3/
LOCATION:Colchester Castle Park\, Colchester Castle Park
END:VEVENT
BEGIN:VEVENT
DTSTART;TZID=Europe/London:20250511T163000
DTEND;TZID=Europe/London:20250511T193000
DTSTAMP:20260425T023859
CREATED:20250409T071034Z
LAST-MODIFIED:20250511T070958Z
UID:123459-1746981000-1746991800@keepcolchestercool.co.uk
SUMMARY:JANE'S WALK EVENT: End of festival PARTY
DESCRIPTION:Join us at The Commons Cafe to celebrate the close of another festival week\, with jazz from Elmer van der Hoek\, Frank Sebastian and friends.  \nVenue/Time: 4.30pm\, The Commons Cafe at The Minories (garden entrance).
URL:https://keepcolchestercool.co.uk/event/janes-walk-event-end-of-festival-party/
LOCATION:The Minories\, Colchester\, The Minories\, Colchester
ORGANIZER;CN="Jane's Walk Colchester":MAILTO:noreply@facebookmail_com
END:VEVENT
BEGIN:VEVENT
DTSTART;TZID=Europe/London:20250511T190000
DTEND;TZID=Europe/London:20250511T220000
DTSTAMP:20260425T023859
CREATED:20250501T071033Z
LAST-MODIFIED:20250511T070958Z
UID:123966-1746990000-1747000800@keepcolchestercool.co.uk
SUMMARY:The Tango Zone’s Argentine tango lesson + practica @Stanway Lakelands Centre\, Colchester
DESCRIPTION:🌟COME AND LEARN ARGENTINE TANGO IN COLCHESTER!🌟Join us at our next informal and friendly Argentine Tango lesson and practise session at the Stanway Lakelands Centre on SUNDAY 11th MAY 2025 from 7.00-10.00pm. ⏰Lesson for improvers from 7.00-7.45pm followed by dancing and practise from 7.45-10.00pm.💰Entry: lesson: £8 (including practica). Practica only £6.🏠Venue information: Stanway Lakeland’s Centre\, Western Approach\, Colchester\, CO3 8DX. Free parking available at the venue.  \nDancers of all levels welcome including absolute beginners! 💃🏻🕺🏻🎶 No need to book or bring a partner. Please bring a drink with you.We will have some water available and some biscuits to keep up the energy!  \nAttendance is at the risk and responsibility of the individual.
URL:https://keepcolchestercool.co.uk/event/the-tango-zones-argentine-tango-lesson-practica-stanway-lakelands-centre-colchester/
LOCATION:Stanway Lakelands Centre\, Stanway Lakelands Centre
ORGANIZER;CN="The Tango Zone":MAILTO:noreply@facebookmail.com
END:VEVENT
END:VCALENDAR