BEGIN:VCALENDAR
VERSION:2.0
PRODID:-//Keep Colchester Cool - ECPv6.15.20//NONSGML v1.0//EN
CALSCALE:GREGORIAN
METHOD:PUBLISH
X-WR-CALNAME:Keep Colchester Cool
X-ORIGINAL-URL:https://keepcolchestercool.co.uk
X-WR-CALDESC:Events for Keep Colchester Cool
REFRESH-INTERVAL;VALUE=DURATION:PT1H
X-Robots-Tag:noindex
X-PUBLISHED-TTL:PT1H
BEGIN:VTIMEZONE
TZID:Europe/London
BEGIN:DAYLIGHT
TZOFFSETFROM:+0000
TZOFFSETTO:+0100
TZNAME:BST
DTSTART:20240331T010000
END:DAYLIGHT
BEGIN:STANDARD
TZOFFSETFROM:+0100
TZOFFSETTO:+0000
TZNAME:GMT
DTSTART:20241027T010000
END:STANDARD
BEGIN:DAYLIGHT
TZOFFSETFROM:+0000
TZOFFSETTO:+0100
TZNAME:BST
DTSTART:20250330T010000
END:DAYLIGHT
BEGIN:STANDARD
TZOFFSETFROM:+0100
TZOFFSETTO:+0000
TZNAME:GMT
DTSTART:20251026T010000
END:STANDARD
BEGIN:DAYLIGHT
TZOFFSETFROM:+0000
TZOFFSETTO:+0100
TZNAME:BST
DTSTART:20260329T010000
END:DAYLIGHT
BEGIN:STANDARD
TZOFFSETFROM:+0100
TZOFFSETTO:+0000
TZNAME:GMT
DTSTART:20261025T010000
END:STANDARD
END:VTIMEZONE
BEGIN:VEVENT
DTSTART;TZID=Europe/London:20250513T120000
DTEND;TZID=Europe/London:20250513T180000
DTSTAMP:20260425T023802
CREATED:20250501T071034Z
LAST-MODIFIED:20250513T070958Z
UID:123968-1747137600-1747159200@keepcolchestercool.co.uk
SUMMARY:Launch Festival 2025
DESCRIPTION:The Department of Literature\, Film and Theatre Studies present their annual Launch Festival! Where undergraduate Drama students present their final degree pieces in a four day festival across both Lakeside Theatre stages. \nTickets to this event are free to all! Day tickets will allow you access to all performances that day\, please book in advance if possible. Please book tickets for multiple days if you plan to attend more than one day!  \nBook your free tickets: https://lakesidetheatre.org.uk/events/launch-festival-2025/ \nProgramme:Day 1 (Tuesday 13 May) \n– 12pm to 1.15pm: Working Title TBC\, by Melinda Hett\, Tayi Mavunga-Akinti\, and Sharon Adebayo“A Macbeth inspired show about revenge and murder” \n– 1.15pm to 2pm: Amy Dunne and Lady Macbeth\, by Chloe Bareham \n– 2pm to 2.45pm: Taylor: An actor’s journey playing Hamlet – suicide and mental health\, by Tyler Woodhouse \n– 2.45pm to 3.30pm: Working Title TBC\, by Lolly Taylor“A daughter confronts her father about the sexual abuse he subjected her to as a child (monologue – experimenting with various theatrical genres including Shakespearean tragedy/early modern\, Brechtian etc.)” \n– 3.30pm to 4.15pm: Lost/Found/Lost/Found\, by Nathan Burke“A man looks back to his younger\, freer\, vibrant self” \n– 4.15pm to 5pm: Working Title TBC\, by Katie Spelman (Studio)“A play about a breakup” \n– 5pm to 5.30pm: Young Carers\, by Jess Brooks“A Young carer struggles with caring for her disabled father”
URL:https://keepcolchestercool.co.uk/event/launch-festival-2025/
LOCATION:Lakeside Theatre\, University of Essex\, Wivenhoe Park\, Colchester\, CO4 3SQ\, GB
ORGANIZER;CN="Lakeside Theatre":MAILTO:noreply@facebookmail_com
END:VEVENT
BEGIN:VEVENT
DTSTART;TZID=Europe/London:20250513T183000
DTEND;TZID=Europe/London:20250513T203000
DTSTAMP:20260425T023802
CREATED:20250409T071034Z
LAST-MODIFIED:20250513T070958Z
UID:123460-1747161000-1747168200@keepcolchestercool.co.uk
SUMMARY:Build a Terrarium Workshop
DESCRIPTION:Build your own open terrarium \n£35pp \nJoin us at The Romano Lounge where you will build an open terrarium. \nNo prior experience or skills are needed. \nWhat you will learn• How to make a terrarium• What tools to use• What techniques to use• How to look after your terrarium \nWhat is included• All materials; glass terrarium\, stones\, earth\, plants• A hot beverage and cake \nSpaces are limited\, so be sure to reserve your spot now! \nBook directly via PayPal or bank transfer or via eventbrite:https://www.eventbrite.co.uk/e/1298431877699?aff=oddtdtcreator
URL:https://keepcolchestercool.co.uk/event/build-a-terrarium-workshop-3/
LOCATION:Romano Lounge\, Romano Lounge
ORGANIZER;CN="The Creative Workshop Company":MAILTO:noreply@facebookmail.com
END:VEVENT
BEGIN:VEVENT
DTSTART;TZID=Europe/London:20250513T194500
DTEND;TZID=Europe/London:20250513T224500
DTSTAMP:20260425T023802
CREATED:20250501T071035Z
LAST-MODIFIED:20250513T070958Z
UID:123969-1747165500-1747176300@keepcolchestercool.co.uk
SUMMARY:Camelot
DESCRIPTION:Platform MusicalsLERNER & LOEWE’SCAMELOTBook & Lyrics by ALAN JAY LERNER Music by FREDERICK LOEWE  \nThis amateur production is presented by arrangement with Music Theatre InternationalAll authorised performance materials are also supplied by MTI http://www.mtishows.co.uk \nWith an extraordinary score that features the romantic “If Ever I Would Leave You”. the iconic title song and the exuberant “Lusty Month of May”\, Platform Musicals is proud to present this majestic & poignant musical play that brings the classic tale of the noble King Arthur\, his beautiful Queen Guinevere\, and the Knights of the Round Table\, lead by the handsome Sir Lancelot\, to magical life! Directed by Caroline Fritz\, with an award-winning company of 25 actors\, book your tickets early to avoid disappointment! \nhttps://www.facebook.com/events/1185855499624117/?event_time_id=1185855512957449
URL:https://keepcolchestercool.co.uk/event/camelot/
LOCATION:Headgate Theatre\, Headgate Theatre
ORGANIZER;CN="Platform Musicals":MAILTO:noreply@facebookmail_com
END:VEVENT
END:VCALENDAR