BEGIN:VCALENDAR
VERSION:2.0
PRODID:-//Keep Colchester Cool - ECPv6.15.20//NONSGML v1.0//EN
CALSCALE:GREGORIAN
METHOD:PUBLISH
X-WR-CALNAME:Keep Colchester Cool
X-ORIGINAL-URL:https://keepcolchestercool.co.uk
X-WR-CALDESC:Events for Keep Colchester Cool
REFRESH-INTERVAL;VALUE=DURATION:PT1H
X-Robots-Tag:noindex
X-PUBLISHED-TTL:PT1H
BEGIN:VTIMEZONE
TZID:Europe/London
BEGIN:DAYLIGHT
TZOFFSETFROM:+0000
TZOFFSETTO:+0100
TZNAME:BST
DTSTART:20240331T010000
END:DAYLIGHT
BEGIN:STANDARD
TZOFFSETFROM:+0100
TZOFFSETTO:+0000
TZNAME:GMT
DTSTART:20241027T010000
END:STANDARD
BEGIN:DAYLIGHT
TZOFFSETFROM:+0000
TZOFFSETTO:+0100
TZNAME:BST
DTSTART:20250330T010000
END:DAYLIGHT
BEGIN:STANDARD
TZOFFSETFROM:+0100
TZOFFSETTO:+0000
TZNAME:GMT
DTSTART:20251026T010000
END:STANDARD
BEGIN:DAYLIGHT
TZOFFSETFROM:+0000
TZOFFSETTO:+0100
TZNAME:BST
DTSTART:20260329T010000
END:DAYLIGHT
BEGIN:STANDARD
TZOFFSETFROM:+0100
TZOFFSETTO:+0000
TZNAME:GMT
DTSTART:20261025T010000
END:STANDARD
END:VTIMEZONE
BEGIN:VEVENT
DTSTART;TZID=Europe/London:20250514T183000
DTEND;TZID=Europe/London:20250514T213000
DTSTAMP:20260425T023755
CREATED:20250409T071034Z
LAST-MODIFIED:20250514T071006Z
UID:123461-1747247400-1747258200@keepcolchestercool.co.uk
SUMMARY:TALES OF TIME @ CODA COLCHESTER 14/5/25
DESCRIPTION:Impious Spirit Productions presents Tales of Time at Coda Colchester\, on Wednesday 14th May 2025! \nUK Symphonic Metal quintet Tales of Time embark on their first ever headline shows this May\, playing songs from their debut EP “The Journey”! \nFor fans of Epica\, Nightwish\, Children of Bodom and Wintersun\, Tales of Time are a band not to be missed\, and their stage show is one you’ll never forget! \nSupport from Draugrheim\, ChemiQueen and Sinners In The City! \n18:30 Doors \n£10otd/£8adv
URL:https://keepcolchestercool.co.uk/event/tales-of-time-coda-colchester-14-5-25/
LOCATION:Coda Colchester\, Coda Colchester
ORGANIZER;CN="Impious Spirit Productions":MAILTO:noreply@facebookmail_com
END:VEVENT
BEGIN:VEVENT
DTSTART;TZID=Europe/London:20250514T193000
DTEND;TZID=Europe/London:20250514T223000
DTSTAMP:20260425T023755
CREATED:20250513T070959Z
LAST-MODIFIED:20250514T071006Z
UID:124183-1747251000-1747261800@keepcolchestercool.co.uk
SUMMARY:Wonderful Wednesdays - Dr Ergo Phizmiz and Lottie Bowater: Gala
DESCRIPTION:Pay what you can affordDoors open 7:30 pm\, Show starts 8 pmThis show is for a seated audience \nGALA A Disco Opera \nEnter into a world of sex\, glamour and Surrealism in the self-created royal court of the art world’s most bespangled and amorous glitterati\, in a disco inferno of lust\, faith and money. \nGala – wife of Salvador – Dali\, was a complex woman. The poet Paul Eluard said of her\, “Her gaze could pierce walls”\, becoming a muse to a generation of artists. Conversely\, she was renowned for her cruelty\, her selfishness and greed. By the late 1970s\, the Dali’s business empire was the diamond laden cash cow of the art world\, and the Dali’s held court over an excessive and debauched coterie of hangers on and opportunists. \nEnter Jesus Christ Superstar\, fresh from Broadway. For the first time\, this rockin’ Messiah steals away and melts Mrs Dali’s stone heart. This show\, based on a true story\, is a revival and expansion of a piece originally created for Tete a Tete Opera and previously revived at Arcola’s Grimeborn Festival. “Gala” is a wild disco opera about one day in the life of Madame Dali and her idol\, Jesus Christ Superstar. \nWritten and directed by the renowned and controversial polymath Dr Ergo Phizmiz\, and starring singer / model Lottie Bowater (aka Depresstival) in their first full length dramatic performance\, “Gala” offers a searing and satirical insight into the inner lives of the art world’s super rich in the age of disco.
URL:https://keepcolchestercool.co.uk/event/wonderful-wednesdays-dr-ergo-phizmiz-and-lottie-bowater-gala/
LOCATION:Church St\, CO1 1NF Colchester\, United Kingdom
ORGANIZER;CN="Colchester Arts Centre":MAILTO:noreply@facebookmail_com
END:VEVENT
BEGIN:VEVENT
DTSTART;TZID=Europe/London:20250514T193000
DTEND;TZID=Europe/London:20250514T224500
DTSTAMP:20260425T023755
CREATED:20250501T071035Z
LAST-MODIFIED:20250514T071007Z
UID:123970-1747251000-1747262700@keepcolchestercool.co.uk
SUMMARY:Wednesday Night Open Mic @ The Victoria Inn
DESCRIPTION:It’s Open Mic Night!Bring yourself… or send your friends in place of you…. or come with your friends and get involved.Bring your instruments or borrow mine (Guitar\, Piano\, Cajon & Mics provided).*We run a sign up board & work through the names in order & attendance prioritising those who arrive before 9.*The sign up board goes up around 7:30 & the mic goes live around 8:00. *We wrap up for 10:45.*Performers usually get 2-3 songs (up to 15 minutes in total) but this depends the number of participants on the night.
URL:https://keepcolchestercool.co.uk/event/wednesday-night-open-mic-the-victoria-inn-5/
LOCATION:The Victoria Pub\, The Victoria Pub
ORGANIZER;CN="Stu E Skinner":MAILTO:noreply@facebookmail_com
END:VEVENT
END:VCALENDAR