BEGIN:VCALENDAR
VERSION:2.0
PRODID:-//Keep Colchester Cool - ECPv6.15.20//NONSGML v1.0//EN
CALSCALE:GREGORIAN
METHOD:PUBLISH
X-WR-CALNAME:Keep Colchester Cool
X-ORIGINAL-URL:https://keepcolchestercool.co.uk
X-WR-CALDESC:Events for Keep Colchester Cool
REFRESH-INTERVAL;VALUE=DURATION:PT1H
X-Robots-Tag:noindex
X-PUBLISHED-TTL:PT1H
BEGIN:VTIMEZONE
TZID:Europe/London
BEGIN:DAYLIGHT
TZOFFSETFROM:+0000
TZOFFSETTO:+0100
TZNAME:BST
DTSTART:20240331T010000
END:DAYLIGHT
BEGIN:STANDARD
TZOFFSETFROM:+0100
TZOFFSETTO:+0000
TZNAME:GMT
DTSTART:20241027T010000
END:STANDARD
BEGIN:DAYLIGHT
TZOFFSETFROM:+0000
TZOFFSETTO:+0100
TZNAME:BST
DTSTART:20250330T010000
END:DAYLIGHT
BEGIN:STANDARD
TZOFFSETFROM:+0100
TZOFFSETTO:+0000
TZNAME:GMT
DTSTART:20251026T010000
END:STANDARD
BEGIN:DAYLIGHT
TZOFFSETFROM:+0000
TZOFFSETTO:+0100
TZNAME:BST
DTSTART:20260329T010000
END:DAYLIGHT
BEGIN:STANDARD
TZOFFSETFROM:+0100
TZOFFSETTO:+0000
TZNAME:GMT
DTSTART:20261025T010000
END:STANDARD
END:VTIMEZONE
BEGIN:VEVENT
DTSTART;TZID=Europe/London:20250522T220000
DTEND;TZID=Europe/London:20250526T020000
DTSTAMP:20260425T023802
CREATED:20250521T071131Z
LAST-MODIFIED:20250526T070958Z
UID:124353-1747951200-1748224800@keepcolchestercool.co.uk
SUMMARY:Rubix Birthday Weekender!
DESCRIPTION:4 nights of clubbing \, Drinking\, dancing and partying to celebrate our 6th Birthday here in Colchester! \n4 DJs over 4 nights\, huge drinks deals and Free Entry on Thursday\, Friday & Bank Holiday Sunday! \nThursday night – 10pm till 2am! Live DJ\, Free Entry & 25% off ALL Drinks!🍷 🍺 🍾  \nFriday night – Karaoke 🎤 till midnight followed by Pop Friday with the biggest Pop Party & Dance Anthems to kick start your weekend plus Free Entry & 2 Cocktails 🍹 for £8! \nSaturday is the big one! Retro classics from 70s Disco\, 80s & 90s throwback and a cheeky naughties & now set chucked in also! Oh and yes we will have 🍰 \nFree Entry before 11pm\, Giant Video wall\, 2 DJs over 2 Floors\, Retro Sweet Shop🍭 & 2 Cocktails 🍸 for £8! \nPlus if you like your tunes cheesy join DJ Bobes for Pop in the Loft upstairs Saturday from 11pm! 🧀 \nSunday – Doors open 9pm & it’s Free Entry! Party into Bank Holiday Monday with Andy Scott! It’s you Say it\, We play it night\, so you pick the tunes and enjoy dancing 🕺to them! Huge Drinks deals and feel good vibes all night! \nRubix Bar & Nightclub – Bringing the good times back to Colchester!
URL:https://keepcolchestercool.co.uk/event/rubix-birthday-weekender/
LOCATION:Rubix Bar\, Rubix Bar
ORGANIZER;CN="Rubix Bar":MAILTO:noreply@facebookmail_com
END:VEVENT
BEGIN:VEVENT
DTSTART;TZID=Europe/London:20250524T100000
DTEND;TZID=Europe/London:20250524T130000
DTSTAMP:20260425T023802
CREATED:20250423T071030Z
LAST-MODIFIED:20250524T070956Z
UID:123762-1748080800-1748091600@keepcolchestercool.co.uk
SUMMARY:INTRODUCTION TO DRIVING WORKSHOP
DESCRIPTION:Ready to get behind the wheel but don’t know where to start? Join us for our Introduction to Driving Workshop—a beginner-friendly session designed to help new drivers feel confident\, informed\, and prepared for the road ahead. \nThis workshop covers the basics of driving\, including road safety\, traffic signs\, vehicle controls\, and what to expect during driving lessons. Whether you’re a teen preparing for your first license or an adult learning to drive later in life\, this is the perfect place to begin. \nLed by myself\, Sophie\, with 12 years experience\, this interactive session includes a Q&A\, practical tips\, and resources to help you take the next steps toward becoming a licensed driver. \nWho is this great for:• First-time drivers• Parents of teen drivers• Adults learning to drive later in life \nThis is a small-group\, classroom-style session—there’s no actual driving involved\, which makes it ideal for anyone feeling nervous or anxious about learning to drive. The supportive environment allows for questions\, discussion\, and a pressure-free way to ease into the world of driving. \nNo prior driving experience is necessary—just bring your curiosity and a willingness to learn!
URL:https://keepcolchestercool.co.uk/event/introduction-to-driving-workshop/
LOCATION:Mercury Theatre Colchester\, Mercury Theatre Colchester
END:VEVENT
BEGIN:VEVENT
DTSTART;TZID=Europe/London:20250524T100000
DTEND;TZID=Europe/London:20250524T130000
DTSTAMP:20260425T023802
CREATED:20250521T071132Z
LAST-MODIFIED:20250524T070956Z
UID:124354-1748080800-1748091600@keepcolchestercool.co.uk
SUMMARY:en-form Charity Sale
DESCRIPTION:GEMS are holding a fund raising event for en-formLadies’\, Men’s & Children’s Clothes and ShoesBedding and SundriesBooks\, DVDs\, and CDsFill a Bag –£2.50 (Bags Provided)Any questions please contact goldenyearsgroups@yahoo.com
URL:https://keepcolchestercool.co.uk/event/en-form-charity-sale/
LOCATION:Colchester Arts Centre\, Colchester Arts Centre
END:VEVENT
BEGIN:VEVENT
DTSTART;TZID=Europe/London:20250524T100000
DTEND;TZID=Europe/London:20250524T170000
DTSTAMP:20260425T023802
CREATED:20250521T071133Z
LAST-MODIFIED:20250524T070957Z
UID:124356-1748080800-1748106000@keepcolchestercool.co.uk
SUMMARY:Knights & Dragons Trail
DESCRIPTION:From the 24th May through the 1st of June\, pick up a fun paper trail and explore Colchester Castle on a quest filled with knights and dragons! \nFollow the clues\, solve puzzles\, and spot legendary characters as you journey through history. This simple\, self-guided adventure is perfect for younger visitors aged 6+. Grab your trail sheet and let the fun begin! \nTrail sheets cost £5 (after purchasing an admission ticket) and include a prize at the end. Booking is not required; simply buy your trail at the front desk upon arrival. \nhttps://www.facebook.com/events/708228038323425/?event_time_id=708228044990091
URL:https://keepcolchestercool.co.uk/event/knights-dragons-trail/
LOCATION:Colchester Castle\, Colchester Castle
ORGANIZER;CN="Colchester Museums":MAILTO:noreply@facebookmail.com
END:VEVENT
BEGIN:VEVENT
DTSTART;TZID=Europe/London:20250524T113000
DTEND;TZID=Europe/London:20250525T220000
DTSTAMP:20260425T023802
CREATED:20241203T071054Z
LAST-MODIFIED:20250525T071017Z
UID:120726-1748086200-1748210400@keepcolchestercool.co.uk
SUMMARY:Frating Beer and Music Festival  Kings  Arms
DESCRIPTION:First band start 12:30 last band start 8pm festival finishes 10pmWill be open from 11:30am \nMAYFESTIVAL INFORMATION-If you are driving to the Festival-Please park at\, CO7 7DW. Random house Please no parking on A133 or local village.Our car park will be closed to the public\, to allow easy access for the bands. There will be someone there to direct you.No cars are to be left in the car park overnight.PLEASE NOTE- The Outside bar and stalls will be CASH.Inside bars\, you will be able to use cards \nFrating beer and music festival Colchester’s best pub festival\, 8 of the best local bands over 2 days\, headlining acts\, Saturday Oasiz\, Sunday\, stiff in the morning.Wristbands are available to purchase now !!!!!!£10 each from the bar cash!!! Card transaction: £2.50 extra charge per wristband. Wristbands can be collected at the gate on the day. Quoting name and reference number.hog roast\, barbecue\, bouncy castles\, face painting. .Once again\, the event will take place under a massive marquee. With security onsite. Parking will be made available nearer the time\, but we do advise using public transport. We will be raising money for a charity once again. Last year we raised over £1000 for Lennox. This year we have decided to raise funds for Colchester and Ipswich Hospitals Charity. The funds will go to the cancer wellbeing centre at Colchester hospital.  \nwe are not offering any vendor spaces\, the event is all organised.  \nYou cannot bring any alcohol or food onto the festival site; all food and beverages must be purchased within the festival grounds. Security will be checking.  \nPlease do not be scammed wristbands only available at the bar
URL:https://keepcolchestercool.co.uk/event/frating-beer-and-music-festival-kings-arms/
LOCATION:Main Road\, Colchester
ORGANIZER;CN="Kings Arms%2C Frating%2C Essex":MAILTO:noreply@facebookmail.com
END:VEVENT
BEGIN:VEVENT
DTSTART;TZID=Europe/London:20250524T143000
DTEND;TZID=Europe/London:20250524T173000
DTSTAMP:20260425T023802
CREATED:20250423T071030Z
LAST-MODIFIED:20250524T070957Z
UID:123764-1748097000-1748107800@keepcolchestercool.co.uk
SUMMARY:Colchester Castle Park Bandstand
DESCRIPTION:Free concert on the bandstand\, playing 2.30pm – 5.00pm
URL:https://keepcolchestercool.co.uk/event/colchester-castle-park-bandstand-2/
LOCATION:Colchester Castle Park Bandstand\, Colchester Castle Park Bandstand
ORGANIZER;CN="Sweeting Swing Band":MAILTO:noreply@facebookmail_com
END:VEVENT
BEGIN:VEVENT
DTSTART;TZID=Europe/London:20250524T150000
DTEND;TZID=Europe/London:20250524T173000
DTSTAMP:20260425T023802
CREATED:20250501T071042Z
LAST-MODIFIED:20250524T070957Z
UID:123987-1748098800-1748107800@keepcolchestercool.co.uk
SUMMARY:CODA - Acoustic Showcase
DESCRIPTION:A Saturday afternoon showcase featuring:Sun MachineBearFootSoul featuring Matt WhiteStu E Skinner (Hosting)Event Info:A weekly event featuring 3 to 5 acts performing live acoustic sets between 3-5:30pm.Hot & cold beverages served from 2:30pm onwards.This is a family friendly event so younglings are welcome providing they’re properly managed.Mics\, pa and backline are provided but performers are welcome to bring their own microphones etc
URL:https://keepcolchestercool.co.uk/event/coda-acoustic-showcase-44/
LOCATION:63 High street\, co1 1dn Colchester\, United Kingdom\, 63 High street\, co1 1dn Colchester\, United Kingdom
ORGANIZER;CN="Piggyfy Live - Acoustic Showcase - Coda":MAILTO:noreply@facebookmail.com
END:VEVENT
BEGIN:VEVENT
DTSTART;TZID=Europe/London:20250524T150000
DTEND;TZID=Europe/London:20250524T180000
DTSTAMP:20260425T023802
CREATED:20250409T071037Z
LAST-MODIFIED:20250524T070957Z
UID:123475-1748098800-1748109600@keepcolchestercool.co.uk
SUMMARY:Back to Appalachia Tour at CODA Colchester Acoustic Showcase
DESCRIPTION:Free Entry \nAs part of CODA Colchester’s Acoustic Sessions\, following Stu Skinner’s opener\, BearFootSoul – Matt White (ex front man from Swagger\, WhiteOut and Matt White & The Emulsions) will tread the boards\, serving up a solo acoustic-fuelled heaping helping of authentically soul-powered roots\, blues\, country\, Americana original and classic favourites!Sun Machine will top off the sessions for a great round-up of unplugged goodness to satiate your Saturday appetite.
URL:https://keepcolchestercool.co.uk/event/back-to-appalachia-tour-at-coda-colchester-acoustic-showcase/
LOCATION:Coda Colchester\, Coda Colchester
END:VEVENT
BEGIN:VEVENT
DTSTART;TZID=Europe/London:20250524T160000
DTEND;TZID=Europe/London:20250524T220000
DTSTAMP:20260425T023802
CREATED:20250513T071006Z
LAST-MODIFIED:20250524T070958Z
UID:124207-1748102400-1748124000@keepcolchestercool.co.uk
SUMMARY:Pizza & Wine in the Vines
DESCRIPTION:4-10pm.Bring chairs if you can! Free parking on siteNo picnics please Dress for the weather! No dogs to our evening events please.Gluten free and vegan options available. Book tickets online!
URL:https://keepcolchestercool.co.uk/event/pizza-wine-in-the-vines/
LOCATION:Thorrington Mill Vineyard\, Thorrington Mill Vineyard
ORGANIZER;CN="Thorrington Mill Vineyard":MAILTO:noreply@facebookmail.com
END:VEVENT
BEGIN:VEVENT
DTSTART;TZID=Europe/London:20250524T190000
DTEND;TZID=Europe/London:20250524T220000
DTSTAMP:20260425T023802
CREATED:20250521T071133Z
LAST-MODIFIED:20250524T070958Z
UID:124357-1748113200-1748124000@keepcolchestercool.co.uk
SUMMARY:80s night
DESCRIPTION:A fun evening celebrating the the music of the 80’s
URL:https://keepcolchestercool.co.uk/event/80s-night/
LOCATION:1-2 Castle Road\, Colchester\, 1-2 Castle Road\, Colchester
ORGANIZER;CN="The Foresters Arms":MAILTO:noreply@facebookmail_com
END:VEVENT
BEGIN:VEVENT
DTSTART;TZID=Europe/London:20250524T193000
DTEND;TZID=Europe/London:20250524T223000
DTSTAMP:20260425T023802
CREATED:20250522T071007Z
LAST-MODIFIED:20250524T070958Z
UID:124410-1748115000-1748125800@keepcolchestercool.co.uk
SUMMARY:Keep Colchester Cool presents Colchester's Sound 6
DESCRIPTION:GIGSTickets £7.Doors open 7.30pm\, starts 8pm.This gig is for a standing audience. \nOur local showcase night in partnership with KEEP COLCHESTER COOL returns! This time featuring… \nIndie Rock from F.O.L…https://folmusic.co.uk/ \nHeady Grunge -Rock from ELEPHANT JANE…https://elephantjaneband.wixsite.com/elephantjane \nMelodious indie from THIS IS SOPHIE’S…https://www.facebook.com/people/this-is-sophies/ \nNUKLEOPATRA’s poignant lyrics take aim at tech corporations\, the fossil fuel industry\, and social media\, crafting a soundtrack for the impending apocalypse inspired by industrial\, hyperpop\, and hiphop. Colchester’s own doomsday prepper princess combines sampling and songwriting for a set of tightly produced techno-pessimist bangers.https://open.spotify.com/artist/3IcLcOCXsoTVQvqwNLUeEP
URL:https://keepcolchestercool.co.uk/event/keep-colchester-cool-presents-colchesters-sound-6/
LOCATION:Church St\, CO1 1NF Colchester\, United Kingdom
ORGANIZER;CN="Colchester Arts Centre":MAILTO:noreply@facebookmail_com
END:VEVENT
BEGIN:VEVENT
DTSTART;TZID=Europe/London:20250524T200000
DTEND;TZID=Europe/London:20250524T230000
DTSTAMP:20260425T023802
CREATED:20240523T071132Z
LAST-MODIFIED:20250524T070958Z
UID:114866-1748116800-1748127600@keepcolchestercool.co.uk
SUMMARY:Rhod Gilbert & the Giant Grapefruit
DESCRIPTION:Sale Dates and Times: \nPublic Onsale : Fri\, 29 Sep 2023 at 10:00 AM \nTicketmaster Presale : Wed\, 27 Sep 2023 at 10:00 AM
URL:https://keepcolchestercool.co.uk/event/rhod-gilbert-the-giant-grapefruit/
LOCATION:Colchester Charter Hall\, Colchester Charter Hall
ORGANIZER;CN="Ticketmaster Events":MAILTO:noreply@facebookmail_com
END:VEVENT
END:VCALENDAR