BEGIN:VCALENDAR
VERSION:2.0
PRODID:-//Keep Colchester Cool - ECPv6.15.20//NONSGML v1.0//EN
CALSCALE:GREGORIAN
METHOD:PUBLISH
X-ORIGINAL-URL:https://keepcolchestercool.co.uk
X-WR-CALDESC:Events for Keep Colchester Cool
REFRESH-INTERVAL;VALUE=DURATION:PT1H
X-Robots-Tag:noindex
X-PUBLISHED-TTL:PT1H
BEGIN:VTIMEZONE
TZID:Europe/London
BEGIN:DAYLIGHT
TZOFFSETFROM:+0000
TZOFFSETTO:+0100
TZNAME:BST
DTSTART:20240331T010000
END:DAYLIGHT
BEGIN:STANDARD
TZOFFSETFROM:+0100
TZOFFSETTO:+0000
TZNAME:GMT
DTSTART:20241027T010000
END:STANDARD
BEGIN:DAYLIGHT
TZOFFSETFROM:+0000
TZOFFSETTO:+0100
TZNAME:BST
DTSTART:20250330T010000
END:DAYLIGHT
BEGIN:STANDARD
TZOFFSETFROM:+0100
TZOFFSETTO:+0000
TZNAME:GMT
DTSTART:20251026T010000
END:STANDARD
BEGIN:DAYLIGHT
TZOFFSETFROM:+0000
TZOFFSETTO:+0100
TZNAME:BST
DTSTART:20260329T010000
END:DAYLIGHT
BEGIN:STANDARD
TZOFFSETFROM:+0100
TZOFFSETTO:+0000
TZNAME:GMT
DTSTART:20261025T010000
END:STANDARD
END:VTIMEZONE
BEGIN:VEVENT
DTSTART;TZID=Europe/London:20250522T220000
DTEND;TZID=Europe/London:20250526T020000
DTSTAMP:20260425T023859
CREATED:20250521T071131Z
LAST-MODIFIED:20250526T070958Z
UID:124353-1747951200-1748224800@keepcolchestercool.co.uk
SUMMARY:Rubix Birthday Weekender!
DESCRIPTION:4 nights of clubbing \, Drinking\, dancing and partying to celebrate our 6th Birthday here in Colchester! \n4 DJs over 4 nights\, huge drinks deals and Free Entry on Thursday\, Friday & Bank Holiday Sunday! \nThursday night – 10pm till 2am! Live DJ\, Free Entry & 25% off ALL Drinks!🍷 🍺 🍾  \nFriday night – Karaoke 🎤 till midnight followed by Pop Friday with the biggest Pop Party & Dance Anthems to kick start your weekend plus Free Entry & 2 Cocktails 🍹 for £8! \nSaturday is the big one! Retro classics from 70s Disco\, 80s & 90s throwback and a cheeky naughties & now set chucked in also! Oh and yes we will have 🍰 \nFree Entry before 11pm\, Giant Video wall\, 2 DJs over 2 Floors\, Retro Sweet Shop🍭 & 2 Cocktails 🍸 for £8! \nPlus if you like your tunes cheesy join DJ Bobes for Pop in the Loft upstairs Saturday from 11pm! 🧀 \nSunday – Doors open 9pm & it’s Free Entry! Party into Bank Holiday Monday with Andy Scott! It’s you Say it\, We play it night\, so you pick the tunes and enjoy dancing 🕺to them! Huge Drinks deals and feel good vibes all night! \nRubix Bar & Nightclub – Bringing the good times back to Colchester!
URL:https://keepcolchestercool.co.uk/event/rubix-birthday-weekender/
LOCATION:Rubix Bar\, Rubix Bar
ORGANIZER;CN="Rubix Bar":MAILTO:noreply@facebookmail_com
END:VEVENT
BEGIN:VEVENT
DTSTART;TZID=Europe/London:20250524T113000
DTEND;TZID=Europe/London:20250525T220000
DTSTAMP:20260425T023859
CREATED:20241203T071054Z
LAST-MODIFIED:20250525T071017Z
UID:120726-1748086200-1748210400@keepcolchestercool.co.uk
SUMMARY:Frating Beer and Music Festival  Kings  Arms
DESCRIPTION:First band start 12:30 last band start 8pm festival finishes 10pmWill be open from 11:30am \nMAYFESTIVAL INFORMATION-If you are driving to the Festival-Please park at\, CO7 7DW. Random house Please no parking on A133 or local village.Our car park will be closed to the public\, to allow easy access for the bands. There will be someone there to direct you.No cars are to be left in the car park overnight.PLEASE NOTE- The Outside bar and stalls will be CASH.Inside bars\, you will be able to use cards \nFrating beer and music festival Colchester’s best pub festival\, 8 of the best local bands over 2 days\, headlining acts\, Saturday Oasiz\, Sunday\, stiff in the morning.Wristbands are available to purchase now !!!!!!£10 each from the bar cash!!! Card transaction: £2.50 extra charge per wristband. Wristbands can be collected at the gate on the day. Quoting name and reference number.hog roast\, barbecue\, bouncy castles\, face painting. .Once again\, the event will take place under a massive marquee. With security onsite. Parking will be made available nearer the time\, but we do advise using public transport. We will be raising money for a charity once again. Last year we raised over £1000 for Lennox. This year we have decided to raise funds for Colchester and Ipswich Hospitals Charity. The funds will go to the cancer wellbeing centre at Colchester hospital.  \nwe are not offering any vendor spaces\, the event is all organised.  \nYou cannot bring any alcohol or food onto the festival site; all food and beverages must be purchased within the festival grounds. Security will be checking.  \nPlease do not be scammed wristbands only available at the bar
URL:https://keepcolchestercool.co.uk/event/frating-beer-and-music-festival-kings-arms/
LOCATION:Main Road\, Colchester
ORGANIZER;CN="Kings Arms%2C Frating%2C Essex":MAILTO:noreply@facebookmail.com
END:VEVENT
BEGIN:VEVENT
DTSTART;TZID=Europe/London:20250525T100000
DTEND;TZID=Europe/London:20250525T130000
DTSTAMP:20260425T023859
CREATED:20250513T071006Z
LAST-MODIFIED:20250525T071017Z
UID:124208-1748167200-1748178000@keepcolchestercool.co.uk
SUMMARY:Getting Started with Drawing - Line Work
DESCRIPTION:Join us in Getting Started with Drawing\, a relaxed and beginner-friendly drawing workshop\, where you’ll explore sketching with pencil and fine-line pens. \nWhether you are completely new to drawing or looking to build confidence in your skills\, this workshop will help you master different drawing techniques and materials. \nEach session will focus on a new theme – such as portraits\, architecture\, or still life – giving you the chance to develop a broad range of drawing skills. For ages 16+. \nFor more info & tickets: https://firstsite.uk/event/getting-started-with-drawing/
URL:https://keepcolchestercool.co.uk/event/getting-started-with-drawing-line-work/
LOCATION:Lewis Gardens\, CO1 1JH Colchester\, United Kingdom
ORGANIZER;CN="Firstsite Colchester":MAILTO:noreply@facebookmail_com
END:VEVENT
BEGIN:VEVENT
DTSTART;TZID=Europe/London:20250525T140000
DTEND;TZID=Europe/London:20250525T171500
DTSTAMP:20260425T023859
CREATED:20250501T071043Z
LAST-MODIFIED:20250525T071017Z
UID:123988-1748181600-1748193300@keepcolchestercool.co.uk
SUMMARY:Cinema | The Royal Ballet: Ballet to Broadway: Wheeldon Works (TBC)
DESCRIPTION:Showing at Firstsite Cinema – The Royal Ballet: Ballet to Broadway: Wheeldon Works (TBC)! \nThe Royal Ballet: Ballet to Broadway: Wheeldon Works showcases the remarkable choreographic range of The Royal Ballet’s Artistic Associate\, Christopher Wheeldon. \nSensuous contemporary ballet meets the energy of musical theatre in four distinctive short works; Fool’s Paradise\, The Two of Us\, Us\, An American in Paris. \n*Timings subject to change. \nBook now on our website or call us on 01206 713 700.
URL:https://keepcolchestercool.co.uk/event/cinema-the-royal-ballet-ballet-to-broadway-wheeldon-works-tbc/
LOCATION:Lewis Gardens\, CO1 1JH Colchester\, United Kingdom
ORGANIZER;CN="Firstsite Colchester":MAILTO:noreply@facebookmail_com
END:VEVENT
BEGIN:VEVENT
DTSTART;TZID=Europe/London:20250525T160000
DTEND;TZID=Europe/London:20250525T180000
DTSTAMP:20260425T023859
CREATED:20250423T071031Z
LAST-MODIFIED:20250525T071017Z
UID:123765-1748188800-1748196000@keepcolchestercool.co.uk
SUMMARY:Whose got bars: You got bars. Rap / MC coaching workshop
DESCRIPTION:Learn to Rap / MC with industry professionals in this FREE workshop funded by Essex County Council via the Arts and Cultural Fund\, Colchester City Council\, the Tudwick Foundation and Grassroots Charity.Exclusively for young people aged between 14 & 25.Please email artoftheroadz@gmail.com to book a space.
URL:https://keepcolchestercool.co.uk/event/whose-got-bars-you-got-bars-rap-mc-coaching-workshop/
LOCATION:74 High Street\, CO1 1UE Colchester\, United Kingdom\, 74 High Street\, CO1 1UE Colchester\, United Kingdom
ORGANIZER;CN="The Minories":MAILTO:noreply@facebookmail.com
END:VEVENT
BEGIN:VEVENT
DTSTART;TZID=Europe/London:20250525T173000
DTEND;TZID=Europe/London:20250525T203000
DTSTAMP:20260425T023859
CREATED:20250501T071043Z
LAST-MODIFIED:20250525T071017Z
UID:123989-1748194200-1748205000@keepcolchestercool.co.uk
SUMMARY:Prettyfields Vineyard session
DESCRIPTION:An evening in a great setting on\, hopefully\, a warm night. We take loved songs and give them a Gooseberries twist with 4 vocalists and wide range of acoustic instruments.
URL:https://keepcolchestercool.co.uk/event/prettyfields-vineyard-session/
LOCATION:Prettyfields Vineyard\, Prettyfields Vineyard
ORGANIZER;CN="The Lost Gooseberries":MAILTO:noreply@facebookmail_com
END:VEVENT
BEGIN:VEVENT
DTSTART;TZID=Europe/London:20250525T190000
DTEND;TZID=Europe/London:20250525T220000
DTSTAMP:20260425T023859
CREATED:20250513T071006Z
LAST-MODIFIED:20250525T071017Z
UID:124209-1748199600-1748210400@keepcolchestercool.co.uk
SUMMARY:The Pete Roth Trio featuring Bill Bruford
DESCRIPTION:JazzTickets £19.50 / £18.50 concessions.Doors open 7pm\, starts 7.30pm.This gig is for a seated audience. \nThe Pete Roth Trio features leader Pete on guitar\, Mike Pratt on bass\, and the legendary Bill Bruford as a special guest on drums. \nThe band creates jazz for a new generation of music enthusiasts\, exploring beyond traditional jazz conventions. \nA jazz standard might reveal its essence only in the final moments of performance. Roth’s original compositions\, such as “Dancing with Grace\,” the Trio’s collaborative works like “Trio in Five” and “Looking Forward to Looking Back\,” or their reinterpretation of masterworks like Anton Dvorak’s “Largo from Symphony #9\,” offer just a few gateways into the creative world of the Pete Roth Trio—a world that will likely reshape your perspective on what the guitar trio format can achieve. \npeterothband.co.uk
URL:https://keepcolchestercool.co.uk/event/the-pete-roth-trio-featuring-bill-bruford/
LOCATION:Church St\, CO1 1NF Colchester\, United Kingdom
ORGANIZER;CN="Colchester Arts Centre":MAILTO:noreply@facebookmail_com
END:VEVENT
BEGIN:VEVENT
DTSTART;TZID=Europe/London:20250525T190000
DTEND;TZID=Europe/London:20250525T220000
DTSTAMP:20260425T023859
CREATED:20250521T071134Z
LAST-MODIFIED:20250525T071017Z
UID:124358-1748199600-1748210400@keepcolchestercool.co.uk
SUMMARY:Quiz night
DESCRIPTION:£2 cash per team and max 5 people per team.
URL:https://keepcolchestercool.co.uk/event/quiz-night-4/
LOCATION:1-2 Castle Road\, Colchester\, 1-2 Castle Road\, Colchester
ORGANIZER;CN="The Foresters Arms":MAILTO:noreply@facebookmail_com
END:VEVENT
BEGIN:VEVENT
DTSTART;TZID=Europe/London:20250525T210000
DTEND;TZID=Europe/London:20250526T030000
DTSTAMP:20260425T023859
CREATED:20250501T071043Z
LAST-MODIFIED:20250526T070958Z
UID:123990-1748206800-1748228400@keepcolchestercool.co.uk
SUMMARY:MODEZ OF VIBRATION presents
DESCRIPTION:EASTER BANK HOLIDAY SUNDAY SPECIAL @ BABAS withDJS Gordon B\, Project LandoMq Aurelian WizhardTom Lock ClaymoreGallier Riley-V \nMCS Scotfree ST RangerCherry B Jay P D Low \nhttps://www.facebook.com/events/2366953603677136/?event_time_id=2366953623677134
URL:https://keepcolchestercool.co.uk/event/modez-of-vibration-presents/
LOCATION:Baba’s Bar\, Baba's Bar
ORGANIZER;CN="Modez of Vibration":MAILTO:noreply@facebookmail_com
END:VEVENT
END:VCALENDAR