BEGIN:VCALENDAR
VERSION:2.0
PRODID:-//Keep Colchester Cool - ECPv6.15.20//NONSGML v1.0//EN
CALSCALE:GREGORIAN
METHOD:PUBLISH
X-ORIGINAL-URL:https://keepcolchestercool.co.uk
X-WR-CALDESC:Events for Keep Colchester Cool
REFRESH-INTERVAL;VALUE=DURATION:PT1H
X-Robots-Tag:noindex
X-PUBLISHED-TTL:PT1H
BEGIN:VTIMEZONE
TZID:Europe/London
BEGIN:DAYLIGHT
TZOFFSETFROM:+0000
TZOFFSETTO:+0100
TZNAME:BST
DTSTART:20240331T010000
END:DAYLIGHT
BEGIN:STANDARD
TZOFFSETFROM:+0100
TZOFFSETTO:+0000
TZNAME:GMT
DTSTART:20241027T010000
END:STANDARD
BEGIN:DAYLIGHT
TZOFFSETFROM:+0000
TZOFFSETTO:+0100
TZNAME:BST
DTSTART:20250330T010000
END:DAYLIGHT
BEGIN:STANDARD
TZOFFSETFROM:+0100
TZOFFSETTO:+0000
TZNAME:GMT
DTSTART:20251026T010000
END:STANDARD
BEGIN:DAYLIGHT
TZOFFSETFROM:+0000
TZOFFSETTO:+0100
TZNAME:BST
DTSTART:20260329T010000
END:DAYLIGHT
BEGIN:STANDARD
TZOFFSETFROM:+0100
TZOFFSETTO:+0000
TZNAME:GMT
DTSTART:20261025T010000
END:STANDARD
END:VTIMEZONE
BEGIN:VEVENT
DTSTART;TZID=Europe/London:20251201T093000
DTEND;TZID=Europe/London:20251205T053000
DTSTAMP:20260424T113111
CREATED:20251202T071037Z
LAST-MODIFIED:20251205T071018Z
UID:127338-1764581400-1764912600@keepcolchestercool.co.uk
SUMMARY:Exhibition: James Cook’s Typewriter Art
DESCRIPTION:Exhibition News! Preparations are underway for my free exhibition of my typewriter art in celebration of the grand reopening of Colchester Library. Details below �  \n� Open 1st – 5th December� Colchester Library\, Trinity Square\, CO1 1JB\, � No ticket required \nI will be here on Friday 5th so if you have any prints or typewriters (yes you heard that right!) which you’d like me to sign\, then bring them along!
URL:https://keepcolchestercool.co.uk/event/exhibition-james-cooks-typewriter-art/
LOCATION:Colchester Library and Community Hub\, 21 Trinity Square\, Colchester\, CO1 1JB\, GB
END:VEVENT
BEGIN:VEVENT
DTSTART;TZID=Europe/London:20251201T193000
DTEND;TZID=Europe/London:20251201T223000
DTSTAMP:20260424T113111
CREATED:20251030T071052Z
LAST-MODIFIED:20251201T070958Z
UID:127008-1764617400-1764628200@keepcolchestercool.co.uk
SUMMARY:Christina Alden & Alex Patterson
DESCRIPTION:Tickets £13 / £12 concessions.Doors open 7.30pm\, starts 8pm.This gig is for a seated audience. \nChristina Alden & Alex Patterson are multi-instrumentalists and songwriters from East Anglia. Their music is rich with intertwining harmony\, sensitive accomplished musicianship and a creative song-writing style that is both delicate and moving. \nDeeply inspired by the world around them\, they have a keen environmental eye to craft stories with the natural world at its heart\, reflecting on the relationship between humans and the wild. They have toured extensively in the UK and Europe;including a twenty-three-date concert hall tour with Show of Hands (including Union Chapel and St David’s Hall Cardiff)\, a show at Glasgow Royal Concert Hall for Celtic Connections\, headline and main stage performances at some of the UK’s most prestigious folk festivals and performances in Norway\, Belgium\, France and Ireland. \nThey have written and self-released four albums\, composed music for a BBC Radio 4 documentary series and have had over a million streams on Spotify. \n‘A bright\, lively collection of songs that plays so sweetly it evokes the sensation of a summer folk festival’ – The Guardian \n‘A milestone for contemporary folk songwriting’ – Bright Young Folk \n‘Gorgeous harmonies and lush melodies’ – BBC Countryfile \nSupport… The LarksLiz Miller and Chris Wilbraham\, have been singing and playing together in pubs\, folk clubs and festivals since meeting at a musical night in The Bear Inn\, Beyton in 2007. They continue to host it quarterly. They can be found playing at Folk clubs\, bars\, pubs\, restaurants and Folk festivals\, where they entertain with their own quirky take on a diverse range of songs from the likes of Gillian Welch\, Radiohead\, Joni Mitchell\, The Smiths\, Johnny Cash and The Cure. They add their own material to the mix\, using guitars\, mandolin\, harmonies and sometimes rapping to put the songs across. “Entertaining …… and Great Harmonies” (Robin Mansfield. Cambridge Folk Club\, November 2010)
URL:https://keepcolchestercool.co.uk/event/christina-alden-alex-patterson/
LOCATION:Church St\, CO1 1NF Colchester\, United Kingdom
ORGANIZER;CN="Colchester Arts Centre":MAILTO:noreply@facebookmail_com
END:VEVENT
BEGIN:VEVENT
DTSTART;TZID=Europe/London:20251201T200000
DTEND;TZID=Europe/London:20251201T230000
DTSTAMP:20260424T113111
CREATED:20251008T071054Z
LAST-MODIFIED:20251201T070958Z
UID:126428-1764619200-1764630000@keepcolchestercool.co.uk
SUMMARY:Christmas - The Candlelight Concert - Charter Hall - Colchester
DESCRIPTION:✨ Experience the Magic of ‘Christmas – The Candlelight Concert’ – A Sophisticated Festive Celebration by Xperience Live \nStep into a world of festive elegance and timeless charm as Xperience Live proudly presents ‘Christmas – The Candlelight Concert’ – an evening where music\, candlelight and holiday wonder come together in perfect harmony. 🎶🎄 \nSet beneath the soft glow of countless candles\, this enchanting concert promises to warm your heart and stir your soul. Be transported by the breathtaking vocals of our exceptional singers and the rich\, live sounds of our talented band as they breathe new life into the Christmas classics you know and love. 🕯️ \nFrom the very first notes of ‘It’s Beginning to Look a Lot Like Christmas’\, you’ll be swept into a yuletide reverie filled with nostalgia and joy. This unforgettable evening will feature a curated selection of beloved favourites\, including ‘White Christmas’\, ‘Santa Baby’\, ‘Winter Wonderland’\, and many more – all performed live with elegance and flair. ❄️ \nWhether you’re enjoying the company of loved ones or simply soaking in the glow of the season\, Christmas – The Candlelight Concert is the perfect way to celebrate in style. This heart-warming event invites families\, friends and festive romantics alike to revel in the spirit of a truly Holly Jolly Christmas. 💕 \nSo join us for a night of unforgettable music\, magical atmosphere and holiday sophistication.  \nIt’s not just a concert — it’s a Christmas memory in the making. \nTickets are limited – secure your place and make this Christmas truly extraordinary.
URL:https://keepcolchestercool.co.uk/event/christmas-the-candlelight-concert-charter-hall-colchester/
LOCATION:Colchester Charter Hall\, Colchester Charter Hall
END:VEVENT
BEGIN:VEVENT
DTSTART;TZID=Europe/London:20251201T200000
DTEND;TZID=Europe/London:20251201T230000
DTSTAMP:20260424T113111
CREATED:20251027T071031Z
LAST-MODIFIED:20251124T071001Z
UID:126935-1764619200-1764630000@keepcolchestercool.co.uk
SUMMARY:Christina Alden & Alex Patterson - Colchester Arts Centre
DESCRIPTION:★★★★★ “Among the finest new voices on the scene” RnR Magazine \nChristina Alden & Alex Patterson are multi-instrumentalists and songwriters from East Anglia. Their music is rich with intertwining harmony\, sensitive accomplished musicianship and a creative song-writing style that is both delicate and moving. Deeply inspired by the world around them\, they have a keen environmental eye to craft stories with the natural world at its heart\, reflecting on the relationship between humans and the wild. \nThey have toured extensively in the UK and Europe including a 23 date tour with Show of Hands. They have written and self released 4 albums\, composed music for BBC Radio 4 documentary series and have over a million streams on Spotify.
URL:https://keepcolchestercool.co.uk/event/christina-alden-alex-patterson-colchester-arts-centre/
LOCATION:Colchester Arts Centre\, Colchester Arts Centre
END:VEVENT
END:VCALENDAR