BEGIN:VCALENDAR
VERSION:2.0
PRODID:-//Keep Colchester Cool - ECPv6.15.20//NONSGML v1.0//EN
CALSCALE:GREGORIAN
METHOD:PUBLISH
X-WR-CALNAME:Keep Colchester Cool
X-ORIGINAL-URL:https://keepcolchestercool.co.uk
X-WR-CALDESC:Events for Keep Colchester Cool
REFRESH-INTERVAL;VALUE=DURATION:PT1H
X-Robots-Tag:noindex
X-PUBLISHED-TTL:PT1H
BEGIN:VTIMEZONE
TZID:Europe/London
BEGIN:DAYLIGHT
TZOFFSETFROM:+0000
TZOFFSETTO:+0100
TZNAME:BST
DTSTART:20240331T010000
END:DAYLIGHT
BEGIN:STANDARD
TZOFFSETFROM:+0100
TZOFFSETTO:+0000
TZNAME:GMT
DTSTART:20241027T010000
END:STANDARD
BEGIN:DAYLIGHT
TZOFFSETFROM:+0000
TZOFFSETTO:+0100
TZNAME:BST
DTSTART:20250330T010000
END:DAYLIGHT
BEGIN:STANDARD
TZOFFSETFROM:+0100
TZOFFSETTO:+0000
TZNAME:GMT
DTSTART:20251026T010000
END:STANDARD
BEGIN:DAYLIGHT
TZOFFSETFROM:+0000
TZOFFSETTO:+0100
TZNAME:BST
DTSTART:20260329T010000
END:DAYLIGHT
BEGIN:STANDARD
TZOFFSETFROM:+0100
TZOFFSETTO:+0000
TZNAME:GMT
DTSTART:20261025T010000
END:STANDARD
END:VTIMEZONE
BEGIN:VEVENT
DTSTART;TZID=Europe/London:20251201T093000
DTEND;TZID=Europe/London:20251205T053000
DTSTAMP:20260424T112951
CREATED:20251202T071037Z
LAST-MODIFIED:20251205T071018Z
UID:127338-1764581400-1764912600@keepcolchestercool.co.uk
SUMMARY:Exhibition: James Cook’s Typewriter Art
DESCRIPTION:Exhibition News! Preparations are underway for my free exhibition of my typewriter art in celebration of the grand reopening of Colchester Library. Details below �  \n� Open 1st – 5th December� Colchester Library\, Trinity Square\, CO1 1JB\, � No ticket required \nI will be here on Friday 5th so if you have any prints or typewriters (yes you heard that right!) which you’d like me to sign\, then bring them along!
URL:https://keepcolchestercool.co.uk/event/exhibition-james-cooks-typewriter-art/
LOCATION:Colchester Library and Community Hub\, 21 Trinity Square\, Colchester\, CO1 1JB\, GB
END:VEVENT
BEGIN:VEVENT
DTSTART;TZID=Europe/London:20251204T170000
DTEND;TZID=Europe/London:20251204T210000
DTSTAMP:20260424T112951
CREATED:20251202T071039Z
LAST-MODIFIED:20251204T071018Z
UID:127342-1764867600-1764882000@keepcolchestercool.co.uk
SUMMARY:Bread and Butter Market- Christmas Edition ✨
DESCRIPTION:Our wonderful traders + DJ + Christmas film viewing and a late night gallery opening- more details coming soon!
URL:https://keepcolchestercool.co.uk/event/bread-and-butter-market-christmas-edition-%e2%9c%a8/
LOCATION:The Minories\, The Minories
END:VEVENT
BEGIN:VEVENT
DTSTART;TZID=Europe/London:20251204T183000
DTEND;TZID=Europe/London:20251204T213000
DTSTAMP:20260424T112951
CREATED:20251125T071013Z
LAST-MODIFIED:20251204T071018Z
UID:127298-1764873000-1764883800@keepcolchestercool.co.uk
SUMMARY:The Shakespeare Solitaire: Murder Mystery
DESCRIPTION:Back by popular demand after sell-out performances in August! \nIt’s 1922 and you’re invited to Colchester’s best kept-secret – Solanio’s Swinging Speakeasy – for a very special event: the auction of the infamous Shakespeare Solitaire. \nThis priceless diamond is rumoured to have been gifted to William Shakespeare by Queen Elizabeth I herself… but the jewel also carries with it a curse\, for every one of its owners have died in mysterious circumstances. \nJust two weeks’ ago\, the body of the Solitaire’s most recent owner – renowned actor Henry Lear – was discovered at a Guildford auction house. Tonight\, his only daughter is seeking to sell it and rid the family of its terrible curse. \nBut will Mr Lear’s death be the end\, or is it just the beginning? \nJoin the award-winning Guildford Shakespeare Company for a fun and interactive evening of intrigue and deception\, as you work out whodunnit.
URL:https://keepcolchestercool.co.uk/event/the-shakespeare-solitaire-murder-mystery-3/
LOCATION:Balkerne Gate\, CO1 1PT Colchester\, United Kingdom\, Balkerne Gate\, CO1 1PT Colchester\, United Kingdom
ORGANIZER;CN="Mercury Theatre Colchester":MAILTO:noreply@facebookmail_com
END:VEVENT
BEGIN:VEVENT
DTSTART;TZID=Europe/London:20251204T185000
DTEND;TZID=Europe/London:20251204T215000
DTSTAMP:20260424T112951
CREATED:20251030T071053Z
LAST-MODIFIED:20251204T071018Z
UID:127011-1764874200-1764885000@keepcolchestercool.co.uk
SUMMARY:OMB Film Quiz 18
DESCRIPTION:Test your knowledge of films and help raise money for an incredible cause! \n– £3 a head (cash only\, all proceeds to charity)– Maximum 6 to a team – Food available throughout – Book via https://sevn.ly/xJWOHUhN \nIf you book and then decide not to attend\, please cancel your booking.  \nPlease arrive at least 15 minutes before the quiz is due to start.
URL:https://keepcolchestercool.co.uk/event/omb-film-quiz-18/
LOCATION:Other Monkey Brewing – The Taproom\, 5-6 St Nicholas St\, Colchester\, CO1 1LB\, GB
ORGANIZER;CN="Film%2C TV & Music Quiz":MAILTO:noreply@facebookmail_com
END:VEVENT
BEGIN:VEVENT
DTSTART;TZID=Europe/London:20251204T191500
DTEND;TZID=Europe/London:20251204T201500
DTSTAMP:20260424T112951
CREATED:20251008T071054Z
LAST-MODIFIED:20251204T071018Z
UID:126430-1764875700-1764879300@keepcolchestercool.co.uk
SUMMARY:Somatic Yin Yoga
DESCRIPTION:🧘‍♀️ Yin Yoga Class – A Journey Inwards \nJoin us for a deeply nourishing yin yoga session\, a practice rooted in stillness\, gentle enquiry\, and self-awareness. \nYin invites you to slow down and soften\, offering a chance to truly rest and restore. While the pace is slow and poses are held for longer\, the practice can be surprisingly challenging\, not physically\, but in the depth of presence and self-exploration it invites. \nRather than focusing on the “achievement” of the pose\, this class encourages you to tune in\, listen\, and simply be with what is. We’ll use props to support the body\, allowing space for relaxation\, release\, and reconnection. \n✨ Suitable for all bodies✨ Open to all levels – including beginners✨ A beautiful way to wind down and nourish your nervous system \n📍 Location: The Tree Room\, Colchester \n💫 Book Intuitive Flow + Yin Yoga together and receive both classes for £17.00 automatically! \nBook your spot: https://dharmabelle.co.uk/weekly-group-yoga-classes/ \nhttps://www.facebook.com/events/1892947937915397/?event_time_id=1892948001248724
URL:https://keepcolchestercool.co.uk/event/somatic-yin-yoga/
LOCATION:The Tree Room\, Trinity Street\, Colchester\, United Kingdom\, The Tree Room\, Trinity Street\, Colchester\, United Kingdom
ORGANIZER;CN="Dharmabelle":MAILTO:noreply@facebookmail_com
END:VEVENT
BEGIN:VEVENT
DTSTART;TZID=Europe/London:20251204T193000
DTEND;TZID=Europe/London:20251204T223000
DTSTAMP:20260424T112951
CREATED:20250524T071221Z
LAST-MODIFIED:20251204T071018Z
UID:124624-1764876600-1764887400@keepcolchestercool.co.uk
SUMMARY:Emotional Madness with MaryAnn & Mates
DESCRIPTION:Tickets £3Doors open 7.30pm\, show starts 8pmThis show is for a seated audience \nAn evening of spoken word and poetry hosted by Mary-Ann Ambrose. A mixture of emotions\, a roller coaster of fun and sadness. \nLine-up in order of appearance: \nDavid ChidgeyPeter TorresAlice ViolettRicci ReadSamaka Messi James Domestic Annie Janes-Fraser Barry KingMary-Ann AmbroseLorna Mackinnon \nhttps://www.facebook.com/events/8993181580759194/?event_time_id=8993181584092527
URL:https://keepcolchestercool.co.uk/event/emotional-madness-with-maryann-mates-7/
LOCATION:Church St\, CO1 1NF Colchester\, United Kingdom
ORGANIZER;CN="Colchester Arts Centre":MAILTO:noreply@facebookmail_com
END:VEVENT
BEGIN:VEVENT
DTSTART;TZID=Europe/London:20251204T193000
DTEND;TZID=Europe/London:20251204T230000
DTSTAMP:20260424T112951
CREATED:20251202T071040Z
LAST-MODIFIED:20251204T071018Z
UID:127344-1764876600-1764889200@keepcolchestercool.co.uk
SUMMARY:The Brewhouse Presents Shellshock.With DJ Roman
DESCRIPTION:DJ Roman says\, ‘I shall be returning to Queen St Brewhouse bringing the indie party along with me. Come along for a beer (or ten) and stay for the buzzy tunes.’Poster design by @rowenaleanne
URL:https://keepcolchestercool.co.uk/event/the-brewhouse-presents-shellshock-with-dj-roman-2/
LOCATION:Queen St Brewhouse\, 7 - 9 Queen Street\, Colchester\, CO1 2PG\, GB
ORGANIZER;CN="Queen St Brewhouse":MAILTO:noreply@facebookmail_com
END:VEVENT
BEGIN:VEVENT
DTSTART;TZID=Europe/London:20251204T200000
DTEND;TZID=Europe/London:20251204T230000
DTSTAMP:20260424T112951
CREATED:20251202T071040Z
LAST-MODIFIED:20251204T071019Z
UID:127345-1764878400-1764889200@keepcolchestercool.co.uk
SUMMARY:Columbines! (Doors open 7.30 for 8pm)
DESCRIPTION:Making a welcome return\, 3 hugely talented women – the wonderful ‘Columbines’! Well known as a folk and Americana trio specialising in original songs and their own arrangements of traditional and lesser known folk songs\, Columbines are recognised for their striking use of close harmony singing\, often a cappella\, and their diverse range of instruments such as cello\, Irish bouzouki\, classical and steel string guitar\, and percussion. They tell us they have added to their repertoire of folk and Americana to include some ‘songs of the sea’ – but “Not exactly shanties …” – intriguing! Columbines are brilliant and entertaining and not to be missed!Do make sure you get in and get a seat as soon as possible after we open – last time they were our guests\, the room was so packed we feared people would have to sit on each other’s laps. Well\, we’ve always been a very friendly club …The first part will start with a number of floor spots (which MUST be pre-booked) followed by Columbines’ first 45 minute set. After a short interval we’ll have one or two more floor spots to warm up\, then Columbines’ second 45 minute set.Admission £8 — Concessions £7 — Floor spot performers £5(TO BOOK SPOTS call Alan on 01206 827759)NB Club Admission is CASH ONLY andThe RBL Bar is CARD ONLY
URL:https://keepcolchestercool.co.uk/event/columbines-doors-open-7-30-for-8pm/
LOCATION:The Royal British Legion\, The Quay\, Wivenhoe CO7 9BX
ORGANIZER;CN="Wivenhoe Folk Club":MAILTO:noreply@facebookmail.com
END:VEVENT
END:VCALENDAR