BEGIN:VCALENDAR
VERSION:2.0
PRODID:-//Keep Colchester Cool - ECPv6.15.20//NONSGML v1.0//EN
CALSCALE:GREGORIAN
METHOD:PUBLISH
X-WR-CALNAME:Keep Colchester Cool
X-ORIGINAL-URL:https://keepcolchestercool.co.uk
X-WR-CALDESC:Events for Keep Colchester Cool
REFRESH-INTERVAL;VALUE=DURATION:PT1H
X-Robots-Tag:noindex
X-PUBLISHED-TTL:PT1H
BEGIN:VTIMEZONE
TZID:Europe/London
BEGIN:DAYLIGHT
TZOFFSETFROM:+0000
TZOFFSETTO:+0100
TZNAME:BST
DTSTART:20240331T010000
END:DAYLIGHT
BEGIN:STANDARD
TZOFFSETFROM:+0100
TZOFFSETTO:+0000
TZNAME:GMT
DTSTART:20241027T010000
END:STANDARD
BEGIN:DAYLIGHT
TZOFFSETFROM:+0000
TZOFFSETTO:+0100
TZNAME:BST
DTSTART:20250330T010000
END:DAYLIGHT
BEGIN:STANDARD
TZOFFSETFROM:+0100
TZOFFSETTO:+0000
TZNAME:GMT
DTSTART:20251026T010000
END:STANDARD
BEGIN:DAYLIGHT
TZOFFSETFROM:+0000
TZOFFSETTO:+0100
TZNAME:BST
DTSTART:20260329T010000
END:DAYLIGHT
BEGIN:STANDARD
TZOFFSETFROM:+0100
TZOFFSETTO:+0000
TZNAME:GMT
DTSTART:20261025T010000
END:STANDARD
END:VTIMEZONE
BEGIN:VEVENT
DTSTART;TZID=Europe/London:20251209T100000
DTEND;TZID=Europe/London:20251214T140000
DTSTAMP:20260424T112957
CREATED:20251025T071045Z
LAST-MODIFIED:20251214T071011Z
UID:126797-1765274400-1765720800@keepcolchestercool.co.uk
SUMMARY:Wandering - Art Exhibition
DESCRIPTION:Blow away the cobwebs of winter with a walk through the mind of Tina Bullen. \nJoin Tina at The Sentinel Gallery\, Wivenhoe\, to experience her free art show\, Wandering. Here you’ll find a variety of original artworks (and more!) based on the famous Wordsworth line\, ‘I wandered lonely as a cloud’. The artworks depict the great outdoors of Essex and beyond; its epic landscapes\, woodlands and skies. More than this\, the show will be a peaceful\, immersive sensory experience that will literally have you breathing in fresh air\, revelling in nature and watching moving skyscapes as they flow over the artwork. This is a show not to be missed. \nAll work is for sale.  \nThis show has been made possible by funding\, gratefully received from the Hervey Benham Trust.
URL:https://keepcolchestercool.co.uk/event/wandering-art-exhibition/
LOCATION:The Sentinel Gallery\, The Sentinel Gallery
ORGANIZER;CN="Tina Bullen Fine Art":MAILTO:noreply@facebookmail.com
END:VEVENT
BEGIN:VEVENT
DTSTART;TZID=Europe/London:20251210T120000
DTEND;TZID=Europe/London:20251210T140000
DTSTAMP:20260424T112957
CREATED:20251202T071044Z
LAST-MODIFIED:20251210T071001Z
UID:127357-1765368000-1765375200@keepcolchestercool.co.uk
SUMMARY:SPACE: Peer-to-Peer (in person)
DESCRIPTION:The SPACE Peer-to-Peer sessions are a space for sharing work in progress\, peer support and feedback and networking. \nThe sessions are open to all creatives and are free to attend.
URL:https://keepcolchestercool.co.uk/event/space-peer-to-peer-in-person-3/
LOCATION:37 queen street\, CO1 2PQ Colchester\, United Kingdom\, 37 queen street\, CO1 2PQ Colchester\, United Kingdom
ORGANIZER;CN="37 QUEEN ST":MAILTO:noreply@facebookmail.com
END:VEVENT
BEGIN:VEVENT
DTSTART;TZID=Europe/London:20251210T140000
DTEND;TZID=Europe/London:20251210T160000
DTSTAMP:20260424T112957
CREATED:20251125T071016Z
LAST-MODIFIED:20251210T071001Z
UID:127300-1765375200-1765382400@keepcolchestercool.co.uk
SUMMARY:Writing Workshop: The business of fringe
DESCRIPTION:Join us for a Writing Workshop Series led by the talented Alice K Stephens\, designed to guide you through every step of developing your own fringe theatre show. \nAcross five sessions in the Lakeside Theatre Studio\, Alice will guide you through how to create your own fringe theatre show. From the first idea to the finished product\, you’ll explore key aspects of developing a show with practical steps and support. \nFree to attend for University of Essex members\, though spaces are limited so do book your space each week! \nWeek 5 – The business of fringe:All about the theatre maker as a producer in the contemporary fringe scene. We’ll discuss the costs of producing a show\, and how to face up to that with a limited budget and fundraising. We will consider how to market your show and put together a press pack. And finally\, we’ll discuss the importance of looking out for yourself and your team during production.
URL:https://keepcolchestercool.co.uk/event/writing-workshop-the-business-of-fringe/
LOCATION:Lakeside Theatre\, University of Essex\, Wivenhoe Park\, Colchester\, CO4 3SQ\, GB
ORGANIZER;CN="Lakeside Theatre":MAILTO:noreply@facebookmail_com
END:VEVENT
BEGIN:VEVENT
DTSTART;TZID=Europe/London:20251210T150000
DTEND;TZID=Europe/London:20251210T200000
DTSTAMP:20260424T112957
CREATED:20251030T071055Z
LAST-MODIFIED:20251210T071002Z
UID:127014-1765378800-1765396800@keepcolchestercool.co.uk
SUMMARY:Colchester Castle Open Evening
DESCRIPTION:As a special festive treat\, Colchester Castle’s FREE Christmas Open Evening returns for 2025 from 3 pm – 8 pm. Soak up the festive atmosphere whilst seeing over 2\,000 years of amazing history\, with festive refreshments. With the Castle decked out in Christmas cheer\, it promises to be a great way to get in the spirit of the season! \nPlease note that the Castle can get very busy during our Open Evening\, so a queuing system may be in operation. \nThis event is suitable for all ages\, but an adult must accompany children. \nEntry to the Castle is free; however\, if you want to meet Father Christmas and receive a small gift\, there is a £6 per child charge. \nBooking not required\, simply drop in. Please note queuing may be in operation for Father Christmas.
URL:https://keepcolchestercool.co.uk/event/colchester-castle-open-evening/
LOCATION:Colchester Castle\, Colchester Castle
ORGANIZER;CN="Colchester Museums":MAILTO:noreply@facebookmail.com
END:VEVENT
BEGIN:VEVENT
DTSTART;TZID=Europe/London:20251210T190000
DTEND;TZID=Europe/London:20251210T213000
DTSTAMP:20260424T112957
CREATED:20251202T071045Z
LAST-MODIFIED:20251210T071002Z
UID:127358-1765393200-1765402200@keepcolchestercool.co.uk
SUMMARY:Red Riding Hood: a Christmas Pantomime!
DESCRIPTION:Get ready for this Winter show full of pantomime fun! \nAre you ready to go into the woods? Join Red Riding Hood as she goes on this exciting adventure\, meeting both furry friends and foes alike! Red is an adventurous young spirit who wants nothing more than to see the world. Her wish comes true when she is sent to fetch her poor old granny in the woods some bread. \nHowever\, things turn from weird to weirder\, as along the way she encounters a group of deranged dancing dogs\, curiously choral creatures\, and a certainly fierce furry foe. \nThis pantomime will have you singing\, clapping\, and screaming “IT’S BEHIND YOU” in no time! \nWritten by Naiden Janes\, Directed by Christina Davies\, and performed by University of Essex Theatre Arts Society.
URL:https://keepcolchestercool.co.uk/event/red-riding-hood-a-christmas-pantomime-2/
LOCATION:Lakeside Theatre\, University of Essex\, Wivenhoe Park\, Square 5\, Colchester\, CO4 3SQ\, Lakeside Theatre\, University of Essex\, Wivenhoe Park\, Square 5\, Colchester\, CO4 3SQ
ORGANIZER;CN="Lakeside Theatre":MAILTO:noreply@facebookmail_com
END:VEVENT
BEGIN:VEVENT
DTSTART;TZID=Europe/London:20251210T193000
DTEND;TZID=Europe/London:20251210T224500
DTSTAMP:20260424T112957
CREATED:20251202T071045Z
LAST-MODIFIED:20251210T071002Z
UID:127359-1765395000-1765406700@keepcolchestercool.co.uk
SUMMARY:Wednesday Night Open Mic @ The Victoria Inn
DESCRIPTION:It’s Open Mic Night!Bring yourself… or send your friends in place of you…. or come with your friends and get involved.Bring your instruments or borrow mine (Guitar\, Piano\, Cajon & Mics provided).*We run a sign up board & work through the names in order & attendance prioritising those who arrive before 9.*The sign up board goes up around 7:30 & the mic goes live around 8:00. *We wrap up for 10:45.*Performers usually get 2-3 songs (up to 15 minutes in total) but this depends the number of participants on the night.
URL:https://keepcolchestercool.co.uk/event/wednesday-night-open-mic-the-victoria-inn-13/
LOCATION:The Victoria Pub\, The Victoria Pub
ORGANIZER;CN="Stu E Skinner":MAILTO:noreply@facebookmail_com
END:VEVENT
END:VCALENDAR