BEGIN:VCALENDAR
VERSION:2.0
PRODID:-//Keep Colchester Cool - ECPv6.15.20//NONSGML v1.0//EN
CALSCALE:GREGORIAN
METHOD:PUBLISH
X-WR-CALNAME:Keep Colchester Cool
X-ORIGINAL-URL:https://keepcolchestercool.co.uk
X-WR-CALDESC:Events for Keep Colchester Cool
REFRESH-INTERVAL;VALUE=DURATION:PT1H
X-Robots-Tag:noindex
X-PUBLISHED-TTL:PT1H
BEGIN:VTIMEZONE
TZID:Europe/London
BEGIN:DAYLIGHT
TZOFFSETFROM:+0000
TZOFFSETTO:+0100
TZNAME:BST
DTSTART:20240331T010000
END:DAYLIGHT
BEGIN:STANDARD
TZOFFSETFROM:+0100
TZOFFSETTO:+0000
TZNAME:GMT
DTSTART:20241027T010000
END:STANDARD
BEGIN:DAYLIGHT
TZOFFSETFROM:+0000
TZOFFSETTO:+0100
TZNAME:BST
DTSTART:20250330T010000
END:DAYLIGHT
BEGIN:STANDARD
TZOFFSETFROM:+0100
TZOFFSETTO:+0000
TZNAME:GMT
DTSTART:20251026T010000
END:STANDARD
BEGIN:DAYLIGHT
TZOFFSETFROM:+0000
TZOFFSETTO:+0100
TZNAME:BST
DTSTART:20260329T010000
END:DAYLIGHT
BEGIN:STANDARD
TZOFFSETFROM:+0100
TZOFFSETTO:+0000
TZNAME:GMT
DTSTART:20261025T010000
END:STANDARD
END:VTIMEZONE
BEGIN:VEVENT
DTSTART;TZID=Europe/London:20251209T100000
DTEND;TZID=Europe/London:20251214T140000
DTSTAMP:20260424T112954
CREATED:20251025T071045Z
LAST-MODIFIED:20251214T071011Z
UID:126797-1765274400-1765720800@keepcolchestercool.co.uk
SUMMARY:Wandering - Art Exhibition
DESCRIPTION:Blow away the cobwebs of winter with a walk through the mind of Tina Bullen. \nJoin Tina at The Sentinel Gallery\, Wivenhoe\, to experience her free art show\, Wandering. Here you’ll find a variety of original artworks (and more!) based on the famous Wordsworth line\, ‘I wandered lonely as a cloud’. The artworks depict the great outdoors of Essex and beyond; its epic landscapes\, woodlands and skies. More than this\, the show will be a peaceful\, immersive sensory experience that will literally have you breathing in fresh air\, revelling in nature and watching moving skyscapes as they flow over the artwork. This is a show not to be missed. \nAll work is for sale.  \nThis show has been made possible by funding\, gratefully received from the Hervey Benham Trust.
URL:https://keepcolchestercool.co.uk/event/wandering-art-exhibition/
LOCATION:The Sentinel Gallery\, The Sentinel Gallery
ORGANIZER;CN="Tina Bullen Fine Art":MAILTO:noreply@facebookmail.com
END:VEVENT
BEGIN:VEVENT
DTSTART;TZID=Europe/London:20251213T100000
DTEND;TZID=Europe/London:20251213T130000
DTSTAMP:20260424T112954
CREATED:20251125T071018Z
LAST-MODIFIED:20251213T070957Z
UID:127302-1765620000-1765630800@keepcolchestercool.co.uk
SUMMARY:East of England Disabled Creatives Meet-Up - Zoom
DESCRIPTION:Please note that the session on Sat 13 Dec 2025 will be virtual on Zoom only. Please email christian.markham@mercury.theatre.co.uk for an invite. \nThe East of England Disabled Creatives Meet-Up is a free space for deaf\, disabled and/or neurodivergent creatives to meet\, share and create! \nAs artists\, don’t ask for permission. Take up space. For yourself and your work. We aim to provide that space for you! \nThis is a monthly meet-up with the Mercury Theatre in collaboration with Graeae Theatre Company.
URL:https://keepcolchestercool.co.uk/event/east-of-england-disabled-creatives-meet-up-zoom/
LOCATION:Balkerne Gate\, CO1 1PT Colchester\, United Kingdom\, Balkerne Gate\, CO1 1PT Colchester\, United Kingdom
ORGANIZER;CN="Mercury Theatre Colchester":MAILTO:noreply@facebookmail_com
END:VEVENT
BEGIN:VEVENT
DTSTART;TZID=Europe/London:20251213T113000
DTEND;TZID=Europe/London:20251213T170000
DTSTAMP:20260424T112954
CREATED:20251210T071004Z
LAST-MODIFIED:20251213T070957Z
UID:127487-1765625400-1765645200@keepcolchestercool.co.uk
SUMMARY:Disney Lorcana Infinity Weekend Constructed Event
DESCRIPTION:Disney Lorcana Infinity Weekend Constructed Event \nWe’re celebrating the launch of the brand new Infinity Format for Lorcana\, this is an event to get you to come and enjoy all that Lorcana has offered to date. \nEvent Details• £10 entry which includes a booster pack for all and another booster into the prize pot. Plus each participant will receive “A Whole New World” promo card. • The Format Infinity Constructed\, lets you use your favourite cards from across the game with no worries about rotation\, keeping all those older cards alive and playable a fun\, nostalgic way to explore Lorcana’s full history while staying fresh for new and returning players \nStart time 11:30am \nPlease note all of these events have limited spaces of 24 people\, so to avoid missing out please either click attend on this event\, come in and speak to a member of staff of call us on 01206 561912 to make sure you don’t miss out.
URL:https://keepcolchestercool.co.uk/event/disney-lorcana-infinity-weekend-constructed-event/
LOCATION:ACE Comics\, 42 Culver Street East\, Colchester\, CO1 1LE\, GB
ORGANIZER;CN="Glenn Richardson":MAILTO:noreply@facebookmail_com
END:VEVENT
BEGIN:VEVENT
DTSTART;TZID=Europe/London:20251213T123000
DTEND;TZID=Europe/London:20251213T153000
DTSTAMP:20260424T112954
CREATED:20251008T071057Z
LAST-MODIFIED:20251213T070957Z
UID:126442-1765629000-1765639800@keepcolchestercool.co.uk
SUMMARY:ISLE 'AVE A SHANTY - CHRISTMAS MATINEE SPECIAL - FT HOY BOY FOR ONE AFTERNOON ONLY!!
DESCRIPTION:Don’t miss this special afternoon matinee full of the very best songs from The Sea and The Land. \nIsle ‘ave a Shanty are a 6-piece A Cappella male harmony group singing Shanties with comedy out of the Isle of Ely. They specialise in traditional songs from the sea and the country in a folk style as well as putting a folk twist on some modern classics! They are a rarity in being a sea shanty band from a landlocked county but they bring their own style to traditional songs and songs they wrote themselves. \nTheir live show is all about camaraderie\, fun and interaction. Be ready to sing along heartily and join in with the actions as they take you on a journey across the oceans\, through the countryside and maybe a few songs about grog\, noggins and even a drop of Nelson’s blood! \nThe band consists of ‘Able Seaman’ Andrew Newton\, Lee ‘Kiss Me Harvey’\, ‘Long John’ Tony Calladine\, ‘Sea Sick’ Stuart Green\, Elliott ‘Sea’ Spray\, & ‘Captain’ Kevin King. \nThis show is Unreserved seating
URL:https://keepcolchestercool.co.uk/event/isle-ave-a-shanty-christmas-matinee-special-ft-hoy-boy-for-one-afternoon-only/
LOCATION:Colchester Arts Centre\, Colchester Arts Centre
ORGANIZER;CN="We Love Concerts":MAILTO:noreply@facebookmail.com
END:VEVENT
BEGIN:VEVENT
DTSTART;TZID=Europe/London:20251213T130000
DTEND;TZID=Europe/London:20251213T160000
DTSTAMP:20260424T112954
CREATED:20250527T071039Z
LAST-MODIFIED:20251201T071003Z
UID:124747-1765630800-1765641600@keepcolchestercool.co.uk
SUMMARY:Colchester Arts Centre - Sea Shanty Christmas Matinee
DESCRIPTION:Hoy Boy & Isle Ave a ShantySea Shanties and Christmas Songs at the iconic Colcheater Arts Centre Saturday 13th December.
URL:https://keepcolchestercool.co.uk/event/colchester-arts-centre-sea-shanty-christmas-matinee/
LOCATION:Colchester Arts Centre\, Colchester Arts Centre
END:VEVENT
BEGIN:VEVENT
DTSTART;TZID=Europe/London:20251213T130000
DTEND;TZID=Europe/London:20251213T160000
DTSTAMP:20260424T112954
CREATED:20251030T071057Z
LAST-MODIFIED:20251201T071003Z
UID:127018-1765630800-1765641600@keepcolchestercool.co.uk
SUMMARY:Isle 'Ave A Shanty - Christmas Matinee Special
DESCRIPTION:Tickets £18Doors open 1pm\, starts 1.30pm.This show is for a seated audience. \nDon’t miss this special afternoon matinee full of the very best songs from The Sea and The Land.  \nIsle ‘ave a Shanty are a 6-piece A Cappella male harmony group singing Shanties with comedy out of the Isle of Ely. They specialise in traditional songs from the sea and the country in a folk style as well as putting a folk twist on some modern classics! They are a rarity in being a sea shanty band from a landlocked county but they bring their own style to traditional songs and songs they wrote themselves. \nTheir live show is all about camaraderie\, fun and interaction. Be ready to sing along heartily and join in with the actions as they take you on a journey across the oceans\, through the countryside and maybe a few songs about grog\, noggins and even a drop of Nelson’s blood! \nThe band consists of ‘Able Seaman’ Andrew Newton\, Lee ‘Kiss Me Harvey’\, ‘Long John’ Tony Calladine\, ‘Sea Sick’ Stuart Green\, Elliott ‘Sea’ Spray\, & ‘Captain’ Kevin King.
URL:https://keepcolchestercool.co.uk/event/isle-ave-a-shanty-christmas-matinee-special/
LOCATION:Church St\, CO1 1NF Colchester\, United Kingdom
ORGANIZER;CN="Colchester Arts Centre":MAILTO:noreply@facebookmail_com
END:VEVENT
BEGIN:VEVENT
DTSTART;TZID=Europe/London:20251213T150000
DTEND;TZID=Europe/London:20251213T180000
DTSTAMP:20260424T112954
CREATED:20251030T071057Z
LAST-MODIFIED:20251213T070957Z
UID:127019-1765638000-1765648800@keepcolchestercool.co.uk
SUMMARY:Christmas Paper Stars Workshop
DESCRIPTION:Join us on Saturday 13th December at 3pm at Love Local\, 17 School Lane\, Copford CO6 1BU for a relaxing and creative Christmas Paper Stars Workshop. \nYou’ll learn how to fold\, cut\, and assemble elegant paper stars using a selection of festive papers and designs. Whether you hang them at home\, gift them\, or use them to decorate your Christmas table\, they’re a beautiful way to add handmade charm to the season. \nNo experience needed\, just come ready to get creative and enjoy a cosy\, festive atmosphere. \nYour ticket includes hot beverages and sweet treats\, and all materials are provided. \n£20 per personSpaces are limited\, so book early to secure your place. \nGet your tickets here – https://www.thecreativeworkshopcompany.co.uk/event-details/christmas-paper-stars-workshop
URL:https://keepcolchestercool.co.uk/event/christmas-paper-stars-workshop/
LOCATION:Love Local\, Love Local
ORGANIZER;CN="The Creative Workshop Company":MAILTO:noreply@facebookmail.com
END:VEVENT
BEGIN:VEVENT
DTSTART;TZID=Europe/London:20251213T150000
DTEND;TZID=Europe/London:20251213T200000
DTSTAMP:20260424T112954
CREATED:20251008T071057Z
LAST-MODIFIED:20251213T070957Z
UID:126443-1765638000-1765656000@keepcolchestercool.co.uk
SUMMARY:80's Day Disco: Colchester 🪩
DESCRIPTION:The 80s Day Disco is coming to Trilogy! \n🗓️ Saturday 13th December 2025⏰ 3PM – 8PM📍 Trilogy\, Colchester \nTickets selling fast → https://www.fatsoma.com/e/ygkkiech/la/loxq \nGet Ready to Groove at the Ultimate 80s Day Disco! 🎉 \nStep into a time machine and relive the magic of the 80s with a day filled with the biggest disco anthems and synth-powered hits of the decade. Whether you’re a true 80s fanatic or just here for the nostalgia\, this party is all about electric vibes\, funky beats\, and non-stop dancing! 🎧🕺✨ \nWhat to Expect: \n🎶 Nonstop 80s Classics: Dance to the timeless hits that defined the decade—from disco grooves to rock anthems and synth-pop bangers. \n🕺 Retro Dance Floor Energy: Show off your best moves under the dazzling glow of neon lights and shimmering disco balls. \n📸 Totally Rad Photo Ops: Capture the moment with throwback props\, vintage backdrops\, and all the 80s glam. \n🌟 Feel-Good Vibes All Day Long: Celebrate the music\, the energy\, and the nostalgia with great people and iconic tunes. \nLet’s make it a day to remember—80s style! 🎶💿✨ \nExpect to hear music from: \nMichael Jackson ⭐ Madonna ⭐ Prince ⭐ Whitney Houston ⭐ Queen ⭐ George Michael ⭐ David Bowie ⭐ Tina Turner ⭐ Elton John ⭐ Phil Collins ⭐ Cyndi Lauper ⭐ Bon Jovi ⭐ The Police ⭐ Bruce Springsteen ⭐ Duran Duran ⭐ Journey ⭐ Billy Joel ⭐ Lionel Richie ⭐ Eurythmics ⭐ Depeche Mode ⭐ Aerosmith ⭐ U2 ⭐ The Cure ⭐ Van Halen ⭐ Hall & Oates ⭐ AC/DC ⭐ The Smiths ⭐ New Order ⭐ Fleetwood Mac ⭐ The Bangles ⭐ Rick Astley ⭐ Spandau Ballet ⭐ Roxette ⭐ Simple Minds ⭐ Guns N’ Roses ⭐ Billy Idol ⭐ Tears for Fears ⭐ Bryan Adams ⭐ A-ha \nFAQ’S \n🗣️ Why do the tickets come in different price tiers? \nWhilst there is no physical difference. There is only a limited amount of tickets we can sell. Therefore we operate a festival style ticketing model. The earlier you buy your ticket the cheaper it will be. \n🗣️ Do you do group discount? Stag/Hen etc \nYes\, we offer a discounted ticket price for groups of 10 or more. These tickets can be found listed as the “Big Group Package!” above\, orders for these tickets are restricted to a minimum of 10. \n🗣️ Will there be more tickets available if the event is sold out? \nOnce this event is sold out\, there will not be any additional tickets released. In addiction to this we will be unable to sell them at the door due to maximum capacity and health and safety regulations. \n🗣️ Is the venue accessible? \nOur events take place at a variety of locations across the UK and Ireland. As each varies please ensure to check the specific venue’s website for accessibility information. \n🗣️ Can I resell my tickets? \nYes\, if you are unable to attend an event you are welcome to sell your tickets on. We do not use names on tickets as a condition for entry. \n🗣️ Are your events 18+? \nAll of our events are strictly 18+. A valid photographic ID may be requested on entry. \n🗣️ I have more questions? \nIf you have additional questions and wish to contact us directly\, don’t hesitate to drop us a DM on either Facebook (Daytime Disco) or Instagram (@daytimediscoevents) \nRefund Policy:In-line with normal consumer standards for ticket purchases\, tickets for Daytime Disco events are non-refundable\, on the condition that we not moved the event or canceled it. If you are no longer be able to attend the event\, you are of course welcome to gift or sell your tickets onwards as we do not use names on the tickets as a condition of entry.
URL:https://keepcolchestercool.co.uk/event/80s-day-disco-colchester-%f0%9f%aa%a9/
LOCATION:Trilogy Colchester\, Trilogy Colchester
END:VEVENT
BEGIN:VEVENT
DTSTART;TZID=Europe/London:20251213T160000
DTEND;TZID=Europe/London:20251213T190000
DTSTAMP:20260424T112954
CREATED:20251202T071046Z
LAST-MODIFIED:20251213T070957Z
UID:127361-1765641600-1765652400@keepcolchestercool.co.uk
SUMMARY:December Branch Meeting
DESCRIPTION:Branch meeting at 4pm\, before the Branch Christmas Social!
URL:https://keepcolchestercool.co.uk/event/december-branch-meeting/
LOCATION:The British Grenadier\, The British Grenadier
ORGANIZER;CN="Colchester and North East Essex CAMRA":MAILTO:noreply@facebookmail_com
END:VEVENT
BEGIN:VEVENT
DTSTART;TZID=Europe/London:20251213T160000
DTEND;TZID=Europe/London:20251213T200000
DTSTAMP:20260424T112954
CREATED:20251025T071045Z
LAST-MODIFIED:20251213T070957Z
UID:126798-1765641600-1765656000@keepcolchestercool.co.uk
SUMMARY:Colchester Christmas Evening Market
DESCRIPTION:Our Christmas Evening Market is looking very special! On the evening of December 13th we’ll be filling The Piazza outside The Mercury Theatre with a wonderful mix of crafts\, food\, drinks and Street Food stalls. \nWe’ll have delicious wood fired pizza\, freshly cooked Indian Street Food\, fresh Sushi and delicious Churros plus a wonderful selection of stalls will be selling a range of local artisan food\, drink and crafts and The Mercury Theatre have organised a programme of carol singers throughout the evening. \nCome and sing your heart out\, enjoy a glass of Mulled Wine\, Coffee Cocktails and some scrummy Street Food and get into the Festive mood under the lights of Jumbo! \nEntry is totally free of charge. Parking is available at St Mary’s.
URL:https://keepcolchestercool.co.uk/event/colchester-christmas-evening-market/
LOCATION:Mercury Theatre Colchester\, Mercury Theatre Colchester
ORGANIZER;CN="Suffolk Market Events":MAILTO:noreply@facebookmail_com
END:VEVENT
BEGIN:VEVENT
DTSTART;TZID=Europe/London:20251213T193000
DTEND;TZID=Europe/London:20251213T223000
DTSTAMP:20260424T112954
CREATED:20250527T071040Z
LAST-MODIFIED:20251213T070957Z
UID:124748-1765654200-1765665000@keepcolchestercool.co.uk
SUMMARY:ABBA Reunion // Colchester Arts Centre
DESCRIPTION:The ABBA REUNION tribute Show is the creation of an Award Winning West End Director\, Producer and Choreographer \nStarring the original ‘Frida’ from the London West End cast! \nABBA REUNION gives Abba fans\, old and new\, the opportunity to once again get together and re-live the addictive Abba phenomena that swept the airwaves and discos during the 70’s and 80’s in a truly authentic\, feel good\, party style tribute concert. From Mamma Mia to Dancing Queen\, all of the greatest hits are performed with unrivalled authenticity from both an audio and visual perspective with an amazing jaw dropping finale recreation taking you back to where it all began in 1974! \nSuperbly accurate vocals\, harmonies\, guitar\, keyboards plus back line musicians combined with stunning iconic replica costumes \,choreography and set produce the most authentic and requested Abba tribute show in the world today. \nThis concert continues to entertain and enthral throughout the globe and leaves you with just one question… “DID WE JUST WITNESS THE REAL ABBA REUNION?”
URL:https://keepcolchestercool.co.uk/event/abba-reunion-colchester-arts-centre/
LOCATION:Colchester Arts Centre\, Colchester Arts Centre
ORGANIZER;CN="The Gig Cartel":MAILTO:noreply@facebookmail.com
END:VEVENT
BEGIN:VEVENT
DTSTART;TZID=Europe/London:20251213T193000
DTEND;TZID=Europe/London:20251213T223000
DTSTAMP:20260424T112954
CREATED:20251125T071019Z
LAST-MODIFIED:20251209T071004Z
UID:127303-1765654200-1765665000@keepcolchestercool.co.uk
SUMMARY:Abba Reunion
DESCRIPTION:All Tickets £26.50.Doors open 7.30pm\, starts 8pm.This gig is for a standing audience. \nThe ABBA REUNION tribute Show is the creation of an Award Winning West End Director\, Producer and Choreographer. \nStarring the original ‘Frida’ from the London West End cast! \nABBA REUNION gives Abba fans\, old and new\, the opportunity to once again get together and re-live the addictive Abba phenomena that swept the airwaves and discos during the 70’s and 80’s in a truly authentic\, feel good\, party style tribute concert. From Mamma Mia to Dancing Queen\, all of the greatest hits are performed with unrivalled authenticity from both an audio and visual perspective with an amazing jaw dropping finale recreation taking you back to where it all began in 1974! \nSuperbly accurate vocals\, harmonies\, guitar\, keyboards plus back line musicians combined with stunning iconic replica costumes \,choreography and set produce the most authentic and requested Abba tribute show in the world today. \nThis concert continues to entertain and enthral throughout the globe and leaves you with just one question… \n“DID WE JUST WITNESS THE REAL ABBA REUNION?” \nFor a sneak peak please check out the link below:https://www.youtube.com/watch?v=yUSiR-ATXkI
URL:https://keepcolchestercool.co.uk/event/abba-reunion/
LOCATION:Church St\, CO1 1NF Colchester\, United Kingdom
ORGANIZER;CN="Colchester Arts Centre":MAILTO:noreply@facebookmail_com
END:VEVENT
BEGIN:VEVENT
DTSTART;TZID=Europe/London:20251213T200000
DTEND;TZID=Europe/London:20251213T214500
DTSTAMP:20260424T112954
CREATED:20251202T071047Z
LAST-MODIFIED:20251213T070958Z
UID:127363-1765656000-1765662300@keepcolchestercool.co.uk
SUMMARY:A CHRISTMAS CAROL
DESCRIPTION:A CHRISTMAS CAROLSaturday 13 December 8pm William Loveless HallMoving Image is very pleased to be bringing to Wivenhoe\, for the third time\, a theatrical event produced by and starring the Director of the Colchester Arts Centre\, Anthony Roberts – his solo traditional reading of A Christmas Carol\, the masterpiece by Charles Dickens\, with musical accompaniment from Jamie Cunliffe. It’s guaranteed to get you in the Christmas spirit.This is a fund-raising event for Moving Image’s equipment so please support us. Everyone speaks highly of Anthony’s performance so you will have a great time and help us as well. Free mince pies in the interval!Tickets in advance from the Wivenhoe Bookshop\, cash only\, or on the door\, card only. Tickets £10 for adults\, £5 for school age children. The show is recommended for children age 11+.
URL:https://keepcolchestercool.co.uk/event/a-christmas-carol-2/
LOCATION:William Loveless Hall\, 85-87 High St\, Colchester\, CO7 9AB\, GB
END:VEVENT
BEGIN:VEVENT
DTSTART;TZID=Europe/London:20251213T210000
DTEND;TZID=Europe/London:20251213T234500
DTSTAMP:20260424T112954
CREATED:20251008T071057Z
LAST-MODIFIED:20251213T070958Z
UID:126444-1765659600-1765669500@keepcolchestercool.co.uk
SUMMARY:Christmas party at Coda
DESCRIPTION:The Iron Boot Scrapers rip it up with our inimitable covers of well know songs that will get you dancing and singing along!Free entry
URL:https://keepcolchestercool.co.uk/event/christmas-party-at-coda/
LOCATION:Coda Colchester\, Coda Colchester
ORGANIZER;CN="The Iron Boot Scrapers":MAILTO:noreply@facebookmail_com
END:VEVENT
BEGIN:VEVENT
DTSTART;TZID=Europe/London:20251213T210000
DTEND;TZID=Europe/London:20251214T030000
DTSTAMP:20260424T112954
CREATED:20251111T071051Z
LAST-MODIFIED:20251214T071011Z
UID:127209-1765659600-1765681200@keepcolchestercool.co.uk
SUMMARY:Christmas Glitter Ball 🪩 2025
DESCRIPTION:✨ RUBIX GLITTER BALL 2025!  \nIt’s time to dress to impress for our annual Christmas Glitter Ball! 💃🕺Expect a dazzling night of Christmas pop & party classics over 2 floors\, with: \n💄 Glitter Station🎁 Giveaways & Drinks Deals🍬 Festive Sweet Shop🍸 Christmas Cocktails \nShine bright\, dance all night – it’s the most glamorous night of the year! 🌟 \n📍 Rubix – it wouldn’t feel like Christmas without us!
URL:https://keepcolchestercool.co.uk/event/christmas-glitter-ball-%f0%9f%aa%a9-2025/
LOCATION:Rubix Bar\, Rubix Bar
ORGANIZER;CN="Rubix Bar":MAILTO:noreply@facebookmail_com
END:VEVENT
END:VCALENDAR