BEGIN:VCALENDAR
VERSION:2.0
PRODID:-//Keep Colchester Cool - ECPv6.15.20//NONSGML v1.0//EN
CALSCALE:GREGORIAN
METHOD:PUBLISH
X-ORIGINAL-URL:https://keepcolchestercool.co.uk
X-WR-CALDESC:Events for Keep Colchester Cool
REFRESH-INTERVAL;VALUE=DURATION:PT1H
X-Robots-Tag:noindex
X-PUBLISHED-TTL:PT1H
BEGIN:VTIMEZONE
TZID:Europe/London
BEGIN:DAYLIGHT
TZOFFSETFROM:+0000
TZOFFSETTO:+0100
TZNAME:BST
DTSTART:20240331T010000
END:DAYLIGHT
BEGIN:STANDARD
TZOFFSETFROM:+0100
TZOFFSETTO:+0000
TZNAME:GMT
DTSTART:20241027T010000
END:STANDARD
BEGIN:DAYLIGHT
TZOFFSETFROM:+0000
TZOFFSETTO:+0100
TZNAME:BST
DTSTART:20250330T010000
END:DAYLIGHT
BEGIN:STANDARD
TZOFFSETFROM:+0100
TZOFFSETTO:+0000
TZNAME:GMT
DTSTART:20251026T010000
END:STANDARD
BEGIN:DAYLIGHT
TZOFFSETFROM:+0000
TZOFFSETTO:+0100
TZNAME:BST
DTSTART:20260329T010000
END:DAYLIGHT
BEGIN:STANDARD
TZOFFSETFROM:+0100
TZOFFSETTO:+0000
TZNAME:GMT
DTSTART:20261025T010000
END:STANDARD
BEGIN:DAYLIGHT
TZOFFSETFROM:+0000
TZOFFSETTO:+0100
TZNAME:BST
DTSTART:20270328T010000
END:DAYLIGHT
BEGIN:STANDARD
TZOFFSETFROM:+0100
TZOFFSETTO:+0000
TZNAME:GMT
DTSTART:20271031T010000
END:STANDARD
END:VTIMEZONE
BEGIN:VEVENT
DTSTART;TZID=Europe/London:20251231T123000
DTEND;TZID=Europe/London:20251231T170000
DTSTAMP:20260424T091905
CREATED:20251030T071059Z
LAST-MODIFIED:20251231T071018Z
UID:127025-1767184200-1767200400@keepcolchestercool.co.uk
SUMMARY:Raver Tots New Years Eve Party Colchester
DESCRIPTION:Raver Tots is coming to Colchester for a huge New Years Eve day party! \nBOOK NOW – https://www.fatsoma.com/e/dlvaymvs/la/uyhc \nRaver Tots is the Ultimate Family Dance Party Suitable for ALL AGES! \nGet the kids active at the UK’s number one award winning\, family friendly rave event\, playing the best in House\, Garage\, Drum and Bass and Old Skool Club Classics! \nWhat to Expect: \n– The UK’s biggest names in dance music \n– Huge production show \n– Full decor and theming \n– Dancers and performers \n– Special effects show \n– Lasers and light show \n– Licensed bar \n– Face painting \nRemember\, all ages are welcome – your kids are never too young or too old! We have children of all ages attending. It’s all about spending time with your family\, hearing the best dance music of all time\, and making memories with the people you love. \nAll events sell out in advance\, so please book early to avoid disappointment. NO TICKETS ON THE DOOR! \nTERMS AND INFO: \n• Babies under 18 months are free of charge and do not require a ticket. All other children require a kids ticket. \n• Buggies should not be taken onto the dance floor in case of tripping. They will need to be parked in the buggy park area which is sometimes situated outside\, slings or baby carriers are recommended. \n• All children under 12 require kids tickets\, children 12 and over require adult tickets. \n• Strictly no adults admitted without a child (maximum of 4 adults to 1 child). \n• Please note parents remain responsible for children at all times. Children must remain under adult supervision and we kindly request no running. \n• Tickets are non-refundable and can only be re-sold through our trusted partners at Tixel \n• Music is kept at safe levels at all times in line with our risk assessment guidelines. Please note it is still loud so bring ear defenders if you wish. \n• Expect full club lighting in a festival style environment. \n• By attending you give permission for Raver Tots to take photos and videos of the event for the use of press. If you see a photo you wish to have these taken down please contact us via our Facebook page. \n• No external food or drink is permitted on site \n• PLEASE NOTE THIS IS AN INDOOR EVENT. \n• Venues vary considerably in shape and size so may differ slightly from video footage dependant on the space available \n• Allergy advice\, we use latex balloons in the production \n• Strobe lighting may be used in the venue
URL:https://keepcolchestercool.co.uk/event/raver-tots-new-years-eve-party-colchester/
LOCATION:Trilogy Colchester\, Trilogy Colchester
END:VEVENT
BEGIN:VEVENT
DTSTART;TZID=Europe/London:20251231T190000
DTEND;TZID=Europe/London:20251231T220000
DTSTAMP:20260424T091905
CREATED:20251210T071015Z
LAST-MODIFIED:20251231T071018Z
UID:127499-1767207600-1767218400@keepcolchestercool.co.uk
SUMMARY:SHED PRESENTS 2026! (Top Floor)
DESCRIPTION:Shed Presents 2026 – New Year Party at Three Wise Monkeys\, Colchester \nTWM Live Music presents Shed Presents 2026! A special New Year’s Eve party at Three Wise Monkeys\, Colchester. Ring in the new year with an incredible night of live music\, great vibes\, and celebration as we welcome 2026 in style. \nPlaying with us we have: GREEBOGHOST WEEK thisissophies.  \nDate: Wednesday\, 31 December 2025 \nVenue: Three Wise Monkeys\, Colchester \nTickets: £10 \nDoors: 7:30pm \nAges: 18+ \nPlease note that access to the top floor of Three Wise Monkeys does not have a lift\, but there are rest opportunities between each flight of stairs. \nViewer discretion is advised: This event may potentially contain flashing and strobing lighting effects. \nRefund policy: We are unable to process any ticket refunds within 7 days of the event.
URL:https://keepcolchestercool.co.uk/event/shed-presents-2026/
LOCATION:60 High Street\, CO1 1DN Colchester\, United Kingdom\, 60 High Street\, CO1 1DN Colchester\, United Kingdom
ORGANIZER;CN="Three Wise Monkeys Colchester":MAILTO:noreply@facebookmail_com
END:VEVENT
BEGIN:VEVENT
DTSTART;TZID=Europe/London:20251231T200000
DTEND;TZID=Europe/London:20251231T230000
DTSTAMP:20260424T091905
CREATED:20251025T071047Z
LAST-MODIFIED:20251231T071018Z
UID:126803-1767211200-1767222000@keepcolchestercool.co.uk
SUMMARY:🎉 Live New Year’s Eve – Words & Music! 🎶
DESCRIPTION:🎉 Live New Year’s Eve – Words & Music! 🎶Bring in the New Year with an unforgettable night of live entertainment\, and delicious buffet  📅 New Year’s Eve🎟️ Tickets: £10 each – Buffet included\, available November 1st
URL:https://keepcolchestercool.co.uk/event/%f0%9f%8e%89-live-new-years-eve-words-music-%f0%9f%8e%b6/
LOCATION:Kings Arms\, Frating\, Essex\, Kings Arms\, Frating\, Essex
ORGANIZER;CN="Kings Arms%2C Frating%2C Essex":MAILTO:noreply@facebookmail.com
END:VEVENT
BEGIN:VEVENT
DTSTART;TZID=Europe/London:20251231T200000
DTEND;TZID=Europe/London:20251231T230000
DTSTAMP:20260424T091905
CREATED:20251210T071015Z
LAST-MODIFIED:20251231T071018Z
UID:127500-1767211200-1767222000@keepcolchestercool.co.uk
SUMMARY:The Laughter Zone New Year's Eve Special + After Show Club Night with DJ Sam Leppard *
DESCRIPTION:Tickets £25 (includes free entry to after show club night).Doors open 8pm\, show starts 8.30pm.Club entry from 11pm\, Club night finishes 1.30am. \nJoin us for a night of stand up comedy & disco! \nJust like our regular monthly night of stand up talent – a great atmosphere\, great comedy and a well stocked bar – and this time the chance to dance the night away to alternative 80s\, 90s and beyond sounds courtesy of local DJ SAM LEPPARD. \nElliot Steel\, despite being in his twenties\, is a veteran of the British comedy circuit. Starting at sixteen\, he has wowed audiences and impressed critics. Having multiple viral clips\, Steel is becoming a voice for those in their mid-twenties with his dark but intelligent style. Marked as one-to-watch by The Independent\, Elliot Steel is a rising talent on the UK’s comedy circuit. \nJenny Collier is a multi-award winning stand up comedian\, writer and actor. An established regular on the international club and festival circuit\, Jenny has supported Jason Manford\, John Bishop\, Arthur Smith\, and Shaparak Khorsandi on their UK tours.  ★★★★★ ‘An Excellent comedic work’ – Edfest Mag ★★★★ ‘Refreshingly original…Excellent’ – Broadway Baby  \nTom Toal is a comedian\, writer and actor\, hailing from Bexleyheath. One of comedy’s rising stars\, he has supported Rob Brydon on someof Rob’s UK tour. One of Tom’s major strengths is his ability to adapt to his audience\, he has hosted a range of events from Post Rock Bands album launch to benefit nights for the Socialist Workers Party.
URL:https://keepcolchestercool.co.uk/event/the-laughter-zone-new-years-eve-special-after-show-club-night-with-dj-sam-leppard-2/
LOCATION:Church St\, CO1 1NF Colchester\, United Kingdom
ORGANIZER;CN="Colchester Arts Centre":MAILTO:noreply@facebookmail_com
END:VEVENT
BEGIN:VEVENT
DTSTART;TZID=Europe/London:20251231T200000
DTEND;TZID=Europe/London:20260101T030000
DTSTAMP:20260424T091905
CREATED:20251111T071054Z
LAST-MODIFIED:20260101T071002Z
UID:127212-1767211200-1767236400@keepcolchestercool.co.uk
SUMMARY:Party into 2026 🎉
DESCRIPTION:🎉 Rubix Bar & Nightclub – New Year’s Eve Party! 🎉📅 Tuesday 31st December🕗 8PM – 3AM🎟️ Tickets just £4 in advance / £10 on the night \nGet ready to party into 2026 at Colchester’s No.1 party venue!Join us for the ultimate New Year’s Eve celebration packed with the biggest pop\, party & dance classics of all time — from floor-fillers to guilty pleasures that will keep you dancing right through the midnight countdown! \nExpect:✨ A massive party atmosphere🍹 Festive cocktails & drinks deals🎊 Confetti\, party hats & poppers🕛 Big Ben countdown (Rubix-style!)💃 The best crowd in town! \nGrab your £4 tickets early and let’s make it a night to remember — it’s time to celebrate the start of 2026 in true Rubix style! \nIf you would like VIP please email us direct with your requirements:- Info@rubix-nightclub.com
URL:https://keepcolchestercool.co.uk/event/party-into-2026-%f0%9f%8e%89/
LOCATION:Rubix Bar\, Rubix Bar
ORGANIZER;CN="Rubix Bar":MAILTO:noreply@facebookmail_com
END:VEVENT
BEGIN:VEVENT
DTSTART;TZID=Europe/London:20251231T210000
DTEND;TZID=Europe/London:20260101T000000
DTSTAMP:20260424T091905
CREATED:20251202T071054Z
LAST-MODIFIED:20260101T071001Z
UID:127386-1767214800-1767225600@keepcolchestercool.co.uk
SUMMARY:Twisters 27 CLUB - New Years Eve Party
DESCRIPTION:After 27 unforgettable years in Colchester\, Twisters Bar will close its doors for the final time on New Year’s Eve 2025 — officially joining the 27 Club. \nThis is an announcement we never imagined making\, but one that feels right as we bring this incredible chapter to a close. \nWhen we opened back in 1998\, the idea was simple: good music\, good drinks\, and a place people could truly call home. Over the years\, Twisters became more than just a bar — it became a meeting place\, a memory-maker\, and a constant for so many of us. \nSo there’s no better way to say goodbye than the way we’ve always done it. \nJoin DJ Rom Atkin for one last New Year’s Eve filled with Classic Music\, Classic Drinks\, and the Classic Crowd — because that’s what makes a Twisters NYE. \nThis is the night we always see familiar faces\, old friends\, and shared stories\, and we can’t wait to welcome you back to celebrate\, reminisce\, and raise a glass with us as we see in the New Year together. \nOne last dance. One last drink. One last countdown. \nThank you for 27 years.Let’s make the final night unforgettable. 🖤🍾
URL:https://keepcolchestercool.co.uk/event/twister-new-years-eve-party/
LOCATION:Twisters Bar\, 45 North Hill\, Colchester\, CO1 1PY\, GB
ORGANIZER;CN="Twisters Bar":MAILTO:noreply@facebookmail_com
END:VEVENT
END:VCALENDAR