BEGIN:VCALENDAR
VERSION:2.0
PRODID:-//Keep Colchester Cool - ECPv6.15.20//NONSGML v1.0//EN
CALSCALE:GREGORIAN
METHOD:PUBLISH
X-WR-CALNAME:Keep Colchester Cool
X-ORIGINAL-URL:https://keepcolchestercool.co.uk
X-WR-CALDESC:Events for Keep Colchester Cool
REFRESH-INTERVAL;VALUE=DURATION:PT1H
X-Robots-Tag:noindex
X-PUBLISHED-TTL:PT1H
BEGIN:VTIMEZONE
TZID:Europe/London
BEGIN:DAYLIGHT
TZOFFSETFROM:+0000
TZOFFSETTO:+0100
TZNAME:BST
DTSTART:20250330T010000
END:DAYLIGHT
BEGIN:STANDARD
TZOFFSETFROM:+0100
TZOFFSETTO:+0000
TZNAME:GMT
DTSTART:20251026T010000
END:STANDARD
BEGIN:DAYLIGHT
TZOFFSETFROM:+0000
TZOFFSETTO:+0100
TZNAME:BST
DTSTART:20260329T010000
END:DAYLIGHT
BEGIN:STANDARD
TZOFFSETFROM:+0100
TZOFFSETTO:+0000
TZNAME:GMT
DTSTART:20261025T010000
END:STANDARD
BEGIN:DAYLIGHT
TZOFFSETFROM:+0000
TZOFFSETTO:+0100
TZNAME:BST
DTSTART:20270328T010000
END:DAYLIGHT
BEGIN:STANDARD
TZOFFSETFROM:+0100
TZOFFSETTO:+0000
TZNAME:GMT
DTSTART:20271031T010000
END:STANDARD
END:VTIMEZONE
BEGIN:VEVENT
DTSTART;TZID=Europe/London:20260115T100000
DTEND;TZID=Europe/London:20260118T150000
DTSTAMP:20260424T091021
CREATED:20260105T071012Z
LAST-MODIFIED:20260118T070956Z
UID:127586-1768471200-1768748400@keepcolchestercool.co.uk
SUMMARY:CAS Plein Air Exhibition 2026
DESCRIPTION:🌿 PLEIN AIR EXHIBITION 🌿 \nColchester\, observed in the open air.Nature\, landscape and the environment that surrounds us. \nColchester Art Society is pleased to present the Plein Air Exhibition\, a curated showcase of works created in response to Colchester and its surrounding areas. Featuring paintings\, drawings and works in other media\, the exhibition explores place through direct observation\, light and atmosphere. \nFrom expansive rural views to quieter urban moments\, the exhibition brings together a range of perspectives rooted in lived experience and the practice of working outdoors. \nOrganised by myself and proudly sponsored by Colchester Art Society\, this exhibition offers visitors the opportunity to engage with contemporary plein air practice and the diverse ways artists respond to their environment. \n🎨 Exhibiting artists: Members of Colchester Art Society📍 Inspired by Colchester & surrounding areas🖼️ Paintings\, drawings and mixed media \nVisitors are warmly invited to attend the Meet the Artists event on 15th January\, 12–3 pm\, and to enjoy the exhibition throughout its run. 🎨✨
URL:https://keepcolchestercool.co.uk/event/cas-plein-air-exhibition-2026/
LOCATION:The Minories\, The Minories
END:VEVENT
BEGIN:VEVENT
DTSTART;TZID=Europe/London:20260118T103000
DTEND;TZID=Europe/London:20260118T163000
DTSTAMP:20260424T091021
CREATED:20260105T071013Z
LAST-MODIFIED:20260118T070956Z
UID:127596-1768732200-1768753800@keepcolchestercool.co.uk
SUMMARY:Colchester Mega Fun Day - Sun 18th Jan
DESCRIPTION:🎉 MEGA FUN DAY – COLCHESTER! 🎉1 DAY OF FUN FOR THE WHOLE FAMILY! \nDATES & TIMES 📅 Sunday 18th January 2026⏰ Session Times:• 10:30 – 12:00• 12:30 – 2:00• 2:30 – 4:00 \n🎟 Early Bird Child Wristbands – £8.99!Limited availability! \nMAIN ATTRACTIONS 🏰 Giant Bouncy Castles🌴 Huge Slides🎢 Fun Runs & Assault Courses🎮 Activity Units🍭 Games & Competitions \nPLUS… LIVE Children’s Entertainer!🪄 Magic🕺 Mini Disco🎁 Prizes & Fun Games \nWHO IT’S FOR?👧 Kids aged 2–11👨‍👩‍👧 Perfect for the whole family!All activities included in your ticket! \nGET TICKETS NOW! \nBounce\, slide\, race\, and laugh your way through an unforgettable day of MEGA FUN! \n⚠️ Parents must supervise children at all times. Mega Inflatables Ltd accepts no responsibility for any injuries.
URL:https://keepcolchestercool.co.uk/event/colchester-mega-fun-day-sun-18th-jan/
LOCATION:Charter Hall\, Charter Hall
ORGANIZER;CN="Mega Inflatables":MAILTO:noreply@facebookmail_com
END:VEVENT
BEGIN:VEVENT
DTSTART;TZID=Europe/London:20260118T140000
DTEND;TZID=Europe/London:20260118T153000
DTSTAMP:20260424T091021
CREATED:20260105T071013Z
LAST-MODIFIED:20260118T070956Z
UID:127597-1768744800-1768750200@keepcolchestercool.co.uk
SUMMARY:Somatic Inquiry Workshop
DESCRIPTION:Bodywork\, Mindfulness & Breathwork with Somatics – Soul-Food for the Whole SelfHow are you\, really?How has your emotional and mental wellbeing been lately?Have you checked in with your body\, mind\, and heart recently\, to feel what’s truly going on beneath the surface?If you’ve been feeling stuck\, overwhelmed\, low on energy or simply in need of deep self-care\, this monthly class is for you.✨ This is a guided inward journey to reconnect\, reset and restore.We’ll explore:🌀 Bodywork – using somatic movement and energy release practices to help you move through and let go of stuck or suppressed emotions and energetic blockages. Gentle and intuitive\, this isn’t exercise\, it’s a conversation with your body.🌀 Breathwork – intentionally crafted to support the vagus nerve\, calming the nervous system and creating more space for emotional regulation and inner safety.🌀 Mindfulness – cultivating stillness and self-awareness\, holding space for all parts of you to be felt and witnessed with compassion.This is a trauma-sensitive practice space\, where nothing is forced and everything is an invitation.With my background in nursing and a degree in health\, I bring together the wisdom of science with the depth of somatic\, spiritual practice to support healing on a mental\, emotional\, physical and energetic level.🌀 Suitable for all – no experience needed🌀 A gentle yet transformative space to return to your self🌀 The Tree Room🌀 Monthly offering – booking now open🔗 Book here: https://dharmabelle.co.uk/somatic-enquiry-workshops/  \nhttps://www.facebook.com/events/1242704611058220/?event_time_id=1242704624391552
URL:https://keepcolchestercool.co.uk/event/somatic-inquiry-workshop/
LOCATION:The Tree Room\, Trinity Street\, Colchester\, United Kingdom\, The Tree Room\, Trinity Street\, Colchester\, United Kingdom
ORGANIZER;CN="Dharmabelle":MAILTO:noreply@facebookmail_com
END:VEVENT
BEGIN:VEVENT
DTSTART;TZID=Europe/London:20260118T140000
DTEND;TZID=Europe/London:20260118T170000
DTSTAMP:20260424T091021
CREATED:20260105T071014Z
LAST-MODIFIED:20260118T070957Z
UID:127598-1768744800-1768755600@keepcolchestercool.co.uk
SUMMARY:Keep Colchester Cool Theatre Awards 2025
DESCRIPTION:It’s that time of year again as The Keep Colchester Cool Theatre Awards return to celebrate the very best of local theatre. Formerly known as The Paulies until 2024\, the awards continue their tradition of championing community talent – now under the Keep Colchester Cool banner. \nThis year also marks a few changes. Keep Colchester Cool Theatre Editor Paul T. Davies is joined by fellow reviewer Tim Young\, who has helped broaden the number of productions seen and considered. \nFor the first time ever\, the awards will be celebrated live and in person\, bringing nominees\, performers\, theatre-makers and supporters together at the Headgate Theatre for a shared community celebration. ceremony will run from 2pm to 5pm on Sunday\, 18th January 2026. \nThe move to a live event marks an exciting moment for the awards\, offering everyone the chance to come together and celebrate the incredible talent in Colchester’s theatre scene. \nJoin us for the CelebrationThis first-ever live ceremony promises to be a brilliant afternoon honouring the talent\, creativity and dedication of Colchester’s theatre community. we’d love you to join us at the Headgate Theatre to celebrate together. \nTickets are £5 plus £1.50 booking fee. \nDress Code: Smart Casual.
URL:https://keepcolchestercool.co.uk/event/keep-colchester-cool-theatre-awards-2025/
LOCATION:Headgate Theatre\, Headgate Theatre
ORGANIZER;CN="Keep Colchester Cool":MAILTO:noreply@facebookmail.com
END:VEVENT
BEGIN:VEVENT
DTSTART;TZID=Europe/London:20260118T140000
DTEND;TZID=Europe/London:20260118T170000
DTSTAMP:20260424T091021
CREATED:20260115T071045Z
LAST-MODIFIED:20260118T070957Z
UID:127858-1768744800-1768755600@keepcolchestercool.co.uk
SUMMARY:Bassistry
DESCRIPTION:Tickets £20.Doors open 7pm\, starts 7.30pm.This gig is for a seated audience. \nBassistry is a dynamic vocal-led Nu Jazz band\, that Blues & Soul Magazine’s\, 5-star review\, described as “ a mix of funk grooves with Latin Rhythms and pulsating electronic\, and beautiful contemporary soundscapes.’ \nBassistry’s music is recognized for crossing genres. The band features some of London’s finest musicians\, who have toured and recorded with artists as diverse as Paloma Faith\, Craig David\, Cat Stevens (Yusuf Islam) Plan B\, Tom Jones and Grace Jones. \n“Jamiroquai-influenced funk” ‘slight Massive Attack territory’\, the vibes of the Brand New Heavies\, Incognito and all sorts” ‘Amy Winehouse feel’ are all magazine quotes used to pinpoint Bassistry’s music. \nBassistry will play tracks from albums\, Short Stories\, What The Hell Do You Call This? And In Time produced with Ivor Award Winning producer Cassell the Beatmaker\, as well as\, In Time and EP Try This. \nThe albums combines Soul\, African\, Jazz\, Reggae\, funk and electronica. The songs tell different stories about the human condition\, and reflecting on the sign of the times. \nBassistry are a superb live experience that will take you through a wide range of emotions. \nhttps://www.bassistry.com https://bassistry.bandcamp.com/album/short-stories https://music.apple.com/gb/artist/bassistry/286745696
URL:https://keepcolchestercool.co.uk/event/bassistry/
LOCATION:Church St\, CO1 1NF Colchester\, United Kingdom
ORGANIZER;CN="Colchester Arts Centre":MAILTO:noreply@facebookmail_com
END:VEVENT
BEGIN:VEVENT
DTSTART;TZID=Europe/London:20260118T161500
DTEND;TZID=Europe/London:20260118T181500
DTSTAMP:20260424T091021
CREATED:20260105T071014Z
LAST-MODIFIED:20260118T070957Z
UID:127599-1768752900-1768760100@keepcolchestercool.co.uk
SUMMARY:Women's Sacred Drum Circle
DESCRIPTION:In our Sacred Drum Circles\, we unite in a circle\, a symbol of wholeness and unity. The drum\, one of the oldest instruments known to humanity\, guides us on a journey of self-expression and connection. Through the steady beat of the drum\, we enter a meditative and healing space where each woman is honoured and heard. \nWe hold these circles with deep reverence for the ancient wisdom passed down by our ancestors\, creating a sacred container that allows for growth\, empowerment\, and healing.At the heart of our drum circles is the powerful energy of sisterhood. In this space\, we are committed to uplifting\, supporting\, and empowering one another. Through laughter\, shared experiences\, and the rhythm of the drums\, we create bonds that transcend the every day and help each woman feel seen\, valued\, and supported. \nNo previous drumming experience is needed; whether you are new to drumming or a seasoned drummer\, every woman is welcome. We drum to heal ourselves\, to empower our spirits\, and to remind one another of the strength and beauty we all carry.Please bring your own drum or musical instrument\, I will have spares if you do not own one.Love\, Claire \nSummer Dates To come – They will be held in nature! \nTime – 16.15 – 18.15Where – The Tree Room\, Trinity Street\, Colchester\, Essex.Investment£15.00 per personhttps://dharmabelle.co.uk/womens-sacred-drum-circles/  \nhttps://www.facebook.com/events/1955150208436025/?event_time_id=1955150211769358
URL:https://keepcolchestercool.co.uk/event/womens-sacred-drum-circle/
LOCATION:The Tree Room\, Trinity Street\, Colchester\, United Kingdom\, The Tree Room\, Trinity Street\, Colchester\, United Kingdom
ORGANIZER;CN="Dharmabelle":MAILTO:noreply@facebookmail_com
END:VEVENT
BEGIN:VEVENT
DTSTART;TZID=Europe/London:20260118T190000
DTEND;TZID=Europe/London:20260118T220000
DTSTAMP:20260424T091021
CREATED:20251202T071056Z
LAST-MODIFIED:20260118T070957Z
UID:127390-1768762800-1768773600@keepcolchestercool.co.uk
SUMMARY:Bassistry 'Live;
DESCRIPTION:Bassistry is a dynamic vocal-led Nu Jazz band\, that Blues & Soul Magazine’s\, 5-star review\, described as“ a mix of funk grooves with Latin Rhythms and pulsating electronic\, and beautiful contemporary soundscapes.’ play live show.
URL:https://keepcolchestercool.co.uk/event/bassistry-live/
LOCATION:Colchester Arts Centre\, Colchester Arts Centre
END:VEVENT
END:VCALENDAR