BEGIN:VCALENDAR
VERSION:2.0
PRODID:-//Keep Colchester Cool - ECPv6.15.20//NONSGML v1.0//EN
CALSCALE:GREGORIAN
METHOD:PUBLISH
X-WR-CALNAME:Keep Colchester Cool
X-ORIGINAL-URL:https://keepcolchestercool.co.uk
X-WR-CALDESC:Events for Keep Colchester Cool
REFRESH-INTERVAL;VALUE=DURATION:PT1H
X-Robots-Tag:noindex
X-PUBLISHED-TTL:PT1H
BEGIN:VTIMEZONE
TZID:Europe/London
BEGIN:DAYLIGHT
TZOFFSETFROM:+0000
TZOFFSETTO:+0100
TZNAME:BST
DTSTART:20250330T010000
END:DAYLIGHT
BEGIN:STANDARD
TZOFFSETFROM:+0100
TZOFFSETTO:+0000
TZNAME:GMT
DTSTART:20251026T010000
END:STANDARD
BEGIN:DAYLIGHT
TZOFFSETFROM:+0000
TZOFFSETTO:+0100
TZNAME:BST
DTSTART:20260329T010000
END:DAYLIGHT
BEGIN:STANDARD
TZOFFSETFROM:+0100
TZOFFSETTO:+0000
TZNAME:GMT
DTSTART:20261025T010000
END:STANDARD
BEGIN:DAYLIGHT
TZOFFSETFROM:+0000
TZOFFSETTO:+0100
TZNAME:BST
DTSTART:20270328T010000
END:DAYLIGHT
BEGIN:STANDARD
TZOFFSETFROM:+0100
TZOFFSETTO:+0000
TZNAME:GMT
DTSTART:20271031T010000
END:STANDARD
END:VTIMEZONE
BEGIN:VEVENT
DTSTART;TZID=Europe/London:20260120T193000
DTEND;TZID=Europe/London:20260121T220000
DTSTAMP:20260424T092256
CREATED:20251008T071100Z
LAST-MODIFIED:20260121T071021Z
UID:126457-1768937400-1769032800@keepcolchestercool.co.uk
SUMMARY:The Good\, The Bad and The Ugly - A Life in Weddings\, Its Development\, Picture and Stories
DESCRIPTION:Talk by Tony Bramley FRPS. \nTonight Tony looks back at his career in Wedding Photography and how it happened\, where it went and how it ended. Sprinkled with photo tips\, styles and a few stories that sum up the good\, the bad and the ugly of this rewarding profession.  \n(Visitors £5.00) lightacademy.co.uk
URL:https://keepcolchestercool.co.uk/event/the-good-the-bad-and-the-ugly-a-life-in-weddings-its-development-picture-and-stories/
LOCATION:Ireton Road\, CO3 3AT Colchester\, United Kingdom\, Ireton Road\, CO3 3AT Colchester\, United Kingdom
ORGANIZER;CN="Colchester Photographic Society":MAILTO:noreply@facebookmail_com
END:VEVENT
BEGIN:VEVENT
DTSTART;TZID=Europe/London:20260121T184500
DTEND;TZID=Europe/London:20260121T230000
DTSTAMP:20260424T092256
CREATED:20260105T071014Z
LAST-MODIFIED:20260121T071021Z
UID:127600-1769021100-1769036400@keepcolchestercool.co.uk
SUMMARY:Magic The Gathering Lorwyn Eclipsed Pre-Release Event
DESCRIPTION:Whether you’re taking your first steps into Magic\, finishing up your Standard deck\, or diving deep into Modern\, Commander\, and more—Magic: The Gathering Lorwyn Eclipsed has some great cards to add. \nLorwyn Eclipsed Prerelease is coming and we will be running 3 pre-release events for this set new core set in the magic timeline.What you get6 Lorwyn Eclipsed Play Boosters which contain 14 Magic cards1 foil\, year-stamped Rare or Mythic Rare1 deck box1 Spindown die \nAim of the day is to build a Minimum of a 40 card deck with the boosters you get and compete in swiss rounds to find a winner (Land boxes are provided so all you need to bring is you).For this event there will only be a booster put into the prize pot for each player. (the extra per player is a while stocks last and promotional pre-release boosters are already out sorry) \nStart time: 6:45pmCost £32.50 \nPlease note all of these events have limited spaces of 48 people\, so to avoid missing out please either click attend on this event\, come in and speak to a member of staff of call us on 01206 561912 to make sure you don’t miss out.
URL:https://keepcolchestercool.co.uk/event/magic-the-gathering-lorwyn-eclipsed-pre-release-event-3/
LOCATION:ACE Comics\, 42 Culver Street East\, Colchester\, CO1 1LE\, GB
ORGANIZER;CN="Glenn Richardson":MAILTO:noreply@facebookmail_com
END:VEVENT
BEGIN:VEVENT
DTSTART;TZID=Europe/London:20260121T190000
DTEND;TZID=Europe/London:20260121T210000
DTSTAMP:20260424T092256
CREATED:20251210T071019Z
LAST-MODIFIED:20260121T071021Z
UID:127505-1769022000-1769029200@keepcolchestercool.co.uk
SUMMARY:LATES: The Ed Poets Society
DESCRIPTION:Calling all poetry lovers! \nMaybe you like listening to poetry.Maybe you like sharing your poetry.Maybe you’ve never shared it before.Maybe you know a poet. \nIf you fall into one of the above\, then come to the Mercury Theatre. \nBring a friend or come and make new ones. \nThis is a free event\, hosted from 7-9pm in the Mercury Theatre Café Bar. \nThe host\, Ed\, is providing a safe space for people to express themselves using the power of their words. \nCome. Be moved. Be inspired. \nSign up with Ed from 7pm on the evening if you wish to read/perform.
URL:https://keepcolchestercool.co.uk/event/lates-the-ed-poets-society/
LOCATION:Mercury Theatre Colchester\, Mercury Theatre Colchester
ORGANIZER;CN="Mercury Theatre Colchester":MAILTO:noreply@facebookmail_com
END:VEVENT
BEGIN:VEVENT
DTSTART;TZID=Europe/London:20260121T190000
DTEND;TZID=Europe/London:20260121T213000
DTSTAMP:20260424T092256
CREATED:20251025T071048Z
LAST-MODIFIED:20260121T071022Z
UID:126805-1769022000-1769031000@keepcolchestercool.co.uk
SUMMARY:Camelot the Pantomime
DESCRIPTION:🎭 Wivenhoe Pantomime Group Presents: Camelot the Panto! 🏰 \n⚔️ Written & Directed by Elise Roberts \nGet ready for a magical adventure full of laughs\, music\, and mischief in this year’s Wivenhoe pantomime — Camelot the Panto! Join us for an enchanting tale set in the legendary land of Wyvenhoe\, where knights\, dragons\, and surprises await the whole family. \n📅 Show Dates:Wednesday 21st 7pmThursday 22nd 7pmFriday 23rd 7pmSaturday 24th 1pm and 6pm \n📍 Venue:William Loveless Hall\, High Street\, Wivenhoe \n🎟 Tickets on Sale: NOVEMBER 7th\, 9am! \n💷 Prices:Adults: £12Children (Under 16): £6Family Ticket (2 Adults + 2 Children): £32 \nThis is a community event full of fun for all ages – don’t miss your chance to see Wivenhoe’s favourite annual tradition come to life on stage!⭐ Save the date\, gather your family and friends\, and prepare to shout “It’s behind you!” 🎉  \nhttps://www.facebook.com/events/1867489717204120/?event_time_id=1867489723870786
URL:https://keepcolchestercool.co.uk/event/camelot-the-pantomime/
LOCATION:William Loveless Hall\, 85-87 High St\, Colchester\, CO7 9AB\, GB
END:VEVENT
BEGIN:VEVENT
DTSTART;TZID=Europe/London:20260121T190000
DTEND;TZID=Europe/London:20260121T220000
DTSTAMP:20260424T092256
CREATED:20251125T071026Z
LAST-MODIFIED:20260121T071022Z
UID:127308-1769022000-1769032800@keepcolchestercool.co.uk
SUMMARY:An Evening with Peter F Hamilton Hosted by Adam Whitehead
DESCRIPTION:We are delighted to welcome Peter F Hamilton to the store to talk about the first novel in his Arkship Trilogy. Peter has been a key figure in British Science Fiction for more than thirty years. Thanks to Adam Whitehead for agreeing to interview Peter for the event. Adam has been writing The Werzone blog for more than ten years\, in which he reviews all things Sci-fi and Fantasy. \nIn Peter’s new novel\, a colony ship has been travelling through space for 500 years in search of a fresh planet to settle. A rebellion early in the voyage has left the colonists short of resources\, so that everything\, including people\, must be Cycled once they are no longer useful. When Hazel’s brother suffers a paralyzing accident she refuses to allow him to be Cycled. She finds a hidden group\, who refuse to adhere to the ships rules\, called the Cheaters. What they tell her gives the lie to all she has been taught growing up and she joins a thrilling race to save the ship from destruction.  \nTickets must be purchased online. The doors will open at 6.45pm fo a 7pm start.
URL:https://keepcolchestercool.co.uk/event/an-evening-with-peter-f-hamilton-hosted-by-adam-whitehead/
LOCATION:12-13 High Street\, CO1 1DA Colchester\, United Kingdom\, 12-13 High Street\, CO1 1DA Colchester\, United Kingdom
ORGANIZER;CN="Waterstones Colchester High Street":MAILTO:noreply@facebookmail_com
END:VEVENT
END:VCALENDAR